BEGIN:VCALENDAR
VERSION:2.0
PRODID:-//West Columbia Gorge Chamber of Commerce - ECPv6.15.20//NONSGML v1.0//EN
CALSCALE:GREGORIAN
METHOD:PUBLISH
X-WR-CALNAME:West Columbia Gorge Chamber of Commerce
X-ORIGINAL-URL:https://westcolumbiagorgechamber.com
X-WR-CALDESC:Events for West Columbia Gorge Chamber of Commerce
REFRESH-INTERVAL;VALUE=DURATION:PT1H
X-Robots-Tag:noindex
X-PUBLISHED-TTL:PT1H
BEGIN:VTIMEZONE
TZID:America/Los_Angeles
BEGIN:DAYLIGHT
TZOFFSETFROM:-0800
TZOFFSETTO:-0700
TZNAME:PDT
DTSTART:20250309T100000
END:DAYLIGHT
BEGIN:STANDARD
TZOFFSETFROM:-0700
TZOFFSETTO:-0800
TZNAME:PST
DTSTART:20251102T090000
END:STANDARD
BEGIN:DAYLIGHT
TZOFFSETFROM:-0800
TZOFFSETTO:-0700
TZNAME:PDT
DTSTART:20260308T100000
END:DAYLIGHT
BEGIN:STANDARD
TZOFFSETFROM:-0700
TZOFFSETTO:-0800
TZNAME:PST
DTSTART:20261101T090000
END:STANDARD
BEGIN:DAYLIGHT
TZOFFSETFROM:-0800
TZOFFSETTO:-0700
TZNAME:PDT
DTSTART:20270314T100000
END:DAYLIGHT
BEGIN:STANDARD
TZOFFSETFROM:-0700
TZOFFSETTO:-0800
TZNAME:PST
DTSTART:20271107T090000
END:STANDARD
END:VTIMEZONE
BEGIN:VEVENT
DTSTART;TZID=America/Los_Angeles:20260107T113000
DTEND;TZID=America/Los_Angeles:20260107T130000
DTSTAMP:20260422T090304
CREATED:20260106T193454Z
LAST-MODIFIED:20260106T194653Z
UID:13636-1767785400-1767790800@westcolumbiagorgechamber.com
SUMMARY:Learn Over Lunch @ Ben Chumov (Edward Jones) January 7th
DESCRIPTION:January 7th @ 11:30 AM – 1:00 PM PST\n\n\n\nLet’s start 2026 off with a bang! Excited to have Ben host the first LOL to discuss market outlook and other important information regarding investing for your future. \nBen is offering to provide a lunch item from the Gresham Burrito Shop for each interested participant. Guests\, please email or call Lynnette with your food selection by 5pm Tuesday\, January 6. Lynnette.udenby@edwardjones.com\, 503-912-7114. They will provide a small selection of cold beverages\, and they always have assorted coffee and bottled water. Alternatively\, participants may brown-bag a lunch and/or beverage. \nTheir parking lot is small\, with some spaces reserved\, but there is generally plenty in the lot across the street behind Elmer’s. Traffic is one-way behind their building. Enter the building on the side facing Elmer’s\, using #7114 to unlock the door. They’re just down the hall. \nAttached is a market outlook just published on the Edward Jones website\, and here is a link. If possible bring a guest\, we look forward to seeing you there! \nAddress is as follows: \n1584 NE 8th St.\, Ste. 104\nGresham\, OR   97030
URL:https://westcolumbiagorgechamber.com/event/learn-over-lunch-ben-chumov-edward-jones-january-7th/
LOCATION:Ben Chumov – Edward Jones\, 1584 NE 8th St. Ste 104\, Gresham\, OR\, 97030\, United States
CATEGORIES:Learn Over Lunchs
ORGANIZER;CN="West Columbia Gorge Chamber of Commerce":MAILTO:info@westcolumbiagorgechamber.com
END:VEVENT
BEGIN:VEVENT
DTSTART;TZID=America/Los_Angeles:20260114T073000
DTEND;TZID=America/Los_Angeles:20260114T090000
DTSTAMP:20260422T090304
CREATED:20260107T021347Z
LAST-MODIFIED:20260107T021347Z
UID:13661-1768375800-1768381200@westcolumbiagorgechamber.com
SUMMARY:Chamber Chat at Country Pride
DESCRIPTION:Chamber Chat is a casual morning gathering where business professionals connect\, share what they do\, and learn about one another. \nThe West Columbia Gorge Chamber of Commerce invites you to join this friendly business networking event designed to build relationships and strengthen our local business community. \nWe proudly serve the cities and communities of:• Cascade Locks• Fairview• Wood Village• Troutdale• And surrounding communities \nWhether you’re new to the Chamber\, new to the area\, or simply looking to grow your network\, this is a great place to start. Guests are always welcome. \n☕ Coffee and breakfast items are available for purchase.
URL:https://westcolumbiagorgechamber.com/event/chamber-chat-at-country-pride/
LOCATION:Country Pride\, 790 NW Frontage Rd\, Troutdale\, OR\, 97060\, United States
END:VEVENT
BEGIN:VEVENT
DTSTART;TZID=America/Los_Angeles:20260121T073000
DTEND;TZID=America/Los_Angeles:20260121T090000
DTSTAMP:20260422T090304
CREATED:20260107T021038Z
LAST-MODIFIED:20260107T021038Z
UID:13659-1768980600-1768986000@westcolumbiagorgechamber.com
SUMMARY:Chamber Chat at IHOP
DESCRIPTION:Chamber Chat is a casual morning gathering where business professionals connect\, share what they do\, and learn about one another. \nThe West Columbia Gorge Chamber of Commerce invites you to join this friendly business networking event designed to build relationships and strengthen our local business community. \nWe proudly serve the cities and communities of:• Cascade Locks• Fairview• Wood Village• Troutdale• And surrounding communities \nWhether you’re new to the Chamber\, new to the area\, or simply looking to grow your network\, this is a great place to start. Guests are always welcome. \n☕ Coffee and breakfast items are available for purchase.
URL:https://westcolumbiagorgechamber.com/event/chamber-chat-at-ihop/
LOCATION:IHOP\, 22583 NE Glisan S\, Wod Vilage\, OR\, 97060\, United States
END:VEVENT
BEGIN:VEVENT
DTSTART;TZID=America/Los_Angeles:20260121T180000
DTEND;TZID=America/Los_Angeles:20260121T193000
DTSTAMP:20260422T090304
CREATED:20260113T003631Z
LAST-MODIFIED:20260113T003631Z
UID:13665-1769018400-1769023800@westcolumbiagorgechamber.com
SUMMARY:Board Meeting
DESCRIPTION:West Columbia Gorge Chamber of Commerce board meetings are open to all who would like to attend.
URL:https://westcolumbiagorgechamber.com/event/board-meeting/
LOCATION:Bateman Carroll Funeral Home\, 520 W Powell Blvd\, Gresham\, OR\, 97030
CATEGORIES:Board of Directors Meetings
END:VEVENT
BEGIN:VEVENT
DTSTART;TZID=America/Los_Angeles:20260128T173000
DTEND;TZID=America/Los_Angeles:20260128T190000
DTSTAMP:20260422T090304
CREATED:20260107T000153Z
LAST-MODIFIED:20260126T174828Z
UID:13653-1769621400-1769626800@westcolumbiagorgechamber.com
SUMMARY:Business & Social Hour (B.A.S.H.) at Flavours of India in Rockwood Market Hall
DESCRIPTION:Business & Social Hour (B.A.S.H.) is a relaxed after-hours gathering where business professionals come together to connect\, unwind\, and build relationships outside of the workday. \nThe West Columbia Gorge Chamber of Commerce invites you to join us for this casual business networking event focused on conversation\, connection\, and community. \nWe proudly serve the cities and communities of:• Cascade Locks• Fairview• Wood Village• Troutdale• And surrounding communities \nWhether you’re new to the Chamber\, new to the area\, or simply looking to expand your network\, B.A.S.H. is a great way to make connections in a laid-back setting. Guests are always welcome.
URL:https://westcolumbiagorgechamber.com/event/business-social-hour-b-a-s-h-at-flavours-of-india/
LOCATION:Flavours of India\, 458 SE 185th Ave Suite 104\, Portland\, 97233\, United States
CATEGORIES:Business & Social Hours (BASH)
END:VEVENT
END:VCALENDAR