BEGIN:VCALENDAR
VERSION:2.0
PRODID:-//West Columbia Gorge Chamber of Commerce - ECPv6.15.20//NONSGML v1.0//EN
CALSCALE:GREGORIAN
METHOD:PUBLISH
X-WR-CALNAME:West Columbia Gorge Chamber of Commerce
X-ORIGINAL-URL:https://westcolumbiagorgechamber.com
X-WR-CALDESC:Events for West Columbia Gorge Chamber of Commerce
REFRESH-INTERVAL;VALUE=DURATION:PT1H
X-Robots-Tag:noindex
X-PUBLISHED-TTL:PT1H
BEGIN:VTIMEZONE
TZID:America/Los_Angeles
BEGIN:DAYLIGHT
TZOFFSETFROM:-0800
TZOFFSETTO:-0700
TZNAME:PDT
DTSTART:20240310T100000
END:DAYLIGHT
BEGIN:STANDARD
TZOFFSETFROM:-0700
TZOFFSETTO:-0800
TZNAME:PST
DTSTART:20241103T090000
END:STANDARD
BEGIN:DAYLIGHT
TZOFFSETFROM:-0800
TZOFFSETTO:-0700
TZNAME:PDT
DTSTART:20250309T100000
END:DAYLIGHT
BEGIN:STANDARD
TZOFFSETFROM:-0700
TZOFFSETTO:-0800
TZNAME:PST
DTSTART:20251102T090000
END:STANDARD
BEGIN:DAYLIGHT
TZOFFSETFROM:-0800
TZOFFSETTO:-0700
TZNAME:PDT
DTSTART:20260308T100000
END:DAYLIGHT
BEGIN:STANDARD
TZOFFSETFROM:-0700
TZOFFSETTO:-0800
TZNAME:PST
DTSTART:20261101T090000
END:STANDARD
END:VTIMEZONE
BEGIN:VEVENT
DTSTART;TZID=America/Los_Angeles:20251001T113000
DTEND;TZID=America/Los_Angeles:20251001T130000
DTSTAMP:20260423T024211
CREATED:20250927T173501Z
LAST-MODIFIED:20250927T173501Z
UID:13554-1759318200-1759323600@westcolumbiagorgechamber.com
SUMMARY:Our learn over lunch for October will be hosted by Geoffrey Kenway of Kenway Benefits Group at the Rockwood Market Place
DESCRIPTION:Time to kick off the Fall season with a meeting to highlight all those questions about Medicare insurance that you wanted to ask but were afraid to. Geoff will be explaining the basics and how you can utilize the options this annual election period. It formally starts on Oct 15th. He truly is the Insurance guy that comes to you and fields your questions so you can make an informed decision. Whether you are needing questions on health insurance\, Medicare\, Auto\, home or even Commercial insurance. Geoff handles it all. We will be meeting at the Rockwood Market Place with Pholicious Company and will be our co-sponsoring this event. They are one of our newest members. Try her food out. You won’t be disappointed.. Invite a friend or fellow business person. See you there . If you are the first to arrive with a guest or you are a guest\, lunch is free. You must mention the Facebook post to win.
URL:https://westcolumbiagorgechamber.com/event/our-learn-over-lunch-for-october-will-be-hosted-by-geoffrey-kenway-of-kenway-benefits-group-at-the-rockwood-market-place/
LOCATION:The Rockwood Market Place\, 458 SE 185th Ave\, Portland\, OR\,\, Portland\, Oregon\, 97230
CATEGORIES:Learn Over Lunchs
ORGANIZER;CN="West Columbia Gorge Chamber of Commerce":MAILTO:info@westcolumbiagorgechamber.com
END:VEVENT
BEGIN:VEVENT
DTSTART;TZID=America/Los_Angeles:20251008T073000
DTEND;TZID=America/Los_Angeles:20251008T090000
DTSTAMP:20260423T024211
CREATED:20250928T232703Z
LAST-MODIFIED:20250928T232703Z
UID:13560-1759908600-1759914000@westcolumbiagorgechamber.com
SUMMARY:Chamber Chat on October 8th will be at the Troutdale Soda Shop & Cafe
DESCRIPTION:Time to visit the Troutdale Soda Shop & Cafe in downtown Troutdale.  Great food\, beverages and a great atmosphere to network and get your message\nout to fellow chamber members. Come join us and bring a friend.  A very reasonable menu with prices to match. See you there.
URL:https://westcolumbiagorgechamber.com/event/chamber-chat-on-october-8th-will-be-at-the-troutdale-soda-shop-cafe/
LOCATION:Troutdale Soda Shop & Cafe\, 289 E Historic Columbia River Hwy\, Troutdale\, OR\, 97060
CATEGORIES:Morning Chamber Chat
END:VEVENT
BEGIN:VEVENT
DTSTART;TZID=America/Los_Angeles:20251015T180000
DTEND;TZID=America/Los_Angeles:20251015T180000
DTSTAMP:20260423T024211
CREATED:20251013T170517Z
LAST-MODIFIED:20251013T170559Z
UID:13591-1760551200-1760551200@westcolumbiagorgechamber.com
SUMMARY:Monthly Board Meeting for October.
DESCRIPTION:Our Monthly Board meeting will be at 6pm at Bateman Carroll funeral Home in Gresham. There is also a zoom link if you want to participate that wasy \nhttps://us02web.zoom.us/j/85060557024?pwd=33z4Ng5g9PnEaaBzDvdTAwrKwNpWp8.1  Highlight and ask to attend. \nGeoff Kenway\nPresident\nWCGCCC
URL:https://westcolumbiagorgechamber.com/event/monthly-board-meeting-for-october/
LOCATION:Bateman and  Carroll Funeral  Home
CATEGORIES:Board of Directors Meetings
END:VEVENT
BEGIN:VEVENT
DTSTART;TZID=America/Los_Angeles:20251015T073000
DTEND;TZID=America/Los_Angeles:20251015T090000
DTSTAMP:20260423T024211
CREATED:20250928T233058Z
LAST-MODIFIED:20250928T233058Z
UID:13563-1760513400-1760518800@westcolumbiagorgechamber.com
SUMMARY:Chamber Chat will be at Tany's Cafe Con Pan in Wood Village on Oct 15th!
DESCRIPTION:Time for a visit to Tany’s and enjoy our networking and sharing of Fall fun and the day with a great networking location! So much to enjoy here with the expanded breakfast menu and great morning beverage! Invite a friend or another business to this fun location! See you there! The food\, coffee and pastries are amazing and you will have a great time supporting this business! Come and enjoy networking with your fellow Chamber members. Invite a friend or fellow business to experience the close knit this group has become. See you there!
URL:https://westcolumbiagorgechamber.com/event/chamber-chat-will-be-at-tanys-cafe-con-pan-in-wood-village-on-oct-15th/
LOCATION:Tany’s Cafe Con Pan\, 24173 NE Halsey St\, Wood Village\, OR\, 97060
CATEGORIES:Morning Chamber Chat
ORGANIZER;CN="West Columbia Gorge Chamber of Commerce":MAILTO:info@westcolumbiagorgechamber.com
END:VEVENT
BEGIN:VEVENT
DTSTART;TZID=America/Los_Angeles:20251022T173000
DTEND;TZID=America/Los_Angeles:20251022T190000
DTSTAMP:20260423T024211
CREATED:20250927T180153Z
LAST-MODIFIED:20250928T234210Z
UID:13557-1761154200-1761159600@westcolumbiagorgechamber.com
SUMMARY:The BASH (Business and Social Hour) will be at the Wayfinder Beer in Downtown Troutdale in October 22nd!
DESCRIPTION:The Wayfinder Beer will be hosting our April BASH! This new brew pub is open to all ages and has food carts for the food for it’s patrons. A new a fun place\nto have our BASH. Going to be a great time. Invite a fiend or another business to join us. See you there!
URL:https://westcolumbiagorgechamber.com/event/the-bash-business-and-social-hour-will-be-at-the-wayfinder-beer-in-downtown-troutdale-in-october/
LOCATION:Wayfinder Beer\, 153 Buxton Rd\, Troutdale\, OR\, 97060
CATEGORIES:Business & Social Hours (BASH)
ORGANIZER;CN="West Columbia Gorge Chamber of Commerce":MAILTO:info@westcolumbiagorgechamber.com
END:VEVENT
BEGIN:VEVENT
DTSTART;TZID=America/Los_Angeles:20251025T110000
DTEND;TZID=America/Los_Angeles:20251025T130000
DTSTAMP:20260423T024211
CREATED:20251021T173111Z
LAST-MODIFIED:20251021T173239Z
UID:13594-1761390000-1761397200@westcolumbiagorgechamber.com
SUMMARY:Wood Village 10th annual Pumpkin Fest Oct 25th 2025
DESCRIPTION:10th Annual Wood Village Pumpkin Fest\nSaturday\, October 25\, 2025\n11:00 AM – 1:00 PM\nDonald L. Robertson City Park\nPumpkin Fest is an art and cultural event with pumpkins as the main theme. We celebrate the various cultures of our community through songs\, dances\, and art. There are free arts & crafts\, activities\, music\, and more! We are also hosting a Trunk-or-Treat at the event for kids to dress up in their costumes and collect candy.\nPet costume contest as well See the City of Wood Village for details.
URL:https://westcolumbiagorgechamber.com/event/wood-village-10th-annual-pumpkin-fest-oct-25th-2025/
LOCATION:City of Wood Village City Hall\, 24200 NE Halsey St\, Wood Village\, OR\, 97060\, United States
CATEGORIES:City of Wood Village
END:VEVENT
END:VCALENDAR