BEGIN:VCALENDAR
VERSION:2.0
PRODID:-//West Columbia Gorge Chamber of Commerce - ECPv6.15.20//NONSGML v1.0//EN
CALSCALE:GREGORIAN
METHOD:PUBLISH
X-ORIGINAL-URL:https://westcolumbiagorgechamber.com
X-WR-CALDESC:Events for West Columbia Gorge Chamber of Commerce
REFRESH-INTERVAL;VALUE=DURATION:PT1H
X-Robots-Tag:noindex
X-PUBLISHED-TTL:PT1H
BEGIN:VTIMEZONE
TZID:America/Los_Angeles
BEGIN:DAYLIGHT
TZOFFSETFROM:-0800
TZOFFSETTO:-0700
TZNAME:PDT
DTSTART:20240310T100000
END:DAYLIGHT
BEGIN:STANDARD
TZOFFSETFROM:-0700
TZOFFSETTO:-0800
TZNAME:PST
DTSTART:20241103T090000
END:STANDARD
BEGIN:DAYLIGHT
TZOFFSETFROM:-0800
TZOFFSETTO:-0700
TZNAME:PDT
DTSTART:20250309T100000
END:DAYLIGHT
BEGIN:STANDARD
TZOFFSETFROM:-0700
TZOFFSETTO:-0800
TZNAME:PST
DTSTART:20251102T090000
END:STANDARD
BEGIN:DAYLIGHT
TZOFFSETFROM:-0800
TZOFFSETTO:-0700
TZNAME:PDT
DTSTART:20260308T100000
END:DAYLIGHT
BEGIN:STANDARD
TZOFFSETFROM:-0700
TZOFFSETTO:-0800
TZNAME:PST
DTSTART:20261101T090000
END:STANDARD
END:VTIMEZONE
BEGIN:VEVENT
DTSTART;TZID=America/Los_Angeles:20250903T113000
DTEND;TZID=America/Los_Angeles:20250903T130000
DTSTAMP:20260423T105105
CREATED:20250807T002100Z
LAST-MODIFIED:20250825T141050Z
UID:13478-1756899000-1756904400@westcolumbiagorgechamber.com
SUMMARY:Learn over Lunch for Sept 3rd will be Sean Ronney of Green Duck Technologies at Mama G's in the Troutdale Outlets!
DESCRIPTION:The Learn over Lunch for September will be Sean Ronney of Green Duck Technologies. We will hold it at Mama G’s in the Troutdale Outlet Mall on Sept 3rd.\nSean will be going over website\, design and the do’s and don’t of Web Design.  Sean is also familiar with software and how it enhance you website.\nThis will be a must see Learn over Lunch.  Invite friend or another business to glean this kind of information.  See you there
URL:https://westcolumbiagorgechamber.com/event/learn-over-lunch-for-sept-3rd-will-be-sean-ronney-of-green-duck-technologies-at-mana-gs-in-the-troutdale-outlets/
LOCATION:Trotudale Outlet Mall\, 450 NW 257th Way\, Oregon\, 97060
CATEGORIES:Learn Over Lunchs
ORGANIZER;CN="West Columbia Gorge Chamber of Commerce":MAILTO:info@westcolumbiagorgechamber.com
END:VEVENT
BEGIN:VEVENT
DTSTART;TZID=America/Los_Angeles:20250910T073000
DTEND;TZID=America/Los_Angeles:20250910T090000
DTSTAMP:20260423T105105
CREATED:20250807T002854Z
LAST-MODIFIED:20250807T002854Z
UID:13481-1757489400-1757494800@westcolumbiagorgechamber.com
SUMMARY:2nd Wednesday Chamber Chat will be at the Troutdale Soda Bar Cafe in downtown Troutdale!
DESCRIPTION:Have you been to the Troutdale Soda Bar Cafe in downtown Troutdale?  Now is the time to check this out. Chamber Chat will be held here and the menu\, coffee\nand the atmosphere is great. Can have meaningful conversations and networking.  Come join us and invite a friend or another business to enjoy\nthis new and fun location!
URL:https://westcolumbiagorgechamber.com/event/2nd-wednesday-chamber-chat-will-be-at-the-troutdale-soda-bar-cafe-in-downtown-troutdale/
LOCATION:Troutdale Soda Bar Cafe\, 289 E Historic Columbia River Hwy\, Troutdale\, Oregon\, 97060
CATEGORIES:AM Networkings,Morning Chamber Chat
ORGANIZER;CN="West Columbia Gorge Chamber of Commerce":MAILTO:info@westcolumbiagorgechamber.com
END:VEVENT
BEGIN:VEVENT
DTSTART;TZID=America/Los_Angeles:20250917T073000
DTEND;TZID=America/Los_Angeles:20250917T090000
DTSTAMP:20260423T105105
CREATED:20250807T003643Z
LAST-MODIFIED:20250807T003643Z
UID:13483-1758094200-1758099600@westcolumbiagorgechamber.com
SUMMARY:3rd Wednesday Chamber Chat will be at Starbucks in the Troutdale Outlet Mall
DESCRIPTION:Time to network at Starbucks in the Troutdale Outlet Mall.  Going to be fun and we always have a good time there so come with your business cards for a roudtable networking event. See you there!!
URL:https://westcolumbiagorgechamber.com/event/3rd-wednesday-chamber-chat-will-be-at-starbucks-in-the-troutdale-outlet-mall/
LOCATION:Starbucks\, 450 NW 257th Way\, Trputdale\, OR\, 97060
CATEGORIES:AM Networkings,Morning Chamber Chat
ORGANIZER;CN="West Columbia Gorge Chamber of Commerce":MAILTO:info@westcolumbiagorgechamber.com
END:VEVENT
BEGIN:VEVENT
DTSTART;TZID=America/Los_Angeles:20250923T110000
DTEND;TZID=America/Los_Angeles:20250923T130000
DTSTAMP:20260423T105105
CREATED:20250919T231847Z
LAST-MODIFIED:20250919T232605Z
UID:13547-1758625200-1758632400@westcolumbiagorgechamber.com
SUMMARY:Mama G's Ribbon Cutting on September 23rd in the Gorge Outlet Mall of Troutdale!
DESCRIPTION:Mama G’s is celebrating their new location in the Gorge Outlet Mall this coming Tuesday Sept 23 from 11am to noon for their ribbon cutting. Light refreshments will be served and guest speakers will be speaking on behalf of Gaila Lusby.  See you all there and invite someone to come with you.
URL:https://westcolumbiagorgechamber.com/event/mama-gs-ribbon-cutting-on-september-23rd/
LOCATION:Mama G’s\, 450 NW 257th Way\, Troutale\, OR\, 97060
ORGANIZER;CN="West Columbia Gorge Chamber of Commerce":MAILTO:info@westcolumbiagorgechamber.com
END:VEVENT
BEGIN:VEVENT
DTSTART;TZID=America/Los_Angeles:20250924T170000
DTEND;TZID=America/Los_Angeles:20250924T190000
DTSTAMP:20260423T105105
CREATED:20250807T010109Z
LAST-MODIFIED:20250807T185709Z
UID:13485-1758733200-1758740400@westcolumbiagorgechamber.com
SUMMARY:4th Wednesday is the BASH which will be held at Gorges Brewery in Cascade Locks!
DESCRIPTION:Come to Cascade Locks and enjoy networking at Gorges Brewery in downtown Cascade Locks.  Great food and beverages and we can do this from the upstairs level\nof the Brewery.  Going to be fun!  Please let us know if you are coming so can tell how many to expect.  See you there!
URL:https://westcolumbiagorgechamber.com/event/4th-wednesday-is-the-bash-which-will-be-held-at-gorges-brewery-in-cascade-locks/
LOCATION:Gorges Beer Company – Cascade Locks\, 390 Wa Na Pa Street\, Cascade Locks\, OR\, 97014\, United States
CATEGORIES:Business & Social Hours (BASH),City of Cascade Locks,City of Cascade Locks
ORGANIZER;CN="West Columbia Gorge Chamber of Commerce":MAILTO:info@westcolumbiagorgechamber.com
END:VEVENT
END:VCALENDAR