BEGIN:VCALENDAR
VERSION:2.0
PRODID:-//West Columbia Gorge Chamber of Commerce - ECPv6.15.20//NONSGML v1.0//EN
CALSCALE:GREGORIAN
METHOD:PUBLISH
X-WR-CALNAME:West Columbia Gorge Chamber of Commerce
X-ORIGINAL-URL:https://westcolumbiagorgechamber.com
X-WR-CALDESC:Events for West Columbia Gorge Chamber of Commerce
REFRESH-INTERVAL;VALUE=DURATION:PT1H
X-Robots-Tag:noindex
X-PUBLISHED-TTL:PT1H
BEGIN:VTIMEZONE
TZID:America/Los_Angeles
BEGIN:DAYLIGHT
TZOFFSETFROM:-0800
TZOFFSETTO:-0700
TZNAME:PDT
DTSTART:20240310T100000
END:DAYLIGHT
BEGIN:STANDARD
TZOFFSETFROM:-0700
TZOFFSETTO:-0800
TZNAME:PST
DTSTART:20241103T090000
END:STANDARD
BEGIN:DAYLIGHT
TZOFFSETFROM:-0800
TZOFFSETTO:-0700
TZNAME:PDT
DTSTART:20250309T100000
END:DAYLIGHT
BEGIN:STANDARD
TZOFFSETFROM:-0700
TZOFFSETTO:-0800
TZNAME:PST
DTSTART:20251102T090000
END:STANDARD
BEGIN:DAYLIGHT
TZOFFSETFROM:-0800
TZOFFSETTO:-0700
TZNAME:PDT
DTSTART:20260308T100000
END:DAYLIGHT
BEGIN:STANDARD
TZOFFSETFROM:-0700
TZOFFSETTO:-0800
TZNAME:PST
DTSTART:20261101T090000
END:STANDARD
END:VTIMEZONE
BEGIN:VEVENT
DTSTART;TZID=America/Los_Angeles:20250806T113000
DTEND;TZID=America/Los_Angeles:20250806T130000
DTSTAMP:20260423T104942
CREATED:20250527T180909Z
LAST-MODIFIED:20250527T180909Z
UID:13395-1754479800-1754485200@westcolumbiagorgechamber.com
SUMMARY:Welcome to Troutdale Learn over Lunch with Mama G's with Lloyd Anderson of Armadas Exteriors!
DESCRIPTION:Lloyd Anderson of Armadas Exteriors will be our host for this amazing Learn over Lunch event at Mama G’s new location in the Troutdale Outlet Mall.\nThis is a celebration of Mama G’s coming to Troutdale and Lloyd giving a present on Gutters and roofing services. Going to be a great event.\nInvite another business or a friend to hear this presentation..
URL:https://westcolumbiagorgechamber.com/event/welcome-to-troutdale-learn-over-lunch-with-mama-gs-with-lloyd-anderson-of-armadas-exteriors/
LOCATION:Mama G’s\, 450 NW 257th Way\,\, Troutdale\, Oreogn\, 97060
CATEGORIES:Learn Over Lunchs
END:VEVENT
BEGIN:VEVENT
DTSTART;TZID=America/Los_Angeles:20250813T073000
DTEND;TZID=America/Los_Angeles:20250813T090000
DTSTAMP:20260423T104942
CREATED:20250527T181327Z
LAST-MODIFIED:20250804T213157Z
UID:13399-1755070200-1755075600@westcolumbiagorgechamber.com
SUMMARY:Chamber Chat on August 13th will be at Starbucks of the Gorge Outlets!
DESCRIPTION:Back to a fun Coffee place in the Gorge Outlets.  Starbucks is a great place to meet and have a great networking opportunity!  Bring a friend and/or another business to partake in the morning meeting. Invite a friend or another business to join us!
URL:https://westcolumbiagorgechamber.com/event/chamber-chat-on-august-13th-will-be-at-starbucks-of-the-gorge-outlets/
LOCATION:Starbucks\, 450 NW 257th Way\, Trputdale\, OR\, 97060
CATEGORIES:AM Networkings,Morning Chamber Chat
END:VEVENT
BEGIN:VEVENT
DTSTART;TZID=America/Los_Angeles:20250820T073000
DTEND;TZID=America/Los_Angeles:20250820T090000
DTSTAMP:20260423T104942
CREATED:20250527T181630Z
LAST-MODIFIED:20250527T181630Z
UID:13401-1755675000-1755680400@westcolumbiagorgechamber.com
SUMMARY:Chamber Chat at Ki Coffee at the Byway August 20th!
DESCRIPTION:Time for Coffee at Ki Coffee at the Byway! Come join us for another fun place meet\, network and share ideas with fellow Chamber members Invite a friend or another Business.  See you there!
URL:https://westcolumbiagorgechamber.com/event/chamber-chat-at-ki-coffee-at-the-byway-august-20th/
LOCATION:Ki Coffee\, 23609 NE Halsey St Suite. 100\,\, Wood Vilage\, OR\, 97060
CATEGORIES:AM Networkings,Morning Chamber Chat
END:VEVENT
BEGIN:VEVENT
DTSTART;TZID=America/Los_Angeles:20250827T173000
DTEND;TZID=America/Los_Angeles:20250827T190000
DTSTAMP:20260423T104942
CREATED:20250527T182154Z
LAST-MODIFIED:20250527T182154Z
UID:13404-1756315800-1756321200@westcolumbiagorgechamber.com
SUMMARY:August BASH ( Business and Social Hour) at Bumpers Bar and Grill in Fairview!
DESCRIPTION:So much fun last time that we are doing it again.  Come join us at Bumpers and have a great meal and share some of your summer activities.  Let’s fill the palce\nand really end the summer on a high note. Invite a friend or another business to this fun after hours meeting.  See you there!
URL:https://westcolumbiagorgechamber.com/event/august-bash-business-and-social-hour-at-bumpers-bar-and-grill-in-fairview/
LOCATION:Bumper’s Grill and Bar\, 21935 NE Halsey Ste. 100\, Fairview\, OR\, 97024\, United States
CATEGORIES:Business & Social Hours (BASH)
END:VEVENT
END:VCALENDAR