BEGIN:VCALENDAR
VERSION:2.0
PRODID:-//West Columbia Gorge Chamber of Commerce - ECPv6.15.20//NONSGML v1.0//EN
CALSCALE:GREGORIAN
METHOD:PUBLISH
X-WR-CALNAME:West Columbia Gorge Chamber of Commerce
X-ORIGINAL-URL:https://westcolumbiagorgechamber.com
X-WR-CALDESC:Events for West Columbia Gorge Chamber of Commerce
REFRESH-INTERVAL;VALUE=DURATION:PT1H
X-Robots-Tag:noindex
X-PUBLISHED-TTL:PT1H
BEGIN:VTIMEZONE
TZID:America/Los_Angeles
BEGIN:DAYLIGHT
TZOFFSETFROM:-0800
TZOFFSETTO:-0700
TZNAME:PDT
DTSTART:20240310T100000
END:DAYLIGHT
BEGIN:STANDARD
TZOFFSETFROM:-0700
TZOFFSETTO:-0800
TZNAME:PST
DTSTART:20241103T090000
END:STANDARD
BEGIN:DAYLIGHT
TZOFFSETFROM:-0800
TZOFFSETTO:-0700
TZNAME:PDT
DTSTART:20250309T100000
END:DAYLIGHT
BEGIN:STANDARD
TZOFFSETFROM:-0700
TZOFFSETTO:-0800
TZNAME:PST
DTSTART:20251102T090000
END:STANDARD
BEGIN:DAYLIGHT
TZOFFSETFROM:-0800
TZOFFSETTO:-0700
TZNAME:PDT
DTSTART:20260308T100000
END:DAYLIGHT
BEGIN:STANDARD
TZOFFSETFROM:-0700
TZOFFSETTO:-0800
TZNAME:PST
DTSTART:20261101T090000
END:STANDARD
END:VTIMEZONE
BEGIN:VEVENT
DTSTART;TZID=America/Los_Angeles:20250507T113000
DTEND;TZID=America/Los_Angeles:20250507T130000
DTSTAMP:20260423T144347
CREATED:20250312T172252Z
LAST-MODIFIED:20250312T172252Z
UID:13289-1746617400-1746622800@westcolumbiagorgechamber.com
SUMMARY:Cascade Art Association will be holding the Learn over Lunch at the Fork for May 7th!
DESCRIPTION:The Cascade Art Association will6th through be hosting the May Learn over Lunch and promoting their organization and the Troutdale Art Festival the first weekend in June 6th to the 8th.  Volunteer opportunities are available so come and support our community.  Martha Denham and Ellen Green will be our presenters for this LOL. Supporting the Arts in our community is so important and the West Columbia Gorge Chamber has been supporting this event for over a decade.  It has changed but it is now part of the First Friday promotions in Troutdale as this event kicks off the Summer season of First Friday’s.  Come join us and invite a friend or fellow business to hear this presentation.  See you there!!
URL:https://westcolumbiagorgechamber.com/event/cascade-art-association-will-be-holding-the-learn-over-lunch-at-the-fork-for-may-7th/
LOCATION:Fairview Food Plaza\, 22320 NE Halsey St\, Fairview\, OR\, 97024
CATEGORIES:Learn Over Lunchs
END:VEVENT
BEGIN:VEVENT
DTSTART;TZID=America/Los_Angeles:20250514T073000
DTEND;TZID=America/Los_Angeles:20250514T090000
DTSTAMP:20260423T144347
CREATED:20250409T201000Z
LAST-MODIFIED:20250508T212739Z
UID:13315-1747207800-1747213200@westcolumbiagorgechamber.com
SUMMARY:May 14th Chamber Chat with Ray Young\, City Manage Troutdale\, at Starbucks Coffee at the Troutdale Outlet Mall!!
DESCRIPTION:May 14th Chamber Chat will be with Ray Young\, City Manager for the City of Troutdale\, will be doing the annual State of the City address.  We will be at the Starbucks in the Troutdale Outlet Mall. Yep\, lots of updates on Troutdale. Progress of new $5 million trail and park along the river\nDevelopment proposal for 16-acre URA site\nProgress of new 85 unit Home Forward apartments in downtown.. Invite a friend or another business to meet us there.\nGoing to be good. Ray has been the City Manage for the City for many years and always gives a very thorough presentation on what is happening in the City. \nSee you there!!
URL:https://westcolumbiagorgechamber.com/event/may-14th-chamber-chat-with-ray-young-city-manager-at-troutdale-soda-bar-cafe/
LOCATION:Starbucks\, 450 NW 257th Way\, Trputdale\, OR\, 97060
CATEGORIES:AM Networkings,City of Troutdale,Morning Chamber Chat
ORGANIZER;CN="West Columbia Gorge Chamber of Commerce":MAILTO:info@westcolumbiagorgechamber.com
END:VEVENT
BEGIN:VEVENT
DTSTART;TZID=America/Los_Angeles:20250521T073000
DTEND;TZID=America/Los_Angeles:20250521T090000
DTSTAMP:20260423T144347
CREATED:20250423T232820Z
LAST-MODIFIED:20250423T232820Z
UID:13351-1747812600-1747818000@westcolumbiagorgechamber.com
SUMMARY:Chamber Chat for May 21st will be hosted by Keith Kudrna\, Mayor of the City of Fairview!
DESCRIPTION:The City of Fairview will be hosting our Chamber Chat on May 21st at IHOP in Wood Village.  Come and hear what is happening in the City of Fairview\nAs your Chamber\, we try to keep you updated on the gongs on in each of the Cities of the Gorge. IHOP is a favorite spot to hold our Chamber Chat and\nshould be very informative.  Invite a friend or another business owner to join us.  See you there!!
URL:https://westcolumbiagorgechamber.com/event/chamber-chat-for-may-21st-will-be-hosted-by-keith-kudrna-mayor-of-the-city-of-fairview/
LOCATION:IHOP\, 22583 NE Glisan S\, Wod Vilage\, OR\, 97060\, United States
CATEGORIES:AM Networkings,Morning Chamber Chat
ORGANIZER;CN="West Columbia Gorge Chamber of Commerce":MAILTO:info@westcolumbiagorgechamber.com
END:VEVENT
BEGIN:VEVENT
DTSTART;TZID=America/Los_Angeles:20250521T180000
DTEND;TZID=America/Los_Angeles:20250521T193000
DTSTAMP:20260423T144347
CREATED:20250508T224219Z
LAST-MODIFIED:20250508T224219Z
UID:13368-1747850400-1747855800@westcolumbiagorgechamber.com
SUMMARY:Monthly Board Meeting at Bateman Carroll Funeral Home
DESCRIPTION:Monthly Board meeting at Bateman Carroll Funeral Home.
URL:https://westcolumbiagorgechamber.com/event/monthly-board-meeting-at-bateman-carroll-funeral-home-4/
LOCATION:Bateman and  Carroll Funeral  Home
CATEGORIES:Board of Directors Meetings
ORGANIZER;CN="West Columbia Gorge Chamber of Commerce":MAILTO:info@westcolumbiagorgechamber.com
END:VEVENT
BEGIN:VEVENT
DTSTART;TZID=America/Los_Angeles:20250528T173000
DTEND;TZID=America/Los_Angeles:20250528T190000
DTSTAMP:20260423T144347
CREATED:20250320T163934Z
LAST-MODIFIED:20250409T202256Z
UID:13296-1748453400-1748458800@westcolumbiagorgechamber.com
SUMMARY:Our monthly BASH (Business and Social Hour) for May will be at Alex's Bar in Fairview!
DESCRIPTION:Summer is almost here and we will be at Alex’s Bar in Fairview. Their outdoor seating area is ideal for networking. The menu of happy hour favorites are amazing.\nInvite a friend or another business owner.  See you there!
URL:https://westcolumbiagorgechamber.com/event/our-monthly-bash-business-and-social-hour-for-may-will-be-at-alexs-bar-in-fairview/
LOCATION:Alex’s Bar\, 1712 NE 223rd Ave Fairview\, OR 97024\, Fairview\, OR\, 97024
CATEGORIES:Business & Social Hours (BASH),City of Fairview
ORGANIZER;CN="West Columbia Gorge Chamber of Commerce":MAILTO:info@westcolumbiagorgechamber.com
END:VEVENT
END:VCALENDAR