BEGIN:VCALENDAR
VERSION:2.0
PRODID:-//West Columbia Gorge Chamber of Commerce - ECPv6.15.20//NONSGML v1.0//EN
CALSCALE:GREGORIAN
METHOD:PUBLISH
X-WR-CALNAME:West Columbia Gorge Chamber of Commerce
X-ORIGINAL-URL:https://westcolumbiagorgechamber.com
X-WR-CALDESC:Events for West Columbia Gorge Chamber of Commerce
REFRESH-INTERVAL;VALUE=DURATION:PT1H
X-Robots-Tag:noindex
X-PUBLISHED-TTL:PT1H
BEGIN:VTIMEZONE
TZID:America/Los_Angeles
BEGIN:DAYLIGHT
TZOFFSETFROM:-0800
TZOFFSETTO:-0700
TZNAME:PDT
DTSTART:20230312T100000
END:DAYLIGHT
BEGIN:STANDARD
TZOFFSETFROM:-0700
TZOFFSETTO:-0800
TZNAME:PST
DTSTART:20231105T090000
END:STANDARD
BEGIN:DAYLIGHT
TZOFFSETFROM:-0800
TZOFFSETTO:-0700
TZNAME:PDT
DTSTART:20240310T100000
END:DAYLIGHT
BEGIN:STANDARD
TZOFFSETFROM:-0700
TZOFFSETTO:-0800
TZNAME:PST
DTSTART:20241103T090000
END:STANDARD
BEGIN:DAYLIGHT
TZOFFSETFROM:-0800
TZOFFSETTO:-0700
TZNAME:PDT
DTSTART:20250309T100000
END:DAYLIGHT
BEGIN:STANDARD
TZOFFSETFROM:-0700
TZOFFSETTO:-0800
TZNAME:PST
DTSTART:20251102T090000
END:STANDARD
END:VTIMEZONE
BEGIN:VEVENT
DTSTART;TZID=America/Los_Angeles:20240803T180000
DTEND;TZID=America/Los_Angeles:20240803T210000
DTSTAMP:20260424T050833
CREATED:20240418T210517Z
LAST-MODIFIED:20240418T210517Z
UID:12791-1722708000-1722718800@westcolumbiagorgechamber.com
SUMMARY:First Friday for August
DESCRIPTION:
URL:https://westcolumbiagorgechamber.com/event/first-friday-for-august/
LOCATION:OR
CATEGORIES:City of Troutdale,Events - Community
END:VEVENT
BEGIN:VEVENT
DTSTART;TZID=America/Los_Angeles:20240807T123000
DTEND;TZID=America/Los_Angeles:20240807T140000
DTSTAMP:20260424T050834
CREATED:20240718T161606Z
LAST-MODIFIED:20240718T161606Z
UID:12861-1723033800-1723039200@westcolumbiagorgechamber.com
SUMMARY:Goodman Septic Services will be hosting August's Learn over Lunch August 7th at the Troutdale Food Carts!
DESCRIPTION:Emily Jacobs will be giving a presentation on what Goodman’s does.  So much to learn if you own a septic system or know someone who does.\nInvite a fiend or another business connection to hear this talk and enjoy lunch at the Troutdale Food Carts.
URL:https://westcolumbiagorgechamber.com/event/goodman-septic-services-will-be-hosting-augusts-learn-over-lunch-august-7th-at-the-troutdale-food-carts/
LOCATION:Troutdale Food Carts\, 151 SW 257th Dr\, Troutdale\, OR\, 97060
CATEGORIES:Learn Over Lunchs
ORGANIZER;CN="West Columbia Gorge Chamber of Commerce":MAILTO:info@westcolumbiagorgechamber.com
END:VEVENT
BEGIN:VEVENT
DTSTART;TZID=America/Los_Angeles:20240814T083000
DTEND;TZID=America/Los_Angeles:20240814T220000
DTSTAMP:20260424T050834
CREATED:20240725T184502Z
LAST-MODIFIED:20240725T185526Z
UID:12867-1723624200-1723672800@westcolumbiagorgechamber.com
SUMMARY:It's going to be great at 7:38! Chamber Chat will be at the Black Rock Coffee Bar in Troutdale!
DESCRIPTION:Come and have Chamber Chat at the Black Rock Coffee Bar on August 14th.  The Black Rock just renewed their membership with the Chamber so let’s show them the Chamber love by coming to this fun place for some great beverage choices and possibly more. Come meet Olivia\, the Manager\, to hear the latest on what’s new with the Black Rock Coffee Bar and other affiliated coffee shops. Going to be a great time. Invite a friend or fellow business to enjoy this Chamber Chat.
URL:https://westcolumbiagorgechamber.com/event/its-going-to-be-great-at-738-chamber-chat-will-be-at-the-black-rock-coffee-bar-in-troutdale/
LOCATION:Black Rock Coffee Bar\, 24699 SE Stark St\,\, Troutdale\, OR\, 97060\, United States
CATEGORIES:Morning Chamber Chat
ORGANIZER;CN="West Columbia Gorge Chamber of Commerce":MAILTO:info@westcolumbiagorgechamber.com
END:VEVENT
BEGIN:VEVENT
DTSTART;TZID=America/Los_Angeles:20240821T083000
DTEND;TZID=America/Los_Angeles:20240821T100000
DTSTAMP:20260424T050834
CREATED:20240606T161509Z
LAST-MODIFIED:20240725T185410Z
UID:12831-1724229000-1724234400@westcolumbiagorgechamber.com
SUMMARY:It's going to be great at 7:38am at Starbucks at the Troutdale Outlets for Chamber Chat August 21st!
DESCRIPTION:Time for Chamber chat at the Troutdale Gorge outlets. Great place to network and learn from one another. If you want to host one of these and highlight your business\, let us know.  Bring a friend or another business to help grow our chamber and your business.  See you there!
URL:https://westcolumbiagorgechamber.com/event/its-going-to-be-great-at-738am-at-starbucks-at-the-troutdale-outlets-for-chamber-chat-july-17th/
LOCATION:Starbucks\, 450 NW 257th Way\, Trputdale\, OR\, 97060
CATEGORIES:AM Networkings,Chamber Meetings
END:VEVENT
BEGIN:VEVENT
DTSTART;TZID=America/Los_Angeles:20240828T170000
DTEND;TZID=America/Los_Angeles:20240828T190000
DTSTAMP:20260424T050834
CREATED:20220420T010704Z
LAST-MODIFIED:20240822T154529Z
UID:10021-1724864400-1724871600@westcolumbiagorgechamber.com
SUMMARY:Celebrate the renewal of Edgefield's Chamber membership with a BASH  Business after social hour  5pm to 7pm at The Edgefield Power Station.
DESCRIPTION:Our monthly BASH will be held at the Power Station at Mcmennamins Edgefield.  Ask the host where we will gathering and join us for fun food and a beverage of your choice.  Edgefield Power Station is such a fun place and so many other things to do there. Come early or stay late. We could even go down the the Pool room for shuffle board or play some pool. See you there and invite another business owner and see what the Chamber is doing.
URL:https://westcolumbiagorgechamber.com/event/monthly-after-hours-in-person-bash-at-edgefield-power-station/
LOCATION:McMenamins  Edgefield\, 2126 SW Halsey\, Troutdale\, OR
CATEGORIES:Business & Social Hours (BASH),Chamber Meetings
ORGANIZER;CN="West Columbia Gorge Chamber of Commerce":MAILTO:info@westcolumbiagorgechamber.com
END:VEVENT
END:VCALENDAR