BEGIN:VCALENDAR
VERSION:2.0
PRODID:-//West Columbia Gorge Chamber of Commerce - ECPv6.15.20//NONSGML v1.0//EN
CALSCALE:GREGORIAN
METHOD:PUBLISH
X-ORIGINAL-URL:https://westcolumbiagorgechamber.com
X-WR-CALDESC:Events for West Columbia Gorge Chamber of Commerce
REFRESH-INTERVAL;VALUE=DURATION:PT1H
X-Robots-Tag:noindex
X-PUBLISHED-TTL:PT1H
BEGIN:VTIMEZONE
TZID:America/Los_Angeles
BEGIN:DAYLIGHT
TZOFFSETFROM:-0800
TZOFFSETTO:-0700
TZNAME:PDT
DTSTART:20200308T100000
END:DAYLIGHT
BEGIN:STANDARD
TZOFFSETFROM:-0700
TZOFFSETTO:-0800
TZNAME:PST
DTSTART:20201101T090000
END:STANDARD
BEGIN:DAYLIGHT
TZOFFSETFROM:-0800
TZOFFSETTO:-0700
TZNAME:PDT
DTSTART:20210314T100000
END:DAYLIGHT
BEGIN:STANDARD
TZOFFSETFROM:-0700
TZOFFSETTO:-0800
TZNAME:PST
DTSTART:20211107T090000
END:STANDARD
BEGIN:DAYLIGHT
TZOFFSETFROM:-0800
TZOFFSETTO:-0700
TZNAME:PDT
DTSTART:20220313T100000
END:DAYLIGHT
BEGIN:STANDARD
TZOFFSETFROM:-0700
TZOFFSETTO:-0800
TZNAME:PST
DTSTART:20221106T090000
END:STANDARD
END:VTIMEZONE
BEGIN:VEVENT
DTSTART;TZID=America/Los_Angeles:20210917T130000
DTEND;TZID=America/Los_Angeles:20210917T180000
DTSTAMP:20260420T223230
CREATED:20210629T161633Z
LAST-MODIFIED:20210629T161633Z
UID:9875-1631883600-1631901600@westcolumbiagorgechamber.com
SUMMARY:Grand Opening/Ribbon Cutting - Wood Village City Hall/Civic Center Celebration
DESCRIPTION: This will also be a Ribbon Cutting by the West Columbia Gorge Chamber of Commerce at 3 pm.  The celebration will take place from 1-6pm.  Everyone is welcome to come and see the new facility and grounds!
URL:https://westcolumbiagorgechamber.com/event/grand-opening-wood-village-city-hall-celebration-4/
LOCATION:Oregon
CATEGORIES:City of Wood Village,Events - Community,Ribbon Cuttings
END:VEVENT
BEGIN:VEVENT
DTSTART;TZID=America/Los_Angeles:20210917T130000
DTEND;TZID=America/Los_Angeles:20210917T180000
DTSTAMP:20260420T223230
CREATED:20210629T161633Z
LAST-MODIFIED:20210629T161633Z
UID:8019-1631883600-1631901600@westcolumbiagorgechamber.com
SUMMARY:Grand Opening/Ribbon Cutting - Wood Village City Hall/Civic Center Celebration
DESCRIPTION: This will also be a Ribbon Cutting by the West Columbia Gorge Chamber of Commerce at 3 pm.  The celebration will take place from 1-6pm.  Everyone is welcome to come and see the new facility and grounds!
URL:https://westcolumbiagorgechamber.com/event/grand-opening-wood-village-city-hall-celebration/
LOCATION:Oregon
CATEGORIES:City of Wood Village,Events - Community,Ribbon Cuttings
END:VEVENT
BEGIN:VEVENT
DTSTART;TZID=America/Los_Angeles:20210917T130000
DTEND;TZID=America/Los_Angeles:20210917T180000
DTSTAMP:20260420T223230
CREATED:20210629T161633Z
LAST-MODIFIED:20210629T161633Z
UID:9520-1631883600-1631901600@westcolumbiagorgechamber.com
SUMMARY:Grand Opening/Ribbon Cutting - Wood Village City Hall/Civic Center Celebration
DESCRIPTION: This will also be a Ribbon Cutting by the West Columbia Gorge Chamber of Commerce at 3 pm.  The celebration will take place from 1-6pm.  Everyone is welcome to come and see the new facility and grounds!
URL:https://westcolumbiagorgechamber.com/event/grand-opening-wood-village-city-hall-celebration-2/
LOCATION:Oregon
CATEGORIES:City of Wood Village,Events - Community,Ribbon Cuttings
END:VEVENT
BEGIN:VEVENT
DTSTART;TZID=America/Los_Angeles:20210917T130000
DTEND;TZID=America/Los_Angeles:20210917T180000
DTSTAMP:20260420T223230
CREATED:20210629T161633Z
LAST-MODIFIED:20210629T161633Z
UID:9554-1631883600-1631901600@westcolumbiagorgechamber.com
SUMMARY:Grand Opening/Ribbon Cutting - Wood Village City Hall/Civic Center Celebration
DESCRIPTION: This will also be a Ribbon Cutting by the West Columbia Gorge Chamber of Commerce at 3 pm.  The celebration will take place from 1-6pm.  Everyone is welcome to come and see the new facility and grounds!
URL:https://westcolumbiagorgechamber.com/event/grand-opening-wood-village-city-hall-celebration-3/
LOCATION:Oregon
CATEGORIES:City of Wood Village,Events - Community,Ribbon Cuttings
END:VEVENT
END:VCALENDAR