BEGIN:VCALENDAR
VERSION:2.0
PRODID:-//West Columbia Gorge Chamber of Commerce - ECPv6.15.20//NONSGML v1.0//EN
CALSCALE:GREGORIAN
METHOD:PUBLISH
X-ORIGINAL-URL:https://westcolumbiagorgechamber.com
X-WR-CALDESC:Events for West Columbia Gorge Chamber of Commerce
REFRESH-INTERVAL;VALUE=DURATION:PT1H
X-Robots-Tag:noindex
X-PUBLISHED-TTL:PT1H
BEGIN:VTIMEZONE
TZID:America/Los_Angeles
BEGIN:DAYLIGHT
TZOFFSETFROM:-0800
TZOFFSETTO:-0700
TZNAME:PDT
DTSTART:20240310T100000
END:DAYLIGHT
BEGIN:STANDARD
TZOFFSETFROM:-0700
TZOFFSETTO:-0800
TZNAME:PST
DTSTART:20241103T090000
END:STANDARD
BEGIN:DAYLIGHT
TZOFFSETFROM:-0800
TZOFFSETTO:-0700
TZNAME:PDT
DTSTART:20250309T100000
END:DAYLIGHT
BEGIN:STANDARD
TZOFFSETFROM:-0700
TZOFFSETTO:-0800
TZNAME:PST
DTSTART:20251102T090000
END:STANDARD
BEGIN:DAYLIGHT
TZOFFSETFROM:-0800
TZOFFSETTO:-0700
TZNAME:PDT
DTSTART:20260308T100000
END:DAYLIGHT
BEGIN:STANDARD
TZOFFSETFROM:-0700
TZOFFSETTO:-0800
TZNAME:PST
DTSTART:20261101T090000
END:STANDARD
END:VTIMEZONE
BEGIN:VEVENT
DTSTART;TZID=America/Los_Angeles:20250521T073000
DTEND;TZID=America/Los_Angeles:20250521T090000
DTSTAMP:20260419T093520
CREATED:20250423T232820Z
LAST-MODIFIED:20250423T232820Z
UID:13351-1747812600-1747818000@westcolumbiagorgechamber.com
SUMMARY:Chamber Chat for May 21st will be hosted by Keith Kudrna\, Mayor of the City of Fairview!
DESCRIPTION:The City of Fairview will be hosting our Chamber Chat on May 21st at IHOP in Wood Village.  Come and hear what is happening in the City of Fairview\nAs your Chamber\, we try to keep you updated on the gongs on in each of the Cities of the Gorge. IHOP is a favorite spot to hold our Chamber Chat and\nshould be very informative.  Invite a friend or another business owner to join us.  See you there!!
URL:https://westcolumbiagorgechamber.com/event/chamber-chat-for-may-21st-will-be-hosted-by-keith-kudrna-mayor-of-the-city-of-fairview/
LOCATION:IHOP\, 22583 NE Glisan S\, Wod Vilage\, OR\, 97060\, United States
CATEGORIES:AM Networkings,Morning Chamber Chat
ORGANIZER;CN="West Columbia Gorge Chamber of Commerce":MAILTO:info@westcolumbiagorgechamber.com
END:VEVENT
END:VCALENDAR