BEGIN:VCALENDAR
VERSION:2.0
PRODID:-//West Columbia Gorge Chamber of Commerce - ECPv6.15.20//NONSGML v1.0//EN
CALSCALE:GREGORIAN
METHOD:PUBLISH
X-WR-CALNAME:West Columbia Gorge Chamber of Commerce
X-ORIGINAL-URL:https://westcolumbiagorgechamber.com
X-WR-CALDESC:Events for West Columbia Gorge Chamber of Commerce
REFRESH-INTERVAL;VALUE=DURATION:PT1H
X-Robots-Tag:noindex
X-PUBLISHED-TTL:PT1H
BEGIN:VTIMEZONE
TZID:America/Los_Angeles
BEGIN:DAYLIGHT
TZOFFSETFROM:-0800
TZOFFSETTO:-0700
TZNAME:PDT
DTSTART:20230312T100000
END:DAYLIGHT
BEGIN:STANDARD
TZOFFSETFROM:-0700
TZOFFSETTO:-0800
TZNAME:PST
DTSTART:20231105T090000
END:STANDARD
BEGIN:DAYLIGHT
TZOFFSETFROM:-0800
TZOFFSETTO:-0700
TZNAME:PDT
DTSTART:20240310T100000
END:DAYLIGHT
BEGIN:STANDARD
TZOFFSETFROM:-0700
TZOFFSETTO:-0800
TZNAME:PST
DTSTART:20241103T090000
END:STANDARD
BEGIN:DAYLIGHT
TZOFFSETFROM:-0800
TZOFFSETTO:-0700
TZNAME:PDT
DTSTART:20250309T100000
END:DAYLIGHT
BEGIN:STANDARD
TZOFFSETFROM:-0700
TZOFFSETTO:-0800
TZNAME:PST
DTSTART:20251102T090000
END:STANDARD
END:VTIMEZONE
BEGIN:VEVENT
DTSTART;TZID=America/Los_Angeles:20241218T073000
DTEND;TZID=America/Los_Angeles:20241218T090000
DTSTAMP:20260419T155435
CREATED:20241201T013031Z
LAST-MODIFIED:20241201T013056Z
UID:13177-1734507000-1734512400@westcolumbiagorgechamber.com
SUMMARY:Last Chamber chat of the year will be at Tany's Cafe Con Pan!  December 18th!
DESCRIPTION:Come celebrate the last Chamber Chat of 2024 at Tany’s Cafe Con Pan!  Our newest member is having great food and drink and is in the holiday spirit!\nCome Join us.
URL:https://westcolumbiagorgechamber.com/event/last-chamber-chat-of-the-year-will-be-at-tanys-cafe-con-pan/
LOCATION:Tany;s Cafe Con Pan\, 24173 NE Halsey St\, Wood Village\, OR\, 97060
CATEGORIES:AM Networkings,Morning Chamber Chat
END:VEVENT
END:VCALENDAR