BEGIN:VCALENDAR
VERSION:2.0
PRODID:-//West Columbia Gorge Chamber of Commerce - ECPv6.15.20//NONSGML v1.0//EN
CALSCALE:GREGORIAN
METHOD:PUBLISH
X-WR-CALNAME:West Columbia Gorge Chamber of Commerce
X-ORIGINAL-URL:https://westcolumbiagorgechamber.com
X-WR-CALDESC:Events for West Columbia Gorge Chamber of Commerce
REFRESH-INTERVAL;VALUE=DURATION:PT1H
X-Robots-Tag:noindex
X-PUBLISHED-TTL:PT1H
BEGIN:VTIMEZONE
TZID:America/Los_Angeles
BEGIN:DAYLIGHT
TZOFFSETFROM:-0800
TZOFFSETTO:-0700
TZNAME:PDT
DTSTART:20220313T100000
END:DAYLIGHT
BEGIN:STANDARD
TZOFFSETFROM:-0700
TZOFFSETTO:-0800
TZNAME:PST
DTSTART:20221106T090000
END:STANDARD
BEGIN:DAYLIGHT
TZOFFSETFROM:-0800
TZOFFSETTO:-0700
TZNAME:PDT
DTSTART:20230312T100000
END:DAYLIGHT
BEGIN:STANDARD
TZOFFSETFROM:-0700
TZOFFSETTO:-0800
TZNAME:PST
DTSTART:20231105T090000
END:STANDARD
BEGIN:DAYLIGHT
TZOFFSETFROM:-0800
TZOFFSETTO:-0700
TZNAME:PDT
DTSTART:20240310T100000
END:DAYLIGHT
BEGIN:STANDARD
TZOFFSETFROM:-0700
TZOFFSETTO:-0800
TZNAME:PST
DTSTART:20241103T090000
END:STANDARD
END:VTIMEZONE
BEGIN:VEVENT
DTSTART;TZID=America/Los_Angeles:20230517T003000
DTEND;TZID=America/Los_Angeles:20230517T013000
DTSTAMP:20260420T161729
CREATED:20230510T014517Z
LAST-MODIFIED:20230510T014517Z
UID:10222-1684283400-1684287000@westcolumbiagorgechamber.com
SUMMARY:Chamber Chat Double Shot with Millie King and Marleee Boxler hosting this informative meeting!
DESCRIPTION:It’s going to be great at 7:38…..Mollie King and Marlee Boxler would love to have you visit the recently remodeled Visitor Center in Downtown Troutdale. They will be sharing many of the opportunities in Troutdale to enjoy the city and the many tourist events that they host and sponsor. Volunteer opportunities galore are available with the upcoming First Friday events and this year the Troutdale Art Festival will be kicked off with a 3 day event in the heart of the city. They will be closing the highway to make way for this great event. Formally known as the Fall Festival of The Arts\, the Troutdale Art Festival is the new name and this will be a highly anticipated event that stresses the arts and culture that this event will showcase.\nCome hear Marleee and Mollie speak on this and so much more. This is an event that you should not miss. Invite a friend or fellow business to engage in this premier meeting of what is going on this year in Troutdale. Light refreshments and coffee will be served.\nSee you there!
URL:https://westcolumbiagorgechamber.com/event/chamber-chat-double-shot-with-millie-king-and-marleee-boxler-hosting-this-informative-meeting/
LOCATION:Troutdale Visitor Center\, 475 E Historic Columbia River Hwy\, Troutdale\, OR\, 97060
CATEGORIES:AM Networkings
ORGANIZER;CN="West Columbia Gorge Chamber of Commerce":MAILTO:info@westcolumbiagorgechamber.com
END:VEVENT
END:VCALENDAR