BEGIN:VCALENDAR
VERSION:2.0
PRODID:-//West Columbia Gorge Chamber of Commerce - ECPv6.15.20//NONSGML v1.0//EN
CALSCALE:GREGORIAN
METHOD:PUBLISH
X-WR-CALNAME:West Columbia Gorge Chamber of Commerce
X-ORIGINAL-URL:https://westcolumbiagorgechamber.com
X-WR-CALDESC:Events for West Columbia Gorge Chamber of Commerce
REFRESH-INTERVAL;VALUE=DURATION:PT1H
X-Robots-Tag:noindex
X-PUBLISHED-TTL:PT1H
BEGIN:VTIMEZONE
TZID:America/Los_Angeles
BEGIN:DAYLIGHT
TZOFFSETFROM:-0800
TZOFFSETTO:-0700
TZNAME:PDT
DTSTART:20180311T100000
END:DAYLIGHT
BEGIN:STANDARD
TZOFFSETFROM:-0700
TZOFFSETTO:-0800
TZNAME:PST
DTSTART:20181104T090000
END:STANDARD
BEGIN:DAYLIGHT
TZOFFSETFROM:-0800
TZOFFSETTO:-0700
TZNAME:PDT
DTSTART:20190310T100000
END:DAYLIGHT
BEGIN:STANDARD
TZOFFSETFROM:-0700
TZOFFSETTO:-0800
TZNAME:PST
DTSTART:20191103T090000
END:STANDARD
BEGIN:DAYLIGHT
TZOFFSETFROM:-0800
TZOFFSETTO:-0700
TZNAME:PDT
DTSTART:20200308T100000
END:DAYLIGHT
BEGIN:STANDARD
TZOFFSETFROM:-0700
TZOFFSETTO:-0800
TZNAME:PST
DTSTART:20201101T090000
END:STANDARD
END:VTIMEZONE
BEGIN:VEVENT
DTSTART;TZID=America/Los_Angeles:20190123T073000
DTEND;TZID=America/Los_Angeles:20190123T090000
DTSTAMP:20260425T070708
CREATED:20181127T003539Z
LAST-MODIFIED:20181127T003539Z
UID:5998-1548228600-1548234000@westcolumbiagorgechamber.com
SUMMARY:Morning Networking at Troutdale Dental
DESCRIPTION:Morning Networking  \nat \n \nWednesday\, January 23rd \n7:30am to 9:00am \n191 E Historic Columbia River Hwy\, Troutdale\, OR 97060 \nJoin us! \nMingle with other amazing people and share your own information about your business. \nOffering any specials? Having any events? Want to let others know about your business? Let us know!  \nCome join the fun while seeing the beautiful office of Troutdale Dental! \nDon’t be afraid of the dentist! They’re both really nice.  \nCatered breakfast and beverages provided. \nBring your business cards and enter the door prize drawing for a Free Take Home Teeth Whitening Kit ($75.00 value)! \n 
URL:https://westcolumbiagorgechamber.com/event/morning-networking-at-troutdale-dental/
LOCATION:Troutdale Dental\, 191 E Historic Columbia River Hwy\, Troutdale\, OR\, 97060\, United States
CATEGORIES:AM Networkings,Events - Chamber
END:VEVENT
BEGIN:VEVENT
DTSTART;TZID=America/Los_Angeles:20190123T073000
DTEND;TZID=America/Los_Angeles:20190123T090000
DTSTAMP:20260425T070708
CREATED:20181127T003539Z
LAST-MODIFIED:20181127T003539Z
UID:8976-1548228600-1548234000@westcolumbiagorgechamber.com
SUMMARY:Morning Networking at Troutdale Dental
DESCRIPTION:Morning Networking  \nat \n \nWednesday\, January 23rd \n7:30am to 9:00am \n191 E Historic Columbia River Hwy\, Troutdale\, OR 97060 \nJoin us! \nMingle with other amazing people and share your own information about your business. \nOffering any specials? Having any events? Want to let others know about your business? Let us know!  \nCome join the fun while seeing the beautiful office of Troutdale Dental! \nDon’t be afraid of the dentist! They’re both really nice.  \nCatered breakfast and beverages provided. \nBring your business cards and enter the door prize drawing for a Free Take Home Teeth Whitening Kit ($75.00 value)! \n 
URL:https://westcolumbiagorgechamber.com/event/morning-networking-at-troutdale-dental-2/
LOCATION:Troutdale Dental\, 191 E Historic Columbia River Hwy\, Troutdale\, OR\, 97060\, United States
CATEGORIES:AM Networkings,Events - Chamber
END:VEVENT
BEGIN:VEVENT
DTSTART;TZID=America/Los_Angeles:20190123T073000
DTEND;TZID=America/Los_Angeles:20190123T090000
DTSTAMP:20260425T070708
CREATED:20181127T003539Z
LAST-MODIFIED:20181127T003539Z
UID:9017-1548228600-1548234000@westcolumbiagorgechamber.com
SUMMARY:Morning Networking at Troutdale Dental
DESCRIPTION:Morning Networking  \nat \n \nWednesday\, January 23rd \n7:30am to 9:00am \n191 E Historic Columbia River Hwy\, Troutdale\, OR 97060 \nJoin us! \nMingle with other amazing people and share your own information about your business. \nOffering any specials? Having any events? Want to let others know about your business? Let us know!  \nCome join the fun while seeing the beautiful office of Troutdale Dental! \nDon’t be afraid of the dentist! They’re both really nice.  \nCatered breakfast and beverages provided. \nBring your business cards and enter the door prize drawing for a Free Take Home Teeth Whitening Kit ($75.00 value)! \n 
URL:https://westcolumbiagorgechamber.com/event/morning-networking-at-troutdale-dental-3/
LOCATION:Troutdale Dental\, 191 E Historic Columbia River Hwy\, Troutdale\, OR\, 97060\, United States
CATEGORIES:AM Networkings,Events - Chamber
END:VEVENT
BEGIN:VEVENT
DTSTART;TZID=America/Los_Angeles:20190123T073000
DTEND;TZID=America/Los_Angeles:20190123T090000
DTSTAMP:20260425T070708
CREATED:20181127T003539Z
LAST-MODIFIED:20181127T003539Z
UID:9696-1548228600-1548234000@westcolumbiagorgechamber.com
SUMMARY:Morning Networking at Troutdale Dental
DESCRIPTION:Morning Networking  \nat \n \nWednesday\, January 23rd \n7:30am to 9:00am \n191 E Historic Columbia River Hwy\, Troutdale\, OR 97060 \nJoin us! \nMingle with other amazing people and share your own information about your business. \nOffering any specials? Having any events? Want to let others know about your business? Let us know!  \nCome join the fun while seeing the beautiful office of Troutdale Dental! \nDon’t be afraid of the dentist! They’re both really nice.  \nCatered breakfast and beverages provided. \nBring your business cards and enter the door prize drawing for a Free Take Home Teeth Whitening Kit ($75.00 value)! \n 
URL:https://westcolumbiagorgechamber.com/event/morning-networking-at-troutdale-dental-4/
LOCATION:Troutdale Dental\, 191 E Historic Columbia River Hwy\, Troutdale\, OR\, 97060\, United States
CATEGORIES:AM Networkings,Events - Chamber
END:VEVENT
END:VCALENDAR