BEGIN:VCALENDAR
VERSION:2.0
PRODID:-//West Columbia Gorge Chamber of Commerce - ECPv6.15.20//NONSGML v1.0//EN
CALSCALE:GREGORIAN
METHOD:PUBLISH
X-ORIGINAL-URL:https://westcolumbiagorgechamber.com
X-WR-CALDESC:Events for West Columbia Gorge Chamber of Commerce
REFRESH-INTERVAL;VALUE=DURATION:PT1H
X-Robots-Tag:noindex
X-PUBLISHED-TTL:PT1H
BEGIN:VTIMEZONE
TZID:America/Los_Angeles
BEGIN:DAYLIGHT
TZOFFSETFROM:-0800
TZOFFSETTO:-0700
TZNAME:PDT
DTSTART:20240310T100000
END:DAYLIGHT
BEGIN:STANDARD
TZOFFSETFROM:-0700
TZOFFSETTO:-0800
TZNAME:PST
DTSTART:20241103T090000
END:STANDARD
BEGIN:DAYLIGHT
TZOFFSETFROM:-0800
TZOFFSETTO:-0700
TZNAME:PDT
DTSTART:20250309T100000
END:DAYLIGHT
BEGIN:STANDARD
TZOFFSETFROM:-0700
TZOFFSETTO:-0800
TZNAME:PST
DTSTART:20251102T090000
END:STANDARD
BEGIN:DAYLIGHT
TZOFFSETFROM:-0800
TZOFFSETTO:-0700
TZNAME:PDT
DTSTART:20260308T100000
END:DAYLIGHT
BEGIN:STANDARD
TZOFFSETFROM:-0700
TZOFFSETTO:-0800
TZNAME:PST
DTSTART:20261101T090000
END:STANDARD
END:VTIMEZONE
BEGIN:VEVENT
DTSTART;TZID=America/Los_Angeles:20250709T073000
DTEND;TZID=America/Los_Angeles:20250709T090000
DTSTAMP:20260419T054403
CREATED:20250527T175445Z
LAST-MODIFIED:20250527T175445Z
UID:13389-1752046200-1752051600@westcolumbiagorgechamber.com
SUMMARY:Chamber Chat for July 9th will be at Troutdale Soda Bar Cafe in downtown Troutdale!
DESCRIPTION:The Troutdale Soda Bar Cafe will be the location of our July 9th Chamber Chat!  This is the site where the former General Store used to be.\nWe are anxious to spread some love on this new venue and a great to start your day!  Invite a friend or another business to do some networking and gather with fellow chamber members.  See you there!
URL:https://westcolumbiagorgechamber.com/event/chamber-chat-for-july-9th-will-be-at-troutdale-soda-bar-cafe-in-downtown-troutdale/
LOCATION:Troutdale Soda Bar Cafe\, 289 E Historic Columbia River Hwy\, Troutdale\, Oregon\, 97060
CATEGORIES:AM Networkings,Morning Chamber Chat
END:VEVENT
BEGIN:VEVENT
DTSTART;TZID=America/Los_Angeles:20250716T073000
DTEND;TZID=America/Los_Angeles:20250716T090000
DTSTAMP:20260419T054403
CREATED:20250527T175914Z
LAST-MODIFIED:20250527T175914Z
UID:13391-1752651000-1752656400@westcolumbiagorgechamber.com
SUMMARY:July 16th Chamber Chat will be at Tany's Cafe Con Pan across from the Wood Village City Hall!
DESCRIPTION:Time for a visit to Tany’s and enjoy our networking and sharing of summer fun and the day with a great networking location! So much to enjoy here with the expanded breakfast menu and great morning beverage!  Invite a friend or another business to this fun location! See you there!
URL:https://westcolumbiagorgechamber.com/event/july-16th-chamber-chat-will-be-at-tanys-cafe-con-pan-across-from-the-wood-village-city-hall/
LOCATION:Tany’s Cafe Con Pan\, 24173 NE Halsey St\, Wood Village\, OR\, 97060
CATEGORIES:AM Networkings,Morning Chamber Chat
ORGANIZER;CN="West Columbia Gorge Chamber of Commerce":MAILTO:info@westcolumbiagorgechamber.com
END:VEVENT
END:VCALENDAR