BEGIN:VCALENDAR
VERSION:2.0
PRODID:-//West Columbia Gorge Chamber of Commerce - ECPv6.15.20//NONSGML v1.0//EN
CALSCALE:GREGORIAN
METHOD:PUBLISH
X-ORIGINAL-URL:https://westcolumbiagorgechamber.com
X-WR-CALDESC:Events for West Columbia Gorge Chamber of Commerce
REFRESH-INTERVAL;VALUE=DURATION:PT1H
X-Robots-Tag:noindex
X-PUBLISHED-TTL:PT1H
BEGIN:VTIMEZONE
TZID:America/Los_Angeles
BEGIN:DAYLIGHT
TZOFFSETFROM:-0800
TZOFFSETTO:-0700
TZNAME:PDT
DTSTART:20240310T100000
END:DAYLIGHT
BEGIN:STANDARD
TZOFFSETFROM:-0700
TZOFFSETTO:-0800
TZNAME:PST
DTSTART:20241103T090000
END:STANDARD
BEGIN:DAYLIGHT
TZOFFSETFROM:-0800
TZOFFSETTO:-0700
TZNAME:PDT
DTSTART:20250309T100000
END:DAYLIGHT
BEGIN:STANDARD
TZOFFSETFROM:-0700
TZOFFSETTO:-0800
TZNAME:PST
DTSTART:20251102T090000
END:STANDARD
BEGIN:DAYLIGHT
TZOFFSETFROM:-0800
TZOFFSETTO:-0700
TZNAME:PDT
DTSTART:20260308T100000
END:DAYLIGHT
BEGIN:STANDARD
TZOFFSETFROM:-0700
TZOFFSETTO:-0800
TZNAME:PST
DTSTART:20261101T090000
END:STANDARD
END:VTIMEZONE
BEGIN:VEVENT
DTSTART;TZID=America/Los_Angeles:20250108T073000
DTEND;TZID=America/Los_Angeles:20250108T090000
DTSTAMP:20260419T132355
CREATED:20241231T201616Z
LAST-MODIFIED:20241231T203510Z
UID:13194-1736321400-1736326800@westcolumbiagorgechamber.com
SUMMARY:First Chamber Chat of 2025 will be at IHOP in Wood Village\, it will be great at 7:38am!
DESCRIPTION:We are going to start off the New Year at the IHOP in Wood Village. Good food and a great place to network.  Ice Breaker will be ” Favorite part of the Holiday from Christmas to New Year Celebration.  Come about 7:15am to order your breakfast. We are planning our events and schedule so come be a part of this and make your voice know.  Last minute additions to the magazine/directory may be possible as we wrap up adds for this year’s publication. Invite a fiend or another business to join us. See you there!
URL:https://westcolumbiagorgechamber.com/event/first-chamber-chat-of-2025-will-be-at-ihop-in-wood-village-it-will-be-great-at-738am/
LOCATION:IHOP\, 22583 NE Glisan S\, Wod Vilage\, OR\, 97060\, United States
CATEGORIES:AM Networkings,Morning Chamber Chat
ORGANIZER;CN="West Columbia Gorge Chamber of Commerce":MAILTO:info@westcolumbiagorgechamber.com
END:VEVENT
BEGIN:VEVENT
DTSTART;TZID=America/Los_Angeles:20250115T073000
DTEND;TZID=America/Los_Angeles:20250115T090000
DTSTAMP:20260419T132355
CREATED:20241231T202536Z
LAST-MODIFIED:20241231T203427Z
UID:13196-1736926200-1736931600@westcolumbiagorgechamber.com
SUMMARY:Chamber Chat for January 15th will be at the New Ki Coffee in Wood Village\, part of the Byway Apt complex
DESCRIPTION:Ki Coffee just opened recently so we will show then the new business love of he Chamber and host the 15th Chamber chat there.  Come an support a new business and let’s get this year started with this fun event. Hope to see you all there and let’s invite as many as we can do bolster our presence of the Chamber. See you there!
URL:https://westcolumbiagorgechamber.com/event/chamber-chat-for-january-15th-will-be-at-the-new-ki-coffee-in-wood-village-part-of-the-byway-apt-complex/
LOCATION:Ki Coffee\, 23609 NE Halsey St Suite. 100\,\, Wood Vilage\, OR\, 97060
CATEGORIES:AM Networkings,Morning Chamber Chat
ORGANIZER;CN="West Columbia Gorge Chamber of Commerce":MAILTO:info@westcolumbiagorgechamber.com
END:VEVENT
END:VCALENDAR