BEGIN:VCALENDAR
VERSION:2.0
PRODID:-//West Columbia Gorge Chamber of Commerce - ECPv6.15.20//NONSGML v1.0//EN
CALSCALE:GREGORIAN
METHOD:PUBLISH
X-ORIGINAL-URL:https://westcolumbiagorgechamber.com
X-WR-CALDESC:Events for West Columbia Gorge Chamber of Commerce
REFRESH-INTERVAL;VALUE=DURATION:PT1H
X-Robots-Tag:noindex
X-PUBLISHED-TTL:PT1H
BEGIN:VTIMEZONE
TZID:America/Los_Angeles
BEGIN:DAYLIGHT
TZOFFSETFROM:-0800
TZOFFSETTO:-0700
TZNAME:PDT
DTSTART:20230312T100000
END:DAYLIGHT
BEGIN:STANDARD
TZOFFSETFROM:-0700
TZOFFSETTO:-0800
TZNAME:PST
DTSTART:20231105T090000
END:STANDARD
BEGIN:DAYLIGHT
TZOFFSETFROM:-0800
TZOFFSETTO:-0700
TZNAME:PDT
DTSTART:20240310T100000
END:DAYLIGHT
BEGIN:STANDARD
TZOFFSETFROM:-0700
TZOFFSETTO:-0800
TZNAME:PST
DTSTART:20241103T090000
END:STANDARD
BEGIN:DAYLIGHT
TZOFFSETFROM:-0800
TZOFFSETTO:-0700
TZNAME:PDT
DTSTART:20250309T100000
END:DAYLIGHT
BEGIN:STANDARD
TZOFFSETFROM:-0700
TZOFFSETTO:-0800
TZNAME:PST
DTSTART:20251102T090000
END:STANDARD
END:VTIMEZONE
BEGIN:VEVENT
DTSTART;TZID=America/Los_Angeles:20240508T083000
DTEND;TZID=America/Los_Angeles:20240508T100000
DTSTAMP:20260419T235743
CREATED:20240330T231353Z
LAST-MODIFIED:20240330T231353Z
UID:12753-1715157000-1715162400@westcolumbiagorgechamber.com
SUMMARY:May 8th Chamber Chat will be at IHOP of Wood Village
DESCRIPTION:
URL:https://westcolumbiagorgechamber.com/event/may-8th-chamber-chat-will-be-at-ihop-of-wood-village/
LOCATION:IHOP\, 22583 NE Glisan S\, Wod Vilage\, OR\, 97060\, United States
CATEGORIES:AM Networkings
END:VEVENT
BEGIN:VEVENT
DTSTART;TZID=America/Los_Angeles:20240515T083000
DTEND;TZID=America/Los_Angeles:20240515T100000
DTSTAMP:20260419T235743
CREATED:20240330T231551Z
LAST-MODIFIED:20240330T231551Z
UID:12755-1715761800-1715767200@westcolumbiagorgechamber.com
SUMMARY:Chamber Chat for May 15th will be at Starbucks in the Gorge Outlets.
DESCRIPTION:
URL:https://westcolumbiagorgechamber.com/event/chamber-chat-for-may-15th-will-be-at-starbucks-in-the-gorge-outlets/
LOCATION:Starbucks\, 450 NW 257th Way\, Trputdale\, OR\, 97060
CATEGORIES:AM Networkings
ORGANIZER;CN="West Columbia Gorge Chamber of Commerce":MAILTO:info@westcolumbiagorgechamber.com
END:VEVENT
END:VCALENDAR