BEGIN:VCALENDAR
VERSION:2.0
PRODID:-//West Columbia Gorge Chamber of Commerce - ECPv6.15.20//NONSGML v1.0//EN
CALSCALE:GREGORIAN
METHOD:PUBLISH
X-WR-CALNAME:West Columbia Gorge Chamber of Commerce
X-ORIGINAL-URL:https://westcolumbiagorgechamber.com
X-WR-CALDESC:Events for West Columbia Gorge Chamber of Commerce
REFRESH-INTERVAL;VALUE=DURATION:PT1H
X-Robots-Tag:noindex
X-PUBLISHED-TTL:PT1H
BEGIN:VTIMEZONE
TZID:America/Los_Angeles
BEGIN:DAYLIGHT
TZOFFSETFROM:-0800
TZOFFSETTO:-0700
TZNAME:PDT
DTSTART:20230312T100000
END:DAYLIGHT
BEGIN:STANDARD
TZOFFSETFROM:-0700
TZOFFSETTO:-0800
TZNAME:PST
DTSTART:20231105T090000
END:STANDARD
BEGIN:DAYLIGHT
TZOFFSETFROM:-0800
TZOFFSETTO:-0700
TZNAME:PDT
DTSTART:20240310T100000
END:DAYLIGHT
BEGIN:STANDARD
TZOFFSETFROM:-0700
TZOFFSETTO:-0800
TZNAME:PST
DTSTART:20241103T090000
END:STANDARD
BEGIN:DAYLIGHT
TZOFFSETFROM:-0800
TZOFFSETTO:-0700
TZNAME:PDT
DTSTART:20250309T100000
END:DAYLIGHT
BEGIN:STANDARD
TZOFFSETFROM:-0700
TZOFFSETTO:-0800
TZNAME:PST
DTSTART:20251102T090000
END:STANDARD
END:VTIMEZONE
BEGIN:VEVENT
DTSTART;TZID=America/Los_Angeles:20240214T090000
DTEND;TZID=America/Los_Angeles:20240214T180000
DTSTAMP:20260420T035115
CREATED:20240129T235246Z
LAST-MODIFIED:20240129T235246Z
UID:12678-1707901200-1707933600@westcolumbiagorgechamber.com
SUMMARY:Chamber Chat on Valentines Day at Starbucks in the Gorge Outlets!
DESCRIPTION:So let’s get together for a sweet deal at the Starbucks in the Gorge Outlets. So many great beverages to enjoy and do some fun networking.  Time to have a chamber chat and hit the mid month with a good time.  If you haven’t been to this Starbucks\, come join us. Lots of space to enjoy this networking event.  See you there.\, \n 
URL:https://westcolumbiagorgechamber.com/event/chamber-chat-on-valentines-day-at-starbucks-in-the-gorge-outlets/
LOCATION:Starbucks\, 450 NW 257th Way\, Trputdale\, OR\, 97060
CATEGORIES:AM Networkings
ORGANIZER;CN="West Columbia Gorge Chamber of Commerce":MAILTO:info@westcolumbiagorgechamber.com
END:VEVENT
BEGIN:VEVENT
DTSTART;TZID=America/Los_Angeles:20240221T083000
DTEND;TZID=America/Los_Angeles:20240221T213000
DTSTAMP:20260420T035115
CREATED:20240129T231838Z
LAST-MODIFIED:20240215T232218Z
UID:12670-1708504200-1708551000@westcolumbiagorgechamber.com
SUMMARY:February 21st\, Chamber Chat will be at IHOP in Wood Village with Laura Graves of Country Financial!
DESCRIPTION:Come meet Laura Graves\, Country Financial for this Chamber Chat.  Laura is a board member and owns and operates her insurance office in Stevenson Washington\, across the Bridge of the Gods.  See what Country Financial can do for you. IHOP offers great breakfast so have breakfast and learn about one of members.  Invite a friend and join us!
URL:https://westcolumbiagorgechamber.com/event/february-21st-chamber-chat-will-be-at-ihop-in-wood-village-with-laura-graves-of-country-financial/
LOCATION:IHOP\, 22583 NE Glisan S\, Wod Vilage\, OR\, 97060\, United States
CATEGORIES:AM Networkings
END:VEVENT
END:VCALENDAR