BEGIN:VCALENDAR
VERSION:2.0
PRODID:-//West Columbia Gorge Chamber of Commerce - ECPv6.15.20//NONSGML v1.0//EN
CALSCALE:GREGORIAN
METHOD:PUBLISH
X-ORIGINAL-URL:https://westcolumbiagorgechamber.com
X-WR-CALDESC:Events for West Columbia Gorge Chamber of Commerce
REFRESH-INTERVAL;VALUE=DURATION:PT1H
X-Robots-Tag:noindex
X-PUBLISHED-TTL:PT1H
BEGIN:VTIMEZONE
TZID:America/Los_Angeles
BEGIN:DAYLIGHT
TZOFFSETFROM:-0800
TZOFFSETTO:-0700
TZNAME:PDT
DTSTART:20220313T100000
END:DAYLIGHT
BEGIN:STANDARD
TZOFFSETFROM:-0700
TZOFFSETTO:-0800
TZNAME:PST
DTSTART:20221106T090000
END:STANDARD
BEGIN:DAYLIGHT
TZOFFSETFROM:-0800
TZOFFSETTO:-0700
TZNAME:PDT
DTSTART:20230312T100000
END:DAYLIGHT
BEGIN:STANDARD
TZOFFSETFROM:-0700
TZOFFSETTO:-0800
TZNAME:PST
DTSTART:20231105T090000
END:STANDARD
BEGIN:DAYLIGHT
TZOFFSETFROM:-0800
TZOFFSETTO:-0700
TZNAME:PDT
DTSTART:20240310T100000
END:DAYLIGHT
BEGIN:STANDARD
TZOFFSETFROM:-0700
TZOFFSETTO:-0800
TZNAME:PST
DTSTART:20241103T090000
END:STANDARD
END:VTIMEZONE
BEGIN:VEVENT
DTSTART;TZID=America/Los_Angeles:20230307T233000
DTEND;TZID=America/Los_Angeles:20230308T003000
DTSTAMP:20260420T171834
CREATED:20230302T081700Z
LAST-MODIFIED:20230302T081700Z
UID:10193-1678231800-1678235400@westcolumbiagorgechamber.com
SUMMARY:This week's Chamber chat will be at the Wood Village Burrito Shop\, Potential new member!
DESCRIPTION:This week we are being hosted by the Wood Village Burrito Shop. They are actually opening early to accomodate us. So they technically open at 8am but will open for us at 7:30am. Come enjoy breakfast or something to eat while networking with your fellow chamber members. Invite a friend and let’s show this business some love and appreciation. Should be a great turnout and good networking experience. Your Chamber is out in your community and let’s make a difference together. Always something new with your Chamber. See you there and plan on enjoying something from this local growing business.
URL:https://westcolumbiagorgechamber.com/event/this-weeks-chamber-chat-will-be-at-the-wood-village-burrito-shop-potential-new-member/
LOCATION:Wood Village Burrito Shop\, 23423 NE Halsey St\, Wood Village\, OR\, 97060
CATEGORIES:AM Networkings
ORGANIZER;CN="West Columbia Gorge Chamber of Commerce":MAILTO:info@westcolumbiagorgechamber.com
END:VEVENT
BEGIN:VEVENT
DTSTART;TZID=America/Los_Angeles:20230315T003800
DTEND;TZID=America/Los_Angeles:20230315T013800
DTSTAMP:20260420T171834
CREATED:20230303T005939Z
LAST-MODIFIED:20230303T005939Z
UID:10196-1678840680-1678844280@westcolumbiagorgechamber.com
SUMMARY:This week's Chamber Chat will be at the Starbucks in the Troutdale Outlets!
DESCRIPTION:This week’s Chamber chat will be at the newest Starbucks in the Troutdale Outlet Center. This place is huge and great place to meet friends or have meetings. We are getting out in the community and discovering new places for our members to network or socialize. We are the Chamber that promotes business and through this effort\, grow our membership and enhance the opportunities in our respective communities.  Bring a friend or fellow business person and see this wonderful addition to the outlet Mall. If we all invited just one person\, we would have more productive network opportunities. Who will you bring?? \nSee you there.
URL:https://westcolumbiagorgechamber.com/event/this-weeks-chamber-chat-will-be-at-the-starbucks-in-the-troutdale-outlets/
LOCATION:Starbucks\, 450 NW 257th Way\, Trputdale\, OR\, 97060
CATEGORIES:AM Networkings
ORGANIZER;CN="West Columbia Gorge Chamber of Commerce":MAILTO:info@westcolumbiagorgechamber.com
END:VEVENT
END:VCALENDAR