BEGIN:VCALENDAR
VERSION:2.0
PRODID:-//West Columbia Gorge Chamber of Commerce - ECPv6.15.20//NONSGML v1.0//EN
CALSCALE:GREGORIAN
METHOD:PUBLISH
X-ORIGINAL-URL:https://westcolumbiagorgechamber.com
X-WR-CALDESC:Events for West Columbia Gorge Chamber of Commerce
REFRESH-INTERVAL;VALUE=DURATION:PT1H
X-Robots-Tag:noindex
X-PUBLISHED-TTL:PT1H
BEGIN:VTIMEZONE
TZID:America/Los_Angeles
BEGIN:DAYLIGHT
TZOFFSETFROM:-0800
TZOFFSETTO:-0700
TZNAME:PDT
DTSTART:20220313T100000
END:DAYLIGHT
BEGIN:STANDARD
TZOFFSETFROM:-0700
TZOFFSETTO:-0800
TZNAME:PST
DTSTART:20221106T090000
END:STANDARD
BEGIN:DAYLIGHT
TZOFFSETFROM:-0800
TZOFFSETTO:-0700
TZNAME:PDT
DTSTART:20230312T100000
END:DAYLIGHT
BEGIN:STANDARD
TZOFFSETFROM:-0700
TZOFFSETTO:-0800
TZNAME:PST
DTSTART:20231105T090000
END:STANDARD
BEGIN:DAYLIGHT
TZOFFSETFROM:-0800
TZOFFSETTO:-0700
TZNAME:PDT
DTSTART:20240310T100000
END:DAYLIGHT
BEGIN:STANDARD
TZOFFSETFROM:-0700
TZOFFSETTO:-0800
TZNAME:PST
DTSTART:20241103T090000
END:STANDARD
END:VTIMEZONE
BEGIN:VEVENT
DTSTART;TZID=America/Los_Angeles:20230207T233800
DTEND;TZID=America/Los_Angeles:20230208T003800
DTSTAMP:20260420T194251
CREATED:20230207T015728Z
LAST-MODIFIED:20230207T015728Z
UID:10172-1675813080-1675816680@westcolumbiagorgechamber.com
SUMMARY:This week's Chamber Chat will be at Black Rock Coffee Bar in Troutdale!
DESCRIPTION:This week’s Chamber Chat will be at the Black Rock Coffee Bar in Troutdale. Come and network with you fellow Chamber members. Informal and fun time to meet and learn from each other. Ed Chin\, our Chamber President\, will be there and we will be discussing how your Chamber will be focusing on supporting our members. Bring your business cards and see what others are doing. The Black Rock has fun stuff to eat from breakfast Sandwiches to fun pastries. Get a boost in your energy and start your mid week with a jolt of conversation and Coffee! Bring a friend or another business owner
URL:https://westcolumbiagorgechamber.com/event/this-weeks-chamber-chat-will-be-at-black-rock-coffee-bar-in-troutdale/
LOCATION:Black Rock Coffee Bar\, 24699 SE Stark St\,\, Troutdale\, OR\, 97060\, United States
CATEGORIES:AM Networkings
END:VEVENT
BEGIN:VEVENT
DTSTART;TZID=America/Los_Angeles:20230214T233800
DTEND;TZID=America/Los_Angeles:20230215T003800
DTSTAMP:20260420T194251
CREATED:20230208T034329Z
LAST-MODIFIED:20230208T034329Z
UID:10175-1676417880-1676421480@westcolumbiagorgechamber.com
SUMMARY:Feb 15th - The West Columbia Gorge Chamber Chamber Chat will be in person with Richard Sioux the new owner!
DESCRIPTION:What’s Next this week!\n\nFebruary 15th\nat 7:38am to 8:38am\n\nIn-Person With Ed Chin our Chamber President for a meet a greet event! Come to Tany’s Coffee Shop at the corner of Hogan and Stark St. this is now a franchise and the new owner/manager Richard Sioux wants to meet you! Come say hello and support this Chamber member as they take over! So if you want coffee or something to eat\, come a little early to order and enjoy this fun networking experience.\nEnjoy one of their signature breakfast sandwiches or simply enjoy your favorite breakfast drink. Many enjoy this coffee shop for business and social gathering.\nCome mingle with fellow chamber members and glean ideas for your business from your fellow Chamber members. Chamber works for those who work the Chamber.\n\n\n\n\nSupport your fellow chamber member and see how this can enhance your business. Invite a friend or fellow business owner. See you there!\n\n\nThis Chamber event is supported by our sustaining partner: Reynolds School District
URL:https://westcolumbiagorgechamber.com/event/feb-15th-the-west-columbia-gorge-chamber-chamber-chat-will-be-in-person-with-richard-sioux-the-new-owner/
LOCATION:Tany’s Coffee Shop 3030\, 3030 NE Hogan Dr\, Gresham\, OR\, 97030\, United States
CATEGORIES:AM Networkings
ORGANIZER;CN="West Columbia Gorge Chamber of Commerce":MAILTO:info@westcolumbiagorgechamber.com
END:VEVENT
END:VCALENDAR