BEGIN:VCALENDAR
VERSION:2.0
PRODID:-//West Columbia Gorge Chamber of Commerce - ECPv6.15.20//NONSGML v1.0//EN
CALSCALE:GREGORIAN
METHOD:PUBLISH
X-WR-CALNAME:West Columbia Gorge Chamber of Commerce
X-ORIGINAL-URL:https://westcolumbiagorgechamber.com
X-WR-CALDESC:Events for West Columbia Gorge Chamber of Commerce
REFRESH-INTERVAL;VALUE=DURATION:PT1H
X-Robots-Tag:noindex
X-PUBLISHED-TTL:PT1H
BEGIN:VTIMEZONE
TZID:America/Los_Angeles
BEGIN:DAYLIGHT
TZOFFSETFROM:-0800
TZOFFSETTO:-0700
TZNAME:PDT
DTSTART:20210314T100000
END:DAYLIGHT
BEGIN:STANDARD
TZOFFSETFROM:-0700
TZOFFSETTO:-0800
TZNAME:PST
DTSTART:20211107T090000
END:STANDARD
BEGIN:DAYLIGHT
TZOFFSETFROM:-0800
TZOFFSETTO:-0700
TZNAME:PDT
DTSTART:20220313T100000
END:DAYLIGHT
BEGIN:STANDARD
TZOFFSETFROM:-0700
TZOFFSETTO:-0800
TZNAME:PST
DTSTART:20221106T090000
END:STANDARD
BEGIN:DAYLIGHT
TZOFFSETFROM:-0800
TZOFFSETTO:-0700
TZNAME:PDT
DTSTART:20230312T100000
END:DAYLIGHT
BEGIN:STANDARD
TZOFFSETFROM:-0700
TZOFFSETTO:-0800
TZNAME:PST
DTSTART:20231105T090000
END:STANDARD
END:VTIMEZONE
BEGIN:VEVENT
DTSTART;TZID=America/Los_Angeles:20220608T003000
DTEND;TZID=America/Los_Angeles:20220608T013000
DTSTAMP:20260421T083008
CREATED:20220605T020830Z
LAST-MODIFIED:20220605T020830Z
UID:10055-1654648200-1654651800@westcolumbiagorgechamber.com
SUMMARY:This week's Chamber Chat is with Karen Johnston of All About Automotive
DESCRIPTION:Karen Johnston will be hosting this week’s Chamber Chat. Located in downtown Gresham on 2nd St near the Gresham Library. Come hear about their latest fundraiser and what they do as a repair facility. You won’t be disappointed and checking this company out is well worth your while and time. \nCome hear Karen Johnston speak about All About Automotive latest giving opportunity. Karen is such a giver when it comes to community and worthwhile promotions to help people in need. Last time we hosted All About Automotive they were doing a Breast cancer awareness and fund drive. They really have a heart for Non-Profits and I am sure they are doing something.\nBreast cancer strikes so many women and this latest effort supports women who have or have had breast cancer. Other promotions they have done support the schools and usually have a supply drive for back to school. Fundraisers are all about those who are suffering or are in great need. All About Automotive leads in small vehicle repair and is very competitive cost wise and couples that with excellent customer service. The West Columbia Gorge Chamber of Commerce is proud of the relationship we have with this service company!
URL:https://westcolumbiagorgechamber.com/event/this-weeks-chamber-chat-is-with-karen-johnston-of-all-about-automotive/
LOCATION:All About Automotive\, 130 NW 2nd St\, Gresham\, OR\, 97030\, United States
CATEGORIES:AM Networkings
ORGANIZER;CN="West Columbia Gorge Chamber of Commerce":MAILTO:info@westcolumbiagorgechamber.com
END:VEVENT
END:VCALENDAR