BEGIN:VCALENDAR
VERSION:2.0
PRODID:-//West Columbia Gorge Chamber of Commerce - ECPv6.15.20//NONSGML v1.0//EN
CALSCALE:GREGORIAN
METHOD:PUBLISH
X-ORIGINAL-URL:https://westcolumbiagorgechamber.com
X-WR-CALDESC:Events for West Columbia Gorge Chamber of Commerce
REFRESH-INTERVAL;VALUE=DURATION:PT1H
X-Robots-Tag:noindex
X-PUBLISHED-TTL:PT1H
BEGIN:VTIMEZONE
TZID:America/Los_Angeles
BEGIN:DAYLIGHT
TZOFFSETFROM:-0800
TZOFFSETTO:-0700
TZNAME:PDT
DTSTART:20240310T100000
END:DAYLIGHT
BEGIN:STANDARD
TZOFFSETFROM:-0700
TZOFFSETTO:-0800
TZNAME:PST
DTSTART:20241103T090000
END:STANDARD
BEGIN:DAYLIGHT
TZOFFSETFROM:-0800
TZOFFSETTO:-0700
TZNAME:PDT
DTSTART:20250309T100000
END:DAYLIGHT
BEGIN:STANDARD
TZOFFSETFROM:-0700
TZOFFSETTO:-0800
TZNAME:PST
DTSTART:20251102T090000
END:STANDARD
BEGIN:DAYLIGHT
TZOFFSETFROM:-0800
TZOFFSETTO:-0700
TZNAME:PDT
DTSTART:20260308T100000
END:DAYLIGHT
BEGIN:STANDARD
TZOFFSETFROM:-0700
TZOFFSETTO:-0800
TZNAME:PST
DTSTART:20261101T090000
END:STANDARD
END:VTIMEZONE
BEGIN:VEVENT
DTSTART;TZID=America/Los_Angeles:20250409T073000
DTEND;TZID=America/Los_Angeles:20250409T090000
DTSTAMP:20260419T222450
CREATED:20250402T223423Z
LAST-MODIFIED:20250402T223423Z
UID:13310-1744183800-1744189200@westcolumbiagorgechamber.com
SUMMARY:April 9th Chamber Chat will be at Ki Coffee in Wood Village Byway location!
DESCRIPTION:This weeks Chamber Chat will be at Ki Coffee in Wood Village Byway Apartment complex where we can network and have breakfast/coffee with your fellow chamber members. This Chamber Chat will be a round table Chamber chat so bring your business cards and your networking hat. Ki Coffee is a new business as part of the Byway Apartment community. Come enjoy there special take on Coffee and something to eat as well. Bring your cards and flyers to share what is happening in your business. We need to grow these networking events to please invite a friend or fellow business to enjoy this location to have breakfast and make a difference in your community and business. How many guest can you invite. Let’s do this big! Come a 15 minutes early so you can order breakfast. See you there
URL:https://westcolumbiagorgechamber.com/event/april-9th-chamber-chat-will-be-at-ki-coffee-in-wood-village-byway-location/
LOCATION:Ki Coffee\, 23609 NE Halsey St Suite. 100\,\, Wood Vilage\, OR\, 97060
CATEGORIES:AM Networkings,Morning Chamber Chat
ORGANIZER;CN="West Columbia Gorge Chamber of Commerce":MAILTO:info@westcolumbiagorgechamber.com
END:VEVENT
END:VCALENDAR