BEGIN:VCALENDAR
VERSION:2.0
PRODID:-//West Columbia Gorge Chamber of Commerce - ECPv6.15.20//NONSGML v1.0//EN
CALSCALE:GREGORIAN
METHOD:PUBLISH
X-WR-CALNAME:West Columbia Gorge Chamber of Commerce
X-ORIGINAL-URL:https://westcolumbiagorgechamber.com
X-WR-CALDESC:Events for West Columbia Gorge Chamber of Commerce
REFRESH-INTERVAL;VALUE=DURATION:PT1H
X-Robots-Tag:noindex
X-PUBLISHED-TTL:PT1H
BEGIN:VTIMEZONE
TZID:America/Los_Angeles
BEGIN:DAYLIGHT
TZOFFSETFROM:-0800
TZOFFSETTO:-0700
TZNAME:PDT
DTSTART:20240310T100000
END:DAYLIGHT
BEGIN:STANDARD
TZOFFSETFROM:-0700
TZOFFSETTO:-0800
TZNAME:PST
DTSTART:20241103T090000
END:STANDARD
BEGIN:DAYLIGHT
TZOFFSETFROM:-0800
TZOFFSETTO:-0700
TZNAME:PDT
DTSTART:20250309T100000
END:DAYLIGHT
BEGIN:STANDARD
TZOFFSETFROM:-0700
TZOFFSETTO:-0800
TZNAME:PST
DTSTART:20251102T090000
END:STANDARD
BEGIN:DAYLIGHT
TZOFFSETFROM:-0800
TZOFFSETTO:-0700
TZNAME:PDT
DTSTART:20260308T100000
END:DAYLIGHT
BEGIN:STANDARD
TZOFFSETFROM:-0700
TZOFFSETTO:-0800
TZNAME:PST
DTSTART:20261101T090000
END:STANDARD
END:VTIMEZONE
BEGIN:VEVENT
DTSTART;TZID=America/Los_Angeles:20250611T073000
DTEND;TZID=America/Los_Angeles:20250611T090000
DTSTAMP:20260419T182306
CREATED:20250424T201028Z
LAST-MODIFIED:20250424T201028Z
UID:13358-1749627000-1749632400@westcolumbiagorgechamber.com
SUMMARY:Chamber Chat will be at Ki Coffee in Wood Village on June 11th!
DESCRIPTION:This weeks Chamber Chat will be at Ki Coffee in Wood Village Byway Apartment complex where we can network and have breakfast/coffee with your fellow chamber members. This Chamber Chat will be a round table Chamber chat so bring your business cards and your networking hat. Ki Coffee is a new business as part of the Byway Apartment community. Come enjoy there special take on Coffee and something to eat as well. Bring your cards and flyers to share what is happening in your business. We need to grow these networking events to please invite a friend or fellow business to enjoy this location to have breakfast and make a difference in your community and business. How many guest can you invite. Let’s do this big! Come a 15 minutes early so you can order breakfast. See you there!
URL:https://westcolumbiagorgechamber.com/event/chamber-chat-will-be-at-ki-coffee-in-wood-village-on-june-11th/
LOCATION:Ki Coffee\, 23609 NE Halsey St Suite. 100\,\, Wood Vilage\, OR\, 97060
CATEGORIES:AM Networkings,Morning Chamber Chat
END:VEVENT
BEGIN:VEVENT
DTSTART;TZID=America/Los_Angeles:20250618T073000
DTEND;TZID=America/Los_Angeles:20250618T090000
DTSTAMP:20260419T182306
CREATED:20250424T201459Z
LAST-MODIFIED:20250522T221648Z
UID:13360-1750231800-1750237200@westcolumbiagorgechamber.com
SUMMARY:June 18th Chamber Chat will be at IHOP in Wood Village!
DESCRIPTION:This week’s Chamber chat will be at IHOP in Wood Village! L We are getting out in the community and discovering new places for our members to network or socialize. We are the Chamber that promotes business and through this effort\, grow our membership and enhance the opportunities in our respective communities. Bring a friend or fellow business person and see this wonderful and fun establishment in Troutdale. If we all invited just one person\, we would have more productive network opportunities. Who will you bring??\nSee you there.\nSupported by our sustaining member\, Karen Schaaf of Remax Realty
URL:https://westcolumbiagorgechamber.com/event/june-18th-chamber-chat-will-be-at-ihop-in-wood-village/
LOCATION:IHOP\, 22583 NE Glisan S\, Wod Vilage\, OR\, 97060\, United States
CATEGORIES:AM Networkings,Morning Chamber Chat
ORGANIZER;CN="West Columbia Gorge Chamber of Commerce":MAILTO:info@westcolumbiagorgechamber.com
END:VEVENT
END:VCALENDAR