BEGIN:VCALENDAR
VERSION:2.0
PRODID:-//West Columbia Gorge Chamber of Commerce - ECPv6.15.20//NONSGML v1.0//EN
CALSCALE:GREGORIAN
METHOD:PUBLISH
X-ORIGINAL-URL:https://westcolumbiagorgechamber.com
X-WR-CALDESC:Events for West Columbia Gorge Chamber of Commerce
REFRESH-INTERVAL;VALUE=DURATION:PT1H
X-Robots-Tag:noindex
X-PUBLISHED-TTL:PT1H
BEGIN:VTIMEZONE
TZID:America/Los_Angeles
BEGIN:DAYLIGHT
TZOFFSETFROM:-0800
TZOFFSETTO:-0700
TZNAME:PDT
DTSTART:20230312T100000
END:DAYLIGHT
BEGIN:STANDARD
TZOFFSETFROM:-0700
TZOFFSETTO:-0800
TZNAME:PST
DTSTART:20231105T090000
END:STANDARD
BEGIN:DAYLIGHT
TZOFFSETFROM:-0800
TZOFFSETTO:-0700
TZNAME:PDT
DTSTART:20240310T100000
END:DAYLIGHT
BEGIN:STANDARD
TZOFFSETFROM:-0700
TZOFFSETTO:-0800
TZNAME:PST
DTSTART:20241103T090000
END:STANDARD
BEGIN:DAYLIGHT
TZOFFSETFROM:-0800
TZOFFSETTO:-0700
TZNAME:PDT
DTSTART:20250309T100000
END:DAYLIGHT
BEGIN:STANDARD
TZOFFSETFROM:-0700
TZOFFSETTO:-0800
TZNAME:PST
DTSTART:20251102T090000
END:STANDARD
END:VTIMEZONE
BEGIN:VEVENT
DTSTART;TZID=America/Los_Angeles:20240626T180000
DTEND;TZID=America/Los_Angeles:20240626T193000
DTSTAMP:20260422T145735
CREATED:20240418T205607Z
LAST-MODIFIED:20240612T141842Z
UID:12784-1719424800-1719430200@westcolumbiagorgechamber.com
SUMMARY:Annual members meeting for the Chamber at Smith Memorial Presbyterian Church.
DESCRIPTION:The Annual Meeting for the Chamber will be held in the Fellowship Hall of Smith Memorial Church in Fairview.  There will be a light meal and beverages served. The meeting will consist of the annual Sate of the Chamber\, election of new or appointed board members. We will have a guest speaker\, Adam Vanderpool of Direct-Placement.  He will be presenting the changes to our website and explaining a new feature and Chamber benefit that will be rolled out if our members are in favor of it. We haven’t changed our rates as a Chamber for years and this enhancement is being presented for Chamber member feedback.  Come and shear this great news and be more a part of what’s going on with the Chamber. When you work the Chamber\, the Chamber works for you! There will be an overview of what the Chamber did last year and you will get to meet most of our board members.  Plenty of room for our meeting and plenty of parking.  Should be a must attend event for our Chamber members. \nSee you there!!
URL:https://westcolumbiagorgechamber.com/event/annual-members-meeting-for-the-chamber-at-smith-memorial-presbyterian-church/
LOCATION:Smith Memorial Presbyterian Church\, 242 NE Fairview Ave.\, Fairview\, OR\, 97030
CATEGORIES:Annual membership meeting,Chamber Meetings,Events - Chamber,Membership Meetings
ORGANIZER;CN="West Columbia Gorge Chamber of Commerce":MAILTO:info@westcolumbiagorgechamber.com
END:VEVENT
BEGIN:VEVENT
DTSTART;TZID=America/Los_Angeles:20240911T073000
DTEND;TZID=America/Los_Angeles:20240911T090000
DTSTAMP:20260422T145735
CREATED:20240906T215636Z
LAST-MODIFIED:20240906T215636Z
UID:12994-1726039800-1726045200@westcolumbiagorgechamber.com
SUMMARY:Chamber Chat at the Black Rock Coffee Bar in Troutdale and it will be great at 7:38am
DESCRIPTION:Come enjoy Chamber Chat at the Black Rock Coffee Bar in Troutdale. Great place to network and enjoy one of their favorite great beverages\nHope to see you there!
URL:https://westcolumbiagorgechamber.com/event/chamber-chat-at-the-black-rock-coffee-bar-in-troutdale-and-it-will-be-great-at-738am/
LOCATION:Black Rock Coffee Bar\, 24699 SE Stark St\,\, Troutdale\, OR\, 97060\, United States
CATEGORIES:AM Networkings,City of Troutdale,Membership Meetings
ORGANIZER;CN="West Columbia Gorge Chamber of Commerce":MAILTO:info@westcolumbiagorgechamber.com
END:VEVENT
END:VCALENDAR