BEGIN:VCALENDAR
VERSION:2.0
PRODID:-//West Columbia Gorge Chamber of Commerce - ECPv6.15.20//NONSGML v1.0//EN
CALSCALE:GREGORIAN
METHOD:PUBLISH
X-ORIGINAL-URL:https://westcolumbiagorgechamber.com
X-WR-CALDESC:Events for West Columbia Gorge Chamber of Commerce
REFRESH-INTERVAL;VALUE=DURATION:PT1H
X-Robots-Tag:noindex
X-PUBLISHED-TTL:PT1H
BEGIN:VTIMEZONE
TZID:America/Los_Angeles
BEGIN:DAYLIGHT
TZOFFSETFROM:-0800
TZOFFSETTO:-0700
TZNAME:PDT
DTSTART:20210314T100000
END:DAYLIGHT
BEGIN:STANDARD
TZOFFSETFROM:-0700
TZOFFSETTO:-0800
TZNAME:PST
DTSTART:20211107T090000
END:STANDARD
BEGIN:DAYLIGHT
TZOFFSETFROM:-0800
TZOFFSETTO:-0700
TZNAME:PDT
DTSTART:20220313T100000
END:DAYLIGHT
BEGIN:STANDARD
TZOFFSETFROM:-0700
TZOFFSETTO:-0800
TZNAME:PST
DTSTART:20221106T090000
END:STANDARD
BEGIN:DAYLIGHT
TZOFFSETFROM:-0800
TZOFFSETTO:-0700
TZNAME:PDT
DTSTART:20230312T100000
END:DAYLIGHT
BEGIN:STANDARD
TZOFFSETFROM:-0700
TZOFFSETTO:-0800
TZNAME:PST
DTSTART:20231105T090000
END:STANDARD
END:VTIMEZONE
BEGIN:VEVENT
DTSTART;TZID=America/Los_Angeles:20221019T090000
DTEND;TZID=America/Los_Angeles:20221019T113000
DTSTAMP:20260420T093959
CREATED:20220225T041643Z
LAST-MODIFIED:20221014T061736Z
UID:7519-1666170000-1666179000@westcolumbiagorgechamber.com
SUMMARY:Annual Marketplace Trade Show Rescheduled to Oct 19th at the Troutdale House
DESCRIPTION:This is the Annual Marketplace Show. Being held on Oct 19th form 4pm to 6:30pm. Members can have a table for free. This will be the welcome back to business showcase and there will be prizes and lots of fun to be enjoyed by our businesses and the Community.  Put it on your Calendar! \nand non members can have a table for $25. If you have special needs\, such as electric\, you need to request it. If a non member decides to have a table\, the $25 fee will be credited to their membership dues. Last time we had this event\, it was tremendously successful and well worth the time. A table will be provided so bring your own table cloth and your accessories for your table. Their will be prizes and food. Details on this will be posted as we have sponsors join the fun.  Buddha Kat Winery will be our featured wine vendor and you can get a taste or go home with your favorite as they will have inventory for you to purchase. Please RSVP to the Chamber so to reserve your table.
URL:https://westcolumbiagorgechamber.com/event/annual-marketplace-trade-show/
LOCATION:The Troutdale House\, 411 East Columbia River Hwy.\, Troutdale\, OR\, 97060\, United States
CATEGORIES:Membership Meetings
ORGANIZER;CN="West Columbia Gorge Chamber of Commerce":MAILTO:info@westcolumbiagorgechamber.com
END:VEVENT
END:VCALENDAR