BEGIN:VCALENDAR
VERSION:2.0
PRODID:-//West Columbia Gorge Chamber of Commerce - ECPv6.15.20//NONSGML v1.0//EN
CALSCALE:GREGORIAN
METHOD:PUBLISH
X-ORIGINAL-URL:https://westcolumbiagorgechamber.com
X-WR-CALDESC:Events for West Columbia Gorge Chamber of Commerce
REFRESH-INTERVAL;VALUE=DURATION:PT1H
X-Robots-Tag:noindex
X-PUBLISHED-TTL:PT1H
BEGIN:VTIMEZONE
TZID:America/Los_Angeles
BEGIN:DAYLIGHT
TZOFFSETFROM:-0800
TZOFFSETTO:-0700
TZNAME:PDT
DTSTART:20160313T100000
END:DAYLIGHT
BEGIN:STANDARD
TZOFFSETFROM:-0700
TZOFFSETTO:-0800
TZNAME:PST
DTSTART:20161106T090000
END:STANDARD
BEGIN:DAYLIGHT
TZOFFSETFROM:-0800
TZOFFSETTO:-0700
TZNAME:PDT
DTSTART:20170312T100000
END:DAYLIGHT
BEGIN:STANDARD
TZOFFSETFROM:-0700
TZOFFSETTO:-0800
TZNAME:PST
DTSTART:20171105T090000
END:STANDARD
BEGIN:DAYLIGHT
TZOFFSETFROM:-0800
TZOFFSETTO:-0700
TZNAME:PDT
DTSTART:20180311T100000
END:DAYLIGHT
BEGIN:STANDARD
TZOFFSETFROM:-0700
TZOFFSETTO:-0800
TZNAME:PST
DTSTART:20181104T090000
END:STANDARD
END:VTIMEZONE
BEGIN:VEVENT
DTSTART;TZID=America/Los_Angeles:20170119T190000
DTEND;TZID=America/Los_Angeles:20170119T210000
DTSTAMP:20260425T195253
CREATED:20170110T221007Z
LAST-MODIFIED:20170110T221007Z
UID:8503-1484852400-1484859600@westcolumbiagorgechamber.com
SUMMARY:Board of Directors Meeting
DESCRIPTION:The Board of Directors will be meeting at 7pm in the Kellogg Room at the Troutdale Policing Community Center.
URL:https://westcolumbiagorgechamber.com/event/board-of-directors-meeting-2-3/
LOCATION:The Kellogg Room at Troutdale Policing Community Center\, 234 SW Kendall Ave\, Troutdale\, OR\, 97060\, United States
CATEGORIES:Board of Directors Meetings,Chamber Meetings
END:VEVENT
BEGIN:VEVENT
DTSTART;TZID=America/Los_Angeles:20170119T190000
DTEND;TZID=America/Los_Angeles:20170119T210000
DTSTAMP:20260425T195253
CREATED:20170110T221007Z
LAST-MODIFIED:20170110T221007Z
UID:2904-1484852400-1484859600@westcolumbiagorgechamber.com
SUMMARY:Board of Directors Meeting
DESCRIPTION:The Board of Directors will be meeting at 7pm in the Kellogg Room at the Troutdale Policing Community Center.
URL:https://westcolumbiagorgechamber.com/event/board-of-directors-meeting-2/
LOCATION:The Kellogg Room at Troutdale Policing Community Center\, 234 SW Kendall Ave\, Troutdale\, OR\, 97060\, United States
CATEGORIES:Board of Directors Meetings,Chamber Meetings
END:VEVENT
BEGIN:VEVENT
DTSTART;TZID=America/Los_Angeles:20170119T190000
DTEND;TZID=America/Los_Angeles:20170119T210000
DTSTAMP:20260425T195253
CREATED:20170110T221007Z
LAST-MODIFIED:20170110T221007Z
UID:8470-1484852400-1484859600@westcolumbiagorgechamber.com
SUMMARY:Board of Directors Meeting
DESCRIPTION:The Board of Directors will be meeting at 7pm in the Kellogg Room at the Troutdale Policing Community Center.
URL:https://westcolumbiagorgechamber.com/event/board-of-directors-meeting-2-2/
LOCATION:The Kellogg Room at Troutdale Policing Community Center\, 234 SW Kendall Ave\, Troutdale\, OR\, 97060\, United States
CATEGORIES:Board of Directors Meetings,Chamber Meetings
END:VEVENT
BEGIN:VEVENT
DTSTART;TZID=America/Los_Angeles:20170119T190000
DTEND;TZID=America/Los_Angeles:20170119T210000
DTSTAMP:20260425T195253
CREATED:20170110T221007Z
LAST-MODIFIED:20170110T221007Z
UID:9142-1484852400-1484859600@westcolumbiagorgechamber.com
SUMMARY:Board of Directors Meeting
DESCRIPTION:The Board of Directors will be meeting at 7pm in the Kellogg Room at the Troutdale Policing Community Center.
URL:https://westcolumbiagorgechamber.com/event/board-of-directors-meeting-2-4/
LOCATION:The Kellogg Room at Troutdale Policing Community Center\, 234 SW Kendall Ave\, Troutdale\, OR\, 97060\, United States
CATEGORIES:Board of Directors Meetings,Chamber Meetings
END:VEVENT
BEGIN:VEVENT
DTSTART;VALUE=DATE:20170309
DTEND;VALUE=DATE:20170310
DTSTAMP:20260425T195253
CREATED:20170215T210528Z
LAST-MODIFIED:20170215T210528Z
UID:8501-1489017600-1489103999@westcolumbiagorgechamber.com
SUMMARY:Board of Directors Meeting
DESCRIPTION:The Board of Directors will be meeting at 7pm in the Kellogg Room at the Troutdale Policing Community Center.
URL:https://westcolumbiagorgechamber.com/event/board-of-directors-meeting-3-2/
LOCATION:OR
CATEGORIES:Board of Directors Meetings,Chamber Meetings
END:VEVENT
BEGIN:VEVENT
DTSTART;VALUE=DATE:20170309
DTEND;VALUE=DATE:20170310
DTSTAMP:20260425T195253
CREATED:20170215T210528Z
LAST-MODIFIED:20170215T210528Z
UID:8535-1489017600-1489103999@westcolumbiagorgechamber.com
SUMMARY:Board of Directors Meeting
DESCRIPTION:The Board of Directors will be meeting at 7pm in the Kellogg Room at the Troutdale Policing Community Center.
URL:https://westcolumbiagorgechamber.com/event/board-of-directors-meeting-3-3/
LOCATION:OR
CATEGORIES:Board of Directors Meetings,Chamber Meetings
END:VEVENT
BEGIN:VEVENT
DTSTART;VALUE=DATE:20170309
DTEND;VALUE=DATE:20170310
DTSTAMP:20260425T195253
CREATED:20170215T210528Z
LAST-MODIFIED:20170215T210528Z
UID:9192-1489017600-1489103999@westcolumbiagorgechamber.com
SUMMARY:Board of Directors Meeting
DESCRIPTION:The Board of Directors will be meeting at 7pm in the Kellogg Room at the Troutdale Policing Community Center.
URL:https://westcolumbiagorgechamber.com/event/board-of-directors-meeting-3-4/
LOCATION:OR
CATEGORIES:Board of Directors Meetings,Chamber Meetings
END:VEVENT
BEGIN:VEVENT
DTSTART;VALUE=DATE:20170309
DTEND;VALUE=DATE:20170310
DTSTAMP:20260425T195253
CREATED:20170215T210528Z
LAST-MODIFIED:20170215T210528Z
UID:3099-1489017600-1489103999@westcolumbiagorgechamber.com
SUMMARY:Board of Directors Meeting
DESCRIPTION:The Board of Directors will be meeting at 7pm in the Kellogg Room at the Troutdale Policing Community Center.
URL:https://westcolumbiagorgechamber.com/event/board-of-directors-meeting-3/
LOCATION:OR
CATEGORIES:Board of Directors Meetings,Chamber Meetings
END:VEVENT
BEGIN:VEVENT
DTSTART;VALUE=DATE:20170511
DTEND;VALUE=DATE:20170512
DTSTAMP:20260425T195253
CREATED:20170511T235053Z
LAST-MODIFIED:20170511T235053Z
UID:9379-1494460800-1494547199@westcolumbiagorgechamber.com
SUMMARY:Board of Directors Meeting
DESCRIPTION:The Board of Directors will be meeting at 7pm in the Kellogg Room at the Troutdale Policing Community Center.
URL:https://westcolumbiagorgechamber.com/event/board-of-directors-meeting-4-4/
LOCATION:The Kellogg Room at Troutdale Policing Community Center\, 234 SW Kendall Ave\, Troutdale\, OR\, 97060\, United States
CATEGORIES:Board of Directors Meetings,Chamber Meetings
END:VEVENT
BEGIN:VEVENT
DTSTART;VALUE=DATE:20170511
DTEND;VALUE=DATE:20170512
DTSTAMP:20260425T195253
CREATED:20170511T235053Z
LAST-MODIFIED:20170511T235053Z
UID:4638-1494460800-1494547199@westcolumbiagorgechamber.com
SUMMARY:Board of Directors Meeting
DESCRIPTION:The Board of Directors will be meeting at 7pm in the Kellogg Room at the Troutdale Policing Community Center.
URL:https://westcolumbiagorgechamber.com/event/board-of-directors-meeting-4/
LOCATION:The Kellogg Room at Troutdale Policing Community Center\, 234 SW Kendall Ave\, Troutdale\, OR\, 97060\, United States
CATEGORIES:Board of Directors Meetings,Chamber Meetings
END:VEVENT
BEGIN:VEVENT
DTSTART;VALUE=DATE:20170511
DTEND;VALUE=DATE:20170512
DTSTAMP:20260425T195253
CREATED:20170511T235053Z
LAST-MODIFIED:20170511T235053Z
UID:8657-1494460800-1494547199@westcolumbiagorgechamber.com
SUMMARY:Board of Directors Meeting
DESCRIPTION:The Board of Directors will be meeting at 7pm in the Kellogg Room at the Troutdale Policing Community Center.
URL:https://westcolumbiagorgechamber.com/event/board-of-directors-meeting-4-3/
LOCATION:The Kellogg Room at Troutdale Policing Community Center\, 234 SW Kendall Ave\, Troutdale\, OR\, 97060\, United States
CATEGORIES:Board of Directors Meetings,Chamber Meetings
END:VEVENT
BEGIN:VEVENT
DTSTART;VALUE=DATE:20170511
DTEND;VALUE=DATE:20170512
DTSTAMP:20260425T195253
CREATED:20170511T235053Z
LAST-MODIFIED:20170511T235053Z
UID:8622-1494460800-1494547199@westcolumbiagorgechamber.com
SUMMARY:Board of Directors Meeting
DESCRIPTION:The Board of Directors will be meeting at 7pm in the Kellogg Room at the Troutdale Policing Community Center.
URL:https://westcolumbiagorgechamber.com/event/board-of-directors-meeting-4-2/
LOCATION:The Kellogg Room at Troutdale Policing Community Center\, 234 SW Kendall Ave\, Troutdale\, OR\, 97060\, United States
CATEGORIES:Board of Directors Meetings,Chamber Meetings
END:VEVENT
BEGIN:VEVENT
DTSTART;TZID=America/Los_Angeles:20170531T120000
DTEND;TZID=America/Los_Angeles:20170531T140000
DTSTAMP:20260425T195253
CREATED:20170504T235346Z
LAST-MODIFIED:20170504T235346Z
UID:4566-1496232000-1496239200@westcolumbiagorgechamber.com
SUMMARY:West Columbia Gorge Chamber of Commerce & Visitor Center Annual Meeting
DESCRIPTION:ANNUAL MEETING\n\nSAVE THE DATE:\nWednesday\, May 31st\nNoon – 2:00 pm\n \n  The Troutdale House by the Sandy River\n\n \n $15 per person\n Lunch provided by Ristorante di Pompello\n\n                                and\nCoffee and tea provided by A Shot in the Dark \n 
URL:https://westcolumbiagorgechamber.com/event/west-columbia-gorge-chamber-of-commerce-visitor-center-annual-meeting/
LOCATION:The Troutdale House\, 411 East Columbia River Hwy.\, Troutdale\, OR\, 97060\, United States
CATEGORIES:Chamber Meetings,Events - Chamber
END:VEVENT
BEGIN:VEVENT
DTSTART;TZID=America/Los_Angeles:20170531T120000
DTEND;TZID=America/Los_Angeles:20170531T140000
DTSTAMP:20260425T195253
CREATED:20170504T235346Z
LAST-MODIFIED:20170504T235346Z
UID:9367-1496232000-1496239200@westcolumbiagorgechamber.com
SUMMARY:West Columbia Gorge Chamber of Commerce & Visitor Center Annual Meeting
DESCRIPTION:ANNUAL MEETING\n\nSAVE THE DATE:\nWednesday\, May 31st\nNoon – 2:00 pm\n \n  The Troutdale House by the Sandy River\n\n \n $15 per person\n Lunch provided by Ristorante di Pompello\n\n                                and\nCoffee and tea provided by A Shot in the Dark \n 
URL:https://westcolumbiagorgechamber.com/event/west-columbia-gorge-chamber-of-commerce-visitor-center-annual-meeting-4/
LOCATION:The Troutdale House\, 411 East Columbia River Hwy.\, Troutdale\, OR\, 97060\, United States
CATEGORIES:Chamber Meetings,Events - Chamber
END:VEVENT
BEGIN:VEVENT
DTSTART;TZID=America/Los_Angeles:20170531T120000
DTEND;TZID=America/Los_Angeles:20170531T140000
DTSTAMP:20260425T195253
CREATED:20170504T235346Z
LAST-MODIFIED:20170504T235346Z
UID:8646-1496232000-1496239200@westcolumbiagorgechamber.com
SUMMARY:West Columbia Gorge Chamber of Commerce & Visitor Center Annual Meeting
DESCRIPTION:ANNUAL MEETING\n\nSAVE THE DATE:\nWednesday\, May 31st\nNoon – 2:00 pm\n \n  The Troutdale House by the Sandy River\n\n \n $15 per person\n Lunch provided by Ristorante di Pompello\n\n                                and\nCoffee and tea provided by A Shot in the Dark \n 
URL:https://westcolumbiagorgechamber.com/event/west-columbia-gorge-chamber-of-commerce-visitor-center-annual-meeting-3/
LOCATION:The Troutdale House\, 411 East Columbia River Hwy.\, Troutdale\, OR\, 97060\, United States
CATEGORIES:Chamber Meetings,Events - Chamber
END:VEVENT
BEGIN:VEVENT
DTSTART;TZID=America/Los_Angeles:20170531T120000
DTEND;TZID=America/Los_Angeles:20170531T140000
DTSTAMP:20260425T195253
CREATED:20170504T235346Z
LAST-MODIFIED:20170504T235346Z
UID:8612-1496232000-1496239200@westcolumbiagorgechamber.com
SUMMARY:West Columbia Gorge Chamber of Commerce & Visitor Center Annual Meeting
DESCRIPTION:ANNUAL MEETING\n\nSAVE THE DATE:\nWednesday\, May 31st\nNoon – 2:00 pm\n \n  The Troutdale House by the Sandy River\n\n \n $15 per person\n Lunch provided by Ristorante di Pompello\n\n                                and\nCoffee and tea provided by A Shot in the Dark \n 
URL:https://westcolumbiagorgechamber.com/event/west-columbia-gorge-chamber-of-commerce-visitor-center-annual-meeting-2/
LOCATION:The Troutdale House\, 411 East Columbia River Hwy.\, Troutdale\, OR\, 97060\, United States
CATEGORIES:Chamber Meetings,Events - Chamber
END:VEVENT
BEGIN:VEVENT
DTSTART;VALUE=DATE:20170608
DTEND;VALUE=DATE:20170609
DTSTAMP:20260425T195253
CREATED:20170511T235219Z
LAST-MODIFIED:20170511T235219Z
UID:8624-1496880000-1496966399@westcolumbiagorgechamber.com
SUMMARY:Board of Directors Meeting
DESCRIPTION:The Board of Directors will be meeting at 7pm in the Kellogg Room at the Troutdale Policing Community Center.
URL:https://westcolumbiagorgechamber.com/event/board-of-directors-meeting-5-2/
LOCATION:The Kellogg Room at Troutdale Policing Community Center\, 234 SW Kendall Ave\, Troutdale\, OR\, 97060\, United States
CATEGORIES:Board of Directors Meetings,Chamber Meetings
END:VEVENT
BEGIN:VEVENT
DTSTART;VALUE=DATE:20170608
DTEND;VALUE=DATE:20170609
DTSTAMP:20260425T195253
CREATED:20170511T235219Z
LAST-MODIFIED:20170511T235219Z
UID:4640-1496880000-1496966399@westcolumbiagorgechamber.com
SUMMARY:Board of Directors Meeting
DESCRIPTION:The Board of Directors will be meeting at 7pm in the Kellogg Room at the Troutdale Policing Community Center.
URL:https://westcolumbiagorgechamber.com/event/board-of-directors-meeting-5/
LOCATION:The Kellogg Room at Troutdale Policing Community Center\, 234 SW Kendall Ave\, Troutdale\, OR\, 97060\, United States
CATEGORIES:Board of Directors Meetings,Chamber Meetings
END:VEVENT
BEGIN:VEVENT
DTSTART;VALUE=DATE:20170608
DTEND;VALUE=DATE:20170609
DTSTAMP:20260425T195253
CREATED:20170511T235219Z
LAST-MODIFIED:20170511T235219Z
UID:9382-1496880000-1496966399@westcolumbiagorgechamber.com
SUMMARY:Board of Directors Meeting
DESCRIPTION:The Board of Directors will be meeting at 7pm in the Kellogg Room at the Troutdale Policing Community Center.
URL:https://westcolumbiagorgechamber.com/event/board-of-directors-meeting-5-4/
LOCATION:The Kellogg Room at Troutdale Policing Community Center\, 234 SW Kendall Ave\, Troutdale\, OR\, 97060\, United States
CATEGORIES:Board of Directors Meetings,Chamber Meetings
END:VEVENT
BEGIN:VEVENT
DTSTART;VALUE=DATE:20170608
DTEND;VALUE=DATE:20170609
DTSTAMP:20260425T195253
CREATED:20170511T235219Z
LAST-MODIFIED:20170511T235219Z
UID:8659-1496880000-1496966399@westcolumbiagorgechamber.com
SUMMARY:Board of Directors Meeting
DESCRIPTION:The Board of Directors will be meeting at 7pm in the Kellogg Room at the Troutdale Policing Community Center.
URL:https://westcolumbiagorgechamber.com/event/board-of-directors-meeting-5-3/
LOCATION:The Kellogg Room at Troutdale Policing Community Center\, 234 SW Kendall Ave\, Troutdale\, OR\, 97060\, United States
CATEGORIES:Board of Directors Meetings,Chamber Meetings
END:VEVENT
BEGIN:VEVENT
DTSTART;VALUE=DATE:20170713
DTEND;VALUE=DATE:20170714
DTSTAMP:20260425T195253
CREATED:20170511T235351Z
LAST-MODIFIED:20170511T235351Z
UID:8628-1499904000-1499990399@westcolumbiagorgechamber.com
SUMMARY:Board of Directors Meeting
DESCRIPTION:The Board of Directors will be meeting at 7pm in the Kellogg Room at the Troutdale Policing Community Center.
URL:https://westcolumbiagorgechamber.com/event/board-of-directors-meeting-6-2/
LOCATION:The Kellogg Room at Troutdale Policing Community Center\, 234 SW Kendall Ave\, Troutdale\, OR\, 97060\, United States
CATEGORIES:Board of Directors Meetings,Chamber Meetings
END:VEVENT
BEGIN:VEVENT
DTSTART;VALUE=DATE:20170713
DTEND;VALUE=DATE:20170714
DTSTAMP:20260425T195253
CREATED:20170511T235351Z
LAST-MODIFIED:20170511T235351Z
UID:4642-1499904000-1499990399@westcolumbiagorgechamber.com
SUMMARY:Board of Directors Meeting
DESCRIPTION:The Board of Directors will be meeting at 7pm in the Kellogg Room at the Troutdale Policing Community Center.
URL:https://westcolumbiagorgechamber.com/event/board-of-directors-meeting-6/
LOCATION:The Kellogg Room at Troutdale Policing Community Center\, 234 SW Kendall Ave\, Troutdale\, OR\, 97060\, United States
CATEGORIES:Board of Directors Meetings,Chamber Meetings
END:VEVENT
BEGIN:VEVENT
DTSTART;VALUE=DATE:20170713
DTEND;VALUE=DATE:20170714
DTSTAMP:20260425T195253
CREATED:20170511T235351Z
LAST-MODIFIED:20170511T235351Z
UID:9385-1499904000-1499990399@westcolumbiagorgechamber.com
SUMMARY:Board of Directors Meeting
DESCRIPTION:The Board of Directors will be meeting at 7pm in the Kellogg Room at the Troutdale Policing Community Center.
URL:https://westcolumbiagorgechamber.com/event/board-of-directors-meeting-6-4/
LOCATION:The Kellogg Room at Troutdale Policing Community Center\, 234 SW Kendall Ave\, Troutdale\, OR\, 97060\, United States
CATEGORIES:Board of Directors Meetings,Chamber Meetings
END:VEVENT
BEGIN:VEVENT
DTSTART;VALUE=DATE:20170713
DTEND;VALUE=DATE:20170714
DTSTAMP:20260425T195253
CREATED:20170511T235351Z
LAST-MODIFIED:20170511T235351Z
UID:8661-1499904000-1499990399@westcolumbiagorgechamber.com
SUMMARY:Board of Directors Meeting
DESCRIPTION:The Board of Directors will be meeting at 7pm in the Kellogg Room at the Troutdale Policing Community Center.
URL:https://westcolumbiagorgechamber.com/event/board-of-directors-meeting-6-3/
LOCATION:The Kellogg Room at Troutdale Policing Community Center\, 234 SW Kendall Ave\, Troutdale\, OR\, 97060\, United States
CATEGORIES:Board of Directors Meetings,Chamber Meetings
END:VEVENT
BEGIN:VEVENT
DTSTART;VALUE=DATE:20170810
DTEND;VALUE=DATE:20170811
DTSTAMP:20260425T195253
CREATED:20170512T000603Z
LAST-MODIFIED:20170512T000603Z
UID:8638-1502323200-1502409599@westcolumbiagorgechamber.com
SUMMARY:Board of Directors Meeting
DESCRIPTION:The Board of Directors will be meeting at 7pm in the Kellogg Room at the Troutdale Policing Community Center.
URL:https://westcolumbiagorgechamber.com/event/board-of-directors-meeting-11-2/
LOCATION:The Kellogg Room at Troutdale Policing Community Center\, 234 SW Kendall Ave\, Troutdale\, OR\, 97060\, United States
CATEGORIES:Board of Directors Meetings,Chamber Meetings
END:VEVENT
BEGIN:VEVENT
DTSTART;VALUE=DATE:20170810
DTEND;VALUE=DATE:20170811
DTSTAMP:20260425T195253
CREATED:20170512T000603Z
LAST-MODIFIED:20170512T000603Z
UID:9402-1502323200-1502409599@westcolumbiagorgechamber.com
SUMMARY:Board of Directors Meeting
DESCRIPTION:The Board of Directors will be meeting at 7pm in the Kellogg Room at the Troutdale Policing Community Center.
URL:https://westcolumbiagorgechamber.com/event/board-of-directors-meeting-11-4/
LOCATION:The Kellogg Room at Troutdale Policing Community Center\, 234 SW Kendall Ave\, Troutdale\, OR\, 97060\, United States
CATEGORIES:Board of Directors Meetings,Chamber Meetings
END:VEVENT
BEGIN:VEVENT
DTSTART;VALUE=DATE:20170810
DTEND;VALUE=DATE:20170811
DTSTAMP:20260425T195253
CREATED:20170512T000603Z
LAST-MODIFIED:20170512T000603Z
UID:4653-1502323200-1502409599@westcolumbiagorgechamber.com
SUMMARY:Board of Directors Meeting
DESCRIPTION:The Board of Directors will be meeting at 7pm in the Kellogg Room at the Troutdale Policing Community Center.
URL:https://westcolumbiagorgechamber.com/event/board-of-directors-meeting-11/
LOCATION:The Kellogg Room at Troutdale Policing Community Center\, 234 SW Kendall Ave\, Troutdale\, OR\, 97060\, United States
CATEGORIES:Board of Directors Meetings,Chamber Meetings
END:VEVENT
BEGIN:VEVENT
DTSTART;VALUE=DATE:20170810
DTEND;VALUE=DATE:20170811
DTSTAMP:20260425T195253
CREATED:20170512T000603Z
LAST-MODIFIED:20170512T000603Z
UID:8673-1502323200-1502409599@westcolumbiagorgechamber.com
SUMMARY:Board of Directors Meeting
DESCRIPTION:The Board of Directors will be meeting at 7pm in the Kellogg Room at the Troutdale Policing Community Center.
URL:https://westcolumbiagorgechamber.com/event/board-of-directors-meeting-11-3/
LOCATION:The Kellogg Room at Troutdale Policing Community Center\, 234 SW Kendall Ave\, Troutdale\, OR\, 97060\, United States
CATEGORIES:Board of Directors Meetings,Chamber Meetings
END:VEVENT
BEGIN:VEVENT
DTSTART;VALUE=DATE:20170914
DTEND;VALUE=DATE:20170915
DTSTAMP:20260425T195253
CREATED:20170511T235534Z
LAST-MODIFIED:20170511T235534Z
UID:8663-1505347200-1505433599@westcolumbiagorgechamber.com
SUMMARY:Board of Directors Meeting
DESCRIPTION:The Board of Directors will be meeting at 7pm at the Sam Cox building at Glenn Otto Park.
URL:https://westcolumbiagorgechamber.com/event/board-of-directors-meeting-7-3/
LOCATION:The Kellogg Room at Troutdale Policing Community Center\, 234 SW Kendall Ave\, Troutdale\, OR\, 97060\, United States
CATEGORIES:Board of Directors Meetings,Chamber Meetings
END:VEVENT
BEGIN:VEVENT
DTSTART;VALUE=DATE:20170914
DTEND;VALUE=DATE:20170915
DTSTAMP:20260425T195253
CREATED:20170511T235534Z
LAST-MODIFIED:20170511T235534Z
UID:9388-1505347200-1505433599@westcolumbiagorgechamber.com
SUMMARY:Board of Directors Meeting
DESCRIPTION:The Board of Directors will be meeting at 7pm at the Sam Cox building at Glenn Otto Park.
URL:https://westcolumbiagorgechamber.com/event/board-of-directors-meeting-7-4/
LOCATION:The Kellogg Room at Troutdale Policing Community Center\, 234 SW Kendall Ave\, Troutdale\, OR\, 97060\, United States
CATEGORIES:Board of Directors Meetings,Chamber Meetings
END:VEVENT
END:VCALENDAR