BEGIN:VCALENDAR
VERSION:2.0
PRODID:-//West Columbia Gorge Chamber of Commerce - ECPv6.15.20//NONSGML v1.0//EN
CALSCALE:GREGORIAN
METHOD:PUBLISH
X-WR-CALNAME:West Columbia Gorge Chamber of Commerce
X-ORIGINAL-URL:https://westcolumbiagorgechamber.com
X-WR-CALDESC:Events for West Columbia Gorge Chamber of Commerce
REFRESH-INTERVAL;VALUE=DURATION:PT1H
X-Robots-Tag:noindex
X-PUBLISHED-TTL:PT1H
BEGIN:VTIMEZONE
TZID:America/Los_Angeles
BEGIN:DAYLIGHT
TZOFFSETFROM:-0800
TZOFFSETTO:-0700
TZNAME:PDT
DTSTART:20210314T100000
END:DAYLIGHT
BEGIN:STANDARD
TZOFFSETFROM:-0700
TZOFFSETTO:-0800
TZNAME:PST
DTSTART:20211107T090000
END:STANDARD
BEGIN:DAYLIGHT
TZOFFSETFROM:-0800
TZOFFSETTO:-0700
TZNAME:PDT
DTSTART:20220313T100000
END:DAYLIGHT
BEGIN:STANDARD
TZOFFSETFROM:-0700
TZOFFSETTO:-0800
TZNAME:PST
DTSTART:20221106T090000
END:STANDARD
BEGIN:DAYLIGHT
TZOFFSETFROM:-0800
TZOFFSETTO:-0700
TZNAME:PDT
DTSTART:20230312T100000
END:DAYLIGHT
BEGIN:STANDARD
TZOFFSETFROM:-0700
TZOFFSETTO:-0800
TZNAME:PST
DTSTART:20231105T090000
END:STANDARD
END:VTIMEZONE
BEGIN:VEVENT
DTSTART;TZID=America/Los_Angeles:20220720T003000
DTEND;TZID=America/Los_Angeles:20220720T020000
DTSTAMP:20260420T093929
CREATED:20220720T050426Z
LAST-MODIFIED:20220720T050426Z
UID:10073-1658277000-1658282400@westcolumbiagorgechamber.com
SUMMARY:Kiwanis of Troutdale will be speaking about the Cruise in Coming up in August. Host Jim Jackson
DESCRIPTION:This coming week the Chamber chat will be at Bateman Carroll Funeral home. President of the Troutdale Kiwanis\, Jim Jackson will be speaking about this event to be held on August 6th in downtown Troutdale from 9am to 2pm. They will be closing this part of the Columbia Highway so there can plenty of classis cars. Never know what cars you will see but they will be amazing and awesome for sure. The event is sponsored by several Chamber members\, Weston Kia GMC\, Multnomah Falls Lodge\, The Outlook\, and the City of Troutdale!
URL:https://westcolumbiagorgechamber.com/event/kiwanis-of-troutdale-will-be-speaking-about-the-cruise-in-coming-up-in-august-host-jim-jackson/
LOCATION:Bateman Carroll Funeral Home\, 520 W Powell Blvd\, Gresham\, OR\, 97030
CATEGORIES:AM Networkings,Chamber Meetings
ORGANIZER;CN="West Columbia Gorge Chamber of Commerce":MAILTO:info@westcolumbiagorgechamber.com
END:VEVENT
END:VCALENDAR