BEGIN:VCALENDAR
VERSION:2.0
PRODID:-//West Columbia Gorge Chamber of Commerce - ECPv6.15.20//NONSGML v1.0//EN
CALSCALE:GREGORIAN
METHOD:PUBLISH
X-ORIGINAL-URL:https://westcolumbiagorgechamber.com
X-WR-CALDESC:Events for West Columbia Gorge Chamber of Commerce
REFRESH-INTERVAL;VALUE=DURATION:PT1H
X-Robots-Tag:noindex
X-PUBLISHED-TTL:PT1H
BEGIN:VTIMEZONE
TZID:America/Los_Angeles
BEGIN:DAYLIGHT
TZOFFSETFROM:-0800
TZOFFSETTO:-0700
TZNAME:PDT
DTSTART:20200308T100000
END:DAYLIGHT
BEGIN:STANDARD
TZOFFSETFROM:-0700
TZOFFSETTO:-0800
TZNAME:PST
DTSTART:20201101T090000
END:STANDARD
BEGIN:DAYLIGHT
TZOFFSETFROM:-0800
TZOFFSETTO:-0700
TZNAME:PDT
DTSTART:20210314T100000
END:DAYLIGHT
BEGIN:STANDARD
TZOFFSETFROM:-0700
TZOFFSETTO:-0800
TZNAME:PST
DTSTART:20211107T090000
END:STANDARD
BEGIN:DAYLIGHT
TZOFFSETFROM:-0800
TZOFFSETTO:-0700
TZNAME:PDT
DTSTART:20220313T100000
END:DAYLIGHT
BEGIN:STANDARD
TZOFFSETFROM:-0700
TZOFFSETTO:-0800
TZNAME:PST
DTSTART:20221106T090000
END:STANDARD
END:VTIMEZONE
BEGIN:VEVENT
DTSTART;TZID=America/Los_Angeles:20211117T180000
DTEND;TZID=America/Los_Angeles:20211117T200000
DTSTAMP:20260420T190430
CREATED:20210922T205534Z
LAST-MODIFIED:20210922T205534Z
UID:9889-1637172000-1637179200@westcolumbiagorgechamber.com
SUMMARY:WCGCC Board Meeting (Open to the Public)
DESCRIPTION:Chamber Admin is inviting you to a scheduled Zoom meeting. \nTopic: Board Meeting\nTime: Sep 22\, 2021 06:00 PM Pacific Time (US and Canada) \nJoin Zoom Meeting\nhttps://us02web.zoom.us/j/85114047514?pwd=dmFaSkpqbmZZckNLM2ppdVVwVTlCdz09 \nMeeting ID: 851 1404 7514\nPasscode: 988981\nOne tap mobile\n+16699006833\,\,85114047514#\,\,\,\,*988981# US (San Jose)\n+12532158782\,\,85114047514#\,\,\,\,*988981# US (Tacoma) \nDial by your location\n        +1 669 900 6833 US (San Jose)\n        +1 253 215 8782 US (Tacoma)\n        +1 346 248 7799 US (Houston)\n        +1 929 436 2866 US (New York)\n        +1 301 715 8592 US (Washington DC)\n        +1 312 626 6799 US (Chicago)\nMeeting ID: 851 1404 7514\nPasscode: 988981\nFind your local number: https://us02web.zoom.us/u/k2HxDcDHF
URL:https://westcolumbiagorgechamber.com/event/wcgcc-board-meeting-open-to-the-public-2-4/
LOCATION:OR
CATEGORIES:Board of Directors Meetings,Chamber Meetings
END:VEVENT
BEGIN:VEVENT
DTSTART;TZID=America/Los_Angeles:20211117T180000
DTEND;TZID=America/Los_Angeles:20211117T200000
DTSTAMP:20260420T190430
CREATED:20210922T205534Z
LAST-MODIFIED:20210922T205534Z
UID:8184-1637172000-1637179200@westcolumbiagorgechamber.com
SUMMARY:WCGCC Board Meeting (Open to the Public)
DESCRIPTION:Chamber Admin is inviting you to a scheduled Zoom meeting. \nTopic: Board Meeting\nTime: Sep 22\, 2021 06:00 PM Pacific Time (US and Canada) \nJoin Zoom Meeting\nhttps://us02web.zoom.us/j/85114047514?pwd=dmFaSkpqbmZZckNLM2ppdVVwVTlCdz09 \nMeeting ID: 851 1404 7514\nPasscode: 988981\nOne tap mobile\n+16699006833\,\,85114047514#\,\,\,\,*988981# US (San Jose)\n+12532158782\,\,85114047514#\,\,\,\,*988981# US (Tacoma) \nDial by your location\n        +1 669 900 6833 US (San Jose)\n        +1 253 215 8782 US (Tacoma)\n        +1 346 248 7799 US (Houston)\n        +1 929 436 2866 US (New York)\n        +1 301 715 8592 US (Washington DC)\n        +1 312 626 6799 US (Chicago)\nMeeting ID: 851 1404 7514\nPasscode: 988981\nFind your local number: https://us02web.zoom.us/u/k2HxDcDHF
URL:https://westcolumbiagorgechamber.com/event/wcgcc-board-meeting-open-to-the-public-2/
LOCATION:OR
CATEGORIES:Board of Directors Meetings,Chamber Meetings
END:VEVENT
BEGIN:VEVENT
DTSTART;TZID=America/Los_Angeles:20211117T180000
DTEND;TZID=America/Los_Angeles:20211117T200000
DTSTAMP:20260420T190430
CREATED:20210922T205534Z
LAST-MODIFIED:20210922T205534Z
UID:9561-1637172000-1637179200@westcolumbiagorgechamber.com
SUMMARY:WCGCC Board Meeting (Open to the Public)
DESCRIPTION:Chamber Admin is inviting you to a scheduled Zoom meeting. \nTopic: Board Meeting\nTime: Sep 22\, 2021 06:00 PM Pacific Time (US and Canada) \nJoin Zoom Meeting\nhttps://us02web.zoom.us/j/85114047514?pwd=dmFaSkpqbmZZckNLM2ppdVVwVTlCdz09 \nMeeting ID: 851 1404 7514\nPasscode: 988981\nOne tap mobile\n+16699006833\,\,85114047514#\,\,\,\,*988981# US (San Jose)\n+12532158782\,\,85114047514#\,\,\,\,*988981# US (Tacoma) \nDial by your location\n        +1 669 900 6833 US (San Jose)\n        +1 253 215 8782 US (Tacoma)\n        +1 346 248 7799 US (Houston)\n        +1 929 436 2866 US (New York)\n        +1 301 715 8592 US (Washington DC)\n        +1 312 626 6799 US (Chicago)\nMeeting ID: 851 1404 7514\nPasscode: 988981\nFind your local number: https://us02web.zoom.us/u/k2HxDcDHF
URL:https://westcolumbiagorgechamber.com/event/wcgcc-board-meeting-open-to-the-public-2-2/
LOCATION:OR
CATEGORIES:Board of Directors Meetings,Chamber Meetings
END:VEVENT
BEGIN:VEVENT
DTSTART;TZID=America/Los_Angeles:20211117T180000
DTEND;TZID=America/Los_Angeles:20211117T200000
DTSTAMP:20260420T190430
CREATED:20210922T205534Z
LAST-MODIFIED:20210922T205534Z
UID:9599-1637172000-1637179200@westcolumbiagorgechamber.com
SUMMARY:WCGCC Board Meeting (Open to the Public)
DESCRIPTION:Chamber Admin is inviting you to a scheduled Zoom meeting. \nTopic: Board Meeting\nTime: Sep 22\, 2021 06:00 PM Pacific Time (US and Canada) \nJoin Zoom Meeting\nhttps://us02web.zoom.us/j/85114047514?pwd=dmFaSkpqbmZZckNLM2ppdVVwVTlCdz09 \nMeeting ID: 851 1404 7514\nPasscode: 988981\nOne tap mobile\n+16699006833\,\,85114047514#\,\,\,\,*988981# US (San Jose)\n+12532158782\,\,85114047514#\,\,\,\,*988981# US (Tacoma) \nDial by your location\n        +1 669 900 6833 US (San Jose)\n        +1 253 215 8782 US (Tacoma)\n        +1 346 248 7799 US (Houston)\n        +1 929 436 2866 US (New York)\n        +1 301 715 8592 US (Washington DC)\n        +1 312 626 6799 US (Chicago)\nMeeting ID: 851 1404 7514\nPasscode: 988981\nFind your local number: https://us02web.zoom.us/u/k2HxDcDHF
URL:https://westcolumbiagorgechamber.com/event/wcgcc-board-meeting-open-to-the-public-2-3/
LOCATION:OR
CATEGORIES:Board of Directors Meetings,Chamber Meetings
END:VEVENT
END:VCALENDAR