BEGIN:VCALENDAR
VERSION:2.0
PRODID:-//West Columbia Gorge Chamber of Commerce - ECPv6.15.20//NONSGML v1.0//EN
CALSCALE:GREGORIAN
METHOD:PUBLISH
X-ORIGINAL-URL:https://westcolumbiagorgechamber.com
X-WR-CALDESC:Events for West Columbia Gorge Chamber of Commerce
REFRESH-INTERVAL;VALUE=DURATION:PT1H
X-Robots-Tag:noindex
X-PUBLISHED-TTL:PT1H
BEGIN:VTIMEZONE
TZID:America/Los_Angeles
BEGIN:DAYLIGHT
TZOFFSETFROM:-0800
TZOFFSETTO:-0700
TZNAME:PDT
DTSTART:20200308T100000
END:DAYLIGHT
BEGIN:STANDARD
TZOFFSETFROM:-0700
TZOFFSETTO:-0800
TZNAME:PST
DTSTART:20201101T090000
END:STANDARD
BEGIN:DAYLIGHT
TZOFFSETFROM:-0800
TZOFFSETTO:-0700
TZNAME:PDT
DTSTART:20210314T100000
END:DAYLIGHT
BEGIN:STANDARD
TZOFFSETFROM:-0700
TZOFFSETTO:-0800
TZNAME:PST
DTSTART:20211107T090000
END:STANDARD
BEGIN:DAYLIGHT
TZOFFSETFROM:-0800
TZOFFSETTO:-0700
TZNAME:PDT
DTSTART:20220313T100000
END:DAYLIGHT
BEGIN:STANDARD
TZOFFSETFROM:-0700
TZOFFSETTO:-0800
TZNAME:PST
DTSTART:20221106T090000
END:STANDARD
END:VTIMEZONE
BEGIN:VEVENT
DTSTART;TZID=America/Los_Angeles:20211103T080000
DTEND;TZID=America/Los_Angeles:20211103T084500
DTSTAMP:20260420T190517
CREATED:20211001T233013Z
LAST-MODIFIED:20211001T233013Z
UID:9576-1635926400-1635929100@westcolumbiagorgechamber.com
SUMMARY:In Person Coffee Chat with Geoff Kenway of Kenway Benefits Group at Tany's Coffee Shop  3030 NE Hogan Dr. Gresham\, OR 97030
DESCRIPTION:What’s Next for this Weeks Chamber Chat!\n \nNovember 3rd\n8:00 am -8:45 am\n \nGeoff Kenway of Kenway Benfits Group is hosting an in Person event at Tany’s Coffee Shop for this week’s Chamber Chat!\n \nThis week we are meeting in person at Tany’s Coffee Shop. Geoff Kenway of Kenway Benefits Group will be sharing the latest information on the Medicare Annual Election period and the beginning of the Open Enrollment period for health insurance. What do you need to know about these enrollment periods and how he can assist you with questions and help you enroll in a plan that is a good fit for you. There is so much more to Kenway Benefits Group so if you think you know what he does\, you will surprised on what he can do for you!!\n \nThere will coffee and some of Tany’s treats for your enjoyment. If you want a breakfast sandwich\, come a little early so they can prepare it in a timely fashion.
URL:https://westcolumbiagorgechamber.com/event/chamber-zoom-coffee-chat-with-geoff-kenway-of-kenway-benefits-group-2/
LOCATION:OR
CATEGORIES:Chamber Meetings,Chamber Zoom Coffee Chats
END:VEVENT
BEGIN:VEVENT
DTSTART;TZID=America/Los_Angeles:20211103T080000
DTEND;TZID=America/Los_Angeles:20211103T084500
DTSTAMP:20260420T190517
CREATED:20211001T233013Z
LAST-MODIFIED:20211001T233013Z
UID:9613-1635926400-1635929100@westcolumbiagorgechamber.com
SUMMARY:In Person Coffee Chat with Geoff Kenway of Kenway Benefits Group at Tany's Coffee Shop  3030 NE Hogan Dr. Gresham\, OR 97030
DESCRIPTION:What’s Next for this Weeks Chamber Chat!\n \nNovember 3rd\n8:00 am -8:45 am\n \nGeoff Kenway of Kenway Benfits Group is hosting an in Person event at Tany’s Coffee Shop for this week’s Chamber Chat!\n \nThis week we are meeting in person at Tany’s Coffee Shop. Geoff Kenway of Kenway Benefits Group will be sharing the latest information on the Medicare Annual Election period and the beginning of the Open Enrollment period for health insurance. What do you need to know about these enrollment periods and how he can assist you with questions and help you enroll in a plan that is a good fit for you. There is so much more to Kenway Benefits Group so if you think you know what he does\, you will surprised on what he can do for you!!\n \nThere will coffee and some of Tany’s treats for your enjoyment. If you want a breakfast sandwich\, come a little early so they can prepare it in a timely fashion.
URL:https://westcolumbiagorgechamber.com/event/chamber-zoom-coffee-chat-with-geoff-kenway-of-kenway-benefits-group-3/
LOCATION:OR
CATEGORIES:Chamber Meetings,Chamber Zoom Coffee Chats
END:VEVENT
BEGIN:VEVENT
DTSTART;TZID=America/Los_Angeles:20211103T080000
DTEND;TZID=America/Los_Angeles:20211103T084500
DTSTAMP:20260420T190517
CREATED:20211001T233013Z
LAST-MODIFIED:20211001T233013Z
UID:9894-1635926400-1635929100@westcolumbiagorgechamber.com
SUMMARY:In Person Coffee Chat with Geoff Kenway of Kenway Benefits Group at Tany's Coffee Shop  3030 NE Hogan Dr. Gresham\, OR 97030
DESCRIPTION:What’s Next for this Weeks Chamber Chat!\n \nNovember 3rd\n8:00 am -8:45 am\n \nGeoff Kenway of Kenway Benfits Group is hosting an in Person event at Tany’s Coffee Shop for this week’s Chamber Chat!\n \nThis week we are meeting in person at Tany’s Coffee Shop. Geoff Kenway of Kenway Benefits Group will be sharing the latest information on the Medicare Annual Election period and the beginning of the Open Enrollment period for health insurance. What do you need to know about these enrollment periods and how he can assist you with questions and help you enroll in a plan that is a good fit for you. There is so much more to Kenway Benefits Group so if you think you know what he does\, you will surprised on what he can do for you!!\n \nThere will coffee and some of Tany’s treats for your enjoyment. If you want a breakfast sandwich\, come a little early so they can prepare it in a timely fashion.
URL:https://westcolumbiagorgechamber.com/event/chamber-zoom-coffee-chat-with-geoff-kenway-of-kenway-benefits-group-4/
LOCATION:OR
CATEGORIES:Chamber Meetings,Chamber Zoom Coffee Chats
END:VEVENT
BEGIN:VEVENT
DTSTART;TZID=America/Los_Angeles:20211103T080000
DTEND;TZID=America/Los_Angeles:20211103T084500
DTSTAMP:20260420T190517
CREATED:20211001T233013Z
LAST-MODIFIED:20211001T233013Z
UID:8214-1635926400-1635929100@westcolumbiagorgechamber.com
SUMMARY:In Person Coffee Chat with Geoff Kenway of Kenway Benefits Group at Tany's Coffee Shop  3030 NE Hogan Dr. Gresham\, OR 97030
DESCRIPTION:What’s Next for this Weeks Chamber Chat!\n \nNovember 3rd\n8:00 am -8:45 am\n \nGeoff Kenway of Kenway Benfits Group is hosting an in Person event at Tany’s Coffee Shop for this week’s Chamber Chat!\n \nThis week we are meeting in person at Tany’s Coffee Shop. Geoff Kenway of Kenway Benefits Group will be sharing the latest information on the Medicare Annual Election period and the beginning of the Open Enrollment period for health insurance. What do you need to know about these enrollment periods and how he can assist you with questions and help you enroll in a plan that is a good fit for you. There is so much more to Kenway Benefits Group so if you think you know what he does\, you will surprised on what he can do for you!!\n \nThere will coffee and some of Tany’s treats for your enjoyment. If you want a breakfast sandwich\, come a little early so they can prepare it in a timely fashion.
URL:https://westcolumbiagorgechamber.com/event/chamber-zoom-coffee-chat-with-geoff-kenway-of-kenway-benefits-group/
LOCATION:OR
CATEGORIES:Chamber Meetings,Chamber Zoom Coffee Chats
END:VEVENT
END:VCALENDAR