BEGIN:VCALENDAR
VERSION:2.0
PRODID:-//West Columbia Gorge Chamber of Commerce - ECPv6.15.20//NONSGML v1.0//EN
CALSCALE:GREGORIAN
METHOD:PUBLISH
X-WR-CALNAME:West Columbia Gorge Chamber of Commerce
X-ORIGINAL-URL:https://westcolumbiagorgechamber.com
X-WR-CALDESC:Events for West Columbia Gorge Chamber of Commerce
REFRESH-INTERVAL;VALUE=DURATION:PT1H
X-Robots-Tag:noindex
X-PUBLISHED-TTL:PT1H
BEGIN:VTIMEZONE
TZID:America/Los_Angeles
BEGIN:DAYLIGHT
TZOFFSETFROM:-0800
TZOFFSETTO:-0700
TZNAME:PDT
DTSTART:20200308T100000
END:DAYLIGHT
BEGIN:STANDARD
TZOFFSETFROM:-0700
TZOFFSETTO:-0800
TZNAME:PST
DTSTART:20201101T090000
END:STANDARD
BEGIN:DAYLIGHT
TZOFFSETFROM:-0800
TZOFFSETTO:-0700
TZNAME:PDT
DTSTART:20210314T100000
END:DAYLIGHT
BEGIN:STANDARD
TZOFFSETFROM:-0700
TZOFFSETTO:-0800
TZNAME:PST
DTSTART:20211107T090000
END:STANDARD
BEGIN:DAYLIGHT
TZOFFSETFROM:-0800
TZOFFSETTO:-0700
TZNAME:PDT
DTSTART:20220313T100000
END:DAYLIGHT
BEGIN:STANDARD
TZOFFSETFROM:-0700
TZOFFSETTO:-0800
TZNAME:PST
DTSTART:20221106T090000
END:STANDARD
END:VTIMEZONE
BEGIN:VEVENT
DTSTART;TZID=America/Los_Angeles:20211027T080000
DTEND;TZID=America/Los_Angeles:20211027T084500
DTSTAMP:20260420T202105
CREATED:20211001T012831Z
LAST-MODIFIED:20211001T012831Z
UID:8207-1635321600-1635324300@westcolumbiagorgechamber.com
SUMMARY:Chamber Zoom Coffee Chat with Ed Chin of All About Adventure Excursions
DESCRIPTION:All About Adventure Excursions\n\nJoin us to listen to Ed Chin\, Owner/Operator of All About Adventure Excursions and learn about his explorations some of Oregon’s most beautiful waterways and enjoy an exceptional fishing experience. Their knowledgeable guides have over 30 years of fishing experiences and are here to connect you to the best fisheries in the Northwest.
URL:https://westcolumbiagorgechamber.com/event/chamber-zoom-coffee-chat-with-ed-chin-of-all-about-adventure-excursions/
LOCATION:OR
CATEGORIES:Chamber Meetings,Chamber Zoom Coffee Chats
END:VEVENT
BEGIN:VEVENT
DTSTART;TZID=America/Los_Angeles:20211027T080000
DTEND;TZID=America/Los_Angeles:20211027T084500
DTSTAMP:20260420T202105
CREATED:20211001T012831Z
LAST-MODIFIED:20211001T012831Z
UID:9570-1635321600-1635324300@westcolumbiagorgechamber.com
SUMMARY:Chamber Zoom Coffee Chat with Ed Chin of All About Adventure Excursions
DESCRIPTION:All About Adventure Excursions\n\nJoin us to listen to Ed Chin\, Owner/Operator of All About Adventure Excursions and learn about his explorations some of Oregon’s most beautiful waterways and enjoy an exceptional fishing experience. Their knowledgeable guides have over 30 years of fishing experiences and are here to connect you to the best fisheries in the Northwest.
URL:https://westcolumbiagorgechamber.com/event/chamber-zoom-coffee-chat-with-ed-chin-of-all-about-adventure-excursions-2/
LOCATION:OR
CATEGORIES:Chamber Meetings,Chamber Zoom Coffee Chats
END:VEVENT
BEGIN:VEVENT
DTSTART;TZID=America/Los_Angeles:20211027T080000
DTEND;TZID=America/Los_Angeles:20211027T084500
DTSTAMP:20260420T202105
CREATED:20211001T012831Z
LAST-MODIFIED:20211001T012831Z
UID:9608-1635321600-1635324300@westcolumbiagorgechamber.com
SUMMARY:Chamber Zoom Coffee Chat with Ed Chin of All About Adventure Excursions
DESCRIPTION:All About Adventure Excursions\n\nJoin us to listen to Ed Chin\, Owner/Operator of All About Adventure Excursions and learn about his explorations some of Oregon’s most beautiful waterways and enjoy an exceptional fishing experience. Their knowledgeable guides have over 30 years of fishing experiences and are here to connect you to the best fisheries in the Northwest.
URL:https://westcolumbiagorgechamber.com/event/chamber-zoom-coffee-chat-with-ed-chin-of-all-about-adventure-excursions-3/
LOCATION:OR
CATEGORIES:Chamber Meetings,Chamber Zoom Coffee Chats
END:VEVENT
BEGIN:VEVENT
DTSTART;TZID=America/Los_Angeles:20211027T080000
DTEND;TZID=America/Los_Angeles:20211027T084500
DTSTAMP:20260420T202105
CREATED:20211001T012831Z
LAST-MODIFIED:20211001T012831Z
UID:9892-1635321600-1635324300@westcolumbiagorgechamber.com
SUMMARY:Chamber Zoom Coffee Chat with Ed Chin of All About Adventure Excursions
DESCRIPTION:All About Adventure Excursions\n\nJoin us to listen to Ed Chin\, Owner/Operator of All About Adventure Excursions and learn about his explorations some of Oregon’s most beautiful waterways and enjoy an exceptional fishing experience. Their knowledgeable guides have over 30 years of fishing experiences and are here to connect you to the best fisheries in the Northwest.
URL:https://westcolumbiagorgechamber.com/event/chamber-zoom-coffee-chat-with-ed-chin-of-all-about-adventure-excursions-4/
LOCATION:OR
CATEGORIES:Chamber Meetings,Chamber Zoom Coffee Chats
END:VEVENT
END:VCALENDAR