BEGIN:VCALENDAR
VERSION:2.0
PRODID:-//West Columbia Gorge Chamber of Commerce - ECPv6.15.20//NONSGML v1.0//EN
CALSCALE:GREGORIAN
METHOD:PUBLISH
X-WR-CALNAME:West Columbia Gorge Chamber of Commerce
X-ORIGINAL-URL:https://westcolumbiagorgechamber.com
X-WR-CALDESC:Events for West Columbia Gorge Chamber of Commerce
REFRESH-INTERVAL;VALUE=DURATION:PT1H
X-Robots-Tag:noindex
X-PUBLISHED-TTL:PT1H
BEGIN:VTIMEZONE
TZID:America/Los_Angeles
BEGIN:DAYLIGHT
TZOFFSETFROM:-0800
TZOFFSETTO:-0700
TZNAME:PDT
DTSTART:20200308T100000
END:DAYLIGHT
BEGIN:STANDARD
TZOFFSETFROM:-0700
TZOFFSETTO:-0800
TZNAME:PST
DTSTART:20201101T090000
END:STANDARD
BEGIN:DAYLIGHT
TZOFFSETFROM:-0800
TZOFFSETTO:-0700
TZNAME:PDT
DTSTART:20210314T100000
END:DAYLIGHT
BEGIN:STANDARD
TZOFFSETFROM:-0700
TZOFFSETTO:-0800
TZNAME:PST
DTSTART:20211107T090000
END:STANDARD
BEGIN:DAYLIGHT
TZOFFSETFROM:-0800
TZOFFSETTO:-0700
TZNAME:PDT
DTSTART:20220313T100000
END:DAYLIGHT
BEGIN:STANDARD
TZOFFSETFROM:-0700
TZOFFSETTO:-0800
TZNAME:PST
DTSTART:20221106T090000
END:STANDARD
END:VTIMEZONE
BEGIN:VEVENT
DTSTART;TZID=America/Los_Angeles:20211020T080000
DTEND;TZID=America/Los_Angeles:20211020T084500
DTSTAMP:20260420T202107
CREATED:20211001T233855Z
LAST-MODIFIED:20211001T233855Z
UID:9616-1634716800-1634719500@westcolumbiagorgechamber.com
SUMMARY:Chamber Zoom Coffee Chat with Karen Bailey of Apollo
DESCRIPTION:Serving the Portland & Vancouver Areas For Over 35 Years\n\nApollo Drain & Rooter is a full-service plumbing company\, family-owned and operated since 1984 and currently one of the most competitively priced and fastest-growing companies in Oregon and Washington. We know that normal life can’t resume until we repair your plumbing emergency. That’s why we offer 24/7 emergency services and we’re on the way to save the day. \n\nChamber Admin is inviting you to a scheduled Zoom meeting.\n \nTopic: Chamber Chat\nTime: Oct 20\, 2021 08:00 AM Pacific Time (US and Canada)\n    Every week on Wed\, 8 occurrence(s)\n    Oct 20\, 2021 08:00 AM\n    Oct 27\, 2021 08:00 AM\n    Nov 3\, 2021 08:00 AM\n    Nov 10\, 2021 08:00 AM\n    Nov 17\, 2021 08:00 AM\n    Nov 24\, 2021 08:00 AM\n    Dec 1\, 2021 08:00 AM\n    Dec 8\, 2021 08:00 AM\nPlease download and import the following iCalendar (.ics) files to your calendar system.\nWeekly: https://us02web.zoom.us/meeting/tZUtd-iuqD8qEtNZ1AWzu5zzVEjJo83PiFC6/ics?icsToken=98tyKuGprjsrHNKRsBGARpwcAoigd-7wpilfj7dzpk7ENDpGNxnsAMdIGL0nQ-jZ\n \nJoin Zoom Meeting\nhttps://us02web.zoom.us/j/81001664087?pwd=WVppdHF5NDlPajdFK2xWL0Z0MjFBZz09\n \nMeeting ID: 810 0166 4087\nPasscode: 604632\nOne tap mobile\n+13462487799\,\,81001664087#\,\,\,\,*604632# US (Houston)\n+16699006833\,\,81001664087#\,\,\,\,*604632# US (San Jose)\n \nDial by your location\n    +1 346 248 7799 US (Houston)\n    +1 669 900 6833 US (San Jose)\n    +1 253 215 8782 US (Tacoma)\n    +1 312 626 6799 US (Chicago)\n    +1 929 436 2866 US (New York)\n    +1 301 715 8592 US (Washington DC)\nMeeting ID: 810 0166 4087\nPasscode: 604632\nFind your local number: https://us02web.zoom.us/u/kbtIRfvatU
URL:https://westcolumbiagorgechamber.com/event/chamber-zoom-coffee-chat-with-karen-bailey-of-apollo-3/
LOCATION:OR
CATEGORIES:Chamber Meetings,Chamber Zoom Coffee Chats
END:VEVENT
BEGIN:VEVENT
DTSTART;TZID=America/Los_Angeles:20211020T080000
DTEND;TZID=America/Los_Angeles:20211020T084500
DTSTAMP:20260420T202107
CREATED:20211001T233855Z
LAST-MODIFIED:20211001T233855Z
UID:8217-1634716800-1634719500@westcolumbiagorgechamber.com
SUMMARY:Chamber Zoom Coffee Chat with Karen Bailey of Apollo
DESCRIPTION:Serving the Portland & Vancouver Areas For Over 35 Years\n\nApollo Drain & Rooter is a full-service plumbing company\, family-owned and operated since 1984 and currently one of the most competitively priced and fastest-growing companies in Oregon and Washington. We know that normal life can’t resume until we repair your plumbing emergency. That’s why we offer 24/7 emergency services and we’re on the way to save the day. \n\nChamber Admin is inviting you to a scheduled Zoom meeting.\n \nTopic: Chamber Chat\nTime: Oct 20\, 2021 08:00 AM Pacific Time (US and Canada)\n    Every week on Wed\, 8 occurrence(s)\n    Oct 20\, 2021 08:00 AM\n    Oct 27\, 2021 08:00 AM\n    Nov 3\, 2021 08:00 AM\n    Nov 10\, 2021 08:00 AM\n    Nov 17\, 2021 08:00 AM\n    Nov 24\, 2021 08:00 AM\n    Dec 1\, 2021 08:00 AM\n    Dec 8\, 2021 08:00 AM\nPlease download and import the following iCalendar (.ics) files to your calendar system.\nWeekly: https://us02web.zoom.us/meeting/tZUtd-iuqD8qEtNZ1AWzu5zzVEjJo83PiFC6/ics?icsToken=98tyKuGprjsrHNKRsBGARpwcAoigd-7wpilfj7dzpk7ENDpGNxnsAMdIGL0nQ-jZ\n \nJoin Zoom Meeting\nhttps://us02web.zoom.us/j/81001664087?pwd=WVppdHF5NDlPajdFK2xWL0Z0MjFBZz09\n \nMeeting ID: 810 0166 4087\nPasscode: 604632\nOne tap mobile\n+13462487799\,\,81001664087#\,\,\,\,*604632# US (Houston)\n+16699006833\,\,81001664087#\,\,\,\,*604632# US (San Jose)\n \nDial by your location\n    +1 346 248 7799 US (Houston)\n    +1 669 900 6833 US (San Jose)\n    +1 253 215 8782 US (Tacoma)\n    +1 312 626 6799 US (Chicago)\n    +1 929 436 2866 US (New York)\n    +1 301 715 8592 US (Washington DC)\nMeeting ID: 810 0166 4087\nPasscode: 604632\nFind your local number: https://us02web.zoom.us/u/kbtIRfvatU
URL:https://westcolumbiagorgechamber.com/event/chamber-zoom-coffee-chat-with-karen-bailey-of-apollo/
LOCATION:OR
CATEGORIES:Chamber Meetings,Chamber Zoom Coffee Chats
END:VEVENT
BEGIN:VEVENT
DTSTART;TZID=America/Los_Angeles:20211020T080000
DTEND;TZID=America/Los_Angeles:20211020T084500
DTSTAMP:20260420T202107
CREATED:20211001T233855Z
LAST-MODIFIED:20211001T233855Z
UID:9895-1634716800-1634719500@westcolumbiagorgechamber.com
SUMMARY:Chamber Zoom Coffee Chat with Karen Bailey of Apollo
DESCRIPTION:Serving the Portland & Vancouver Areas For Over 35 Years\n\nApollo Drain & Rooter is a full-service plumbing company\, family-owned and operated since 1984 and currently one of the most competitively priced and fastest-growing companies in Oregon and Washington. We know that normal life can’t resume until we repair your plumbing emergency. That’s why we offer 24/7 emergency services and we’re on the way to save the day. \n\nChamber Admin is inviting you to a scheduled Zoom meeting.\n \nTopic: Chamber Chat\nTime: Oct 20\, 2021 08:00 AM Pacific Time (US and Canada)\n    Every week on Wed\, 8 occurrence(s)\n    Oct 20\, 2021 08:00 AM\n    Oct 27\, 2021 08:00 AM\n    Nov 3\, 2021 08:00 AM\n    Nov 10\, 2021 08:00 AM\n    Nov 17\, 2021 08:00 AM\n    Nov 24\, 2021 08:00 AM\n    Dec 1\, 2021 08:00 AM\n    Dec 8\, 2021 08:00 AM\nPlease download and import the following iCalendar (.ics) files to your calendar system.\nWeekly: https://us02web.zoom.us/meeting/tZUtd-iuqD8qEtNZ1AWzu5zzVEjJo83PiFC6/ics?icsToken=98tyKuGprjsrHNKRsBGARpwcAoigd-7wpilfj7dzpk7ENDpGNxnsAMdIGL0nQ-jZ\n \nJoin Zoom Meeting\nhttps://us02web.zoom.us/j/81001664087?pwd=WVppdHF5NDlPajdFK2xWL0Z0MjFBZz09\n \nMeeting ID: 810 0166 4087\nPasscode: 604632\nOne tap mobile\n+13462487799\,\,81001664087#\,\,\,\,*604632# US (Houston)\n+16699006833\,\,81001664087#\,\,\,\,*604632# US (San Jose)\n \nDial by your location\n    +1 346 248 7799 US (Houston)\n    +1 669 900 6833 US (San Jose)\n    +1 253 215 8782 US (Tacoma)\n    +1 312 626 6799 US (Chicago)\n    +1 929 436 2866 US (New York)\n    +1 301 715 8592 US (Washington DC)\nMeeting ID: 810 0166 4087\nPasscode: 604632\nFind your local number: https://us02web.zoom.us/u/kbtIRfvatU
URL:https://westcolumbiagorgechamber.com/event/chamber-zoom-coffee-chat-with-karen-bailey-of-apollo-4/
LOCATION:OR
CATEGORIES:Chamber Meetings,Chamber Zoom Coffee Chats
END:VEVENT
BEGIN:VEVENT
DTSTART;TZID=America/Los_Angeles:20211020T080000
DTEND;TZID=America/Los_Angeles:20211020T084500
DTSTAMP:20260420T202107
CREATED:20211001T233855Z
LAST-MODIFIED:20211001T233855Z
UID:9579-1634716800-1634719500@westcolumbiagorgechamber.com
SUMMARY:Chamber Zoom Coffee Chat with Karen Bailey of Apollo
DESCRIPTION:Serving the Portland & Vancouver Areas For Over 35 Years\n\nApollo Drain & Rooter is a full-service plumbing company\, family-owned and operated since 1984 and currently one of the most competitively priced and fastest-growing companies in Oregon and Washington. We know that normal life can’t resume until we repair your plumbing emergency. That’s why we offer 24/7 emergency services and we’re on the way to save the day. \n\nChamber Admin is inviting you to a scheduled Zoom meeting.\n \nTopic: Chamber Chat\nTime: Oct 20\, 2021 08:00 AM Pacific Time (US and Canada)\n    Every week on Wed\, 8 occurrence(s)\n    Oct 20\, 2021 08:00 AM\n    Oct 27\, 2021 08:00 AM\n    Nov 3\, 2021 08:00 AM\n    Nov 10\, 2021 08:00 AM\n    Nov 17\, 2021 08:00 AM\n    Nov 24\, 2021 08:00 AM\n    Dec 1\, 2021 08:00 AM\n    Dec 8\, 2021 08:00 AM\nPlease download and import the following iCalendar (.ics) files to your calendar system.\nWeekly: https://us02web.zoom.us/meeting/tZUtd-iuqD8qEtNZ1AWzu5zzVEjJo83PiFC6/ics?icsToken=98tyKuGprjsrHNKRsBGARpwcAoigd-7wpilfj7dzpk7ENDpGNxnsAMdIGL0nQ-jZ\n \nJoin Zoom Meeting\nhttps://us02web.zoom.us/j/81001664087?pwd=WVppdHF5NDlPajdFK2xWL0Z0MjFBZz09\n \nMeeting ID: 810 0166 4087\nPasscode: 604632\nOne tap mobile\n+13462487799\,\,81001664087#\,\,\,\,*604632# US (Houston)\n+16699006833\,\,81001664087#\,\,\,\,*604632# US (San Jose)\n \nDial by your location\n    +1 346 248 7799 US (Houston)\n    +1 669 900 6833 US (San Jose)\n    +1 253 215 8782 US (Tacoma)\n    +1 312 626 6799 US (Chicago)\n    +1 929 436 2866 US (New York)\n    +1 301 715 8592 US (Washington DC)\nMeeting ID: 810 0166 4087\nPasscode: 604632\nFind your local number: https://us02web.zoom.us/u/kbtIRfvatU
URL:https://westcolumbiagorgechamber.com/event/chamber-zoom-coffee-chat-with-karen-bailey-of-apollo-2/
LOCATION:OR
CATEGORIES:Chamber Meetings,Chamber Zoom Coffee Chats
END:VEVENT
BEGIN:VEVENT
DTSTART;TZID=America/Los_Angeles:20211020T180000
DTEND;TZID=America/Los_Angeles:20211020T200000
DTSTAMP:20260420T202107
CREATED:20210922T184454Z
LAST-MODIFIED:20210922T184454Z
UID:8175-1634752800-1634760000@westcolumbiagorgechamber.com
SUMMARY:WCGCC Board Meeting  (Open to the Public)
DESCRIPTION:Chamber Admin is inviting you to a scheduled Zoom meeting. \nTopic: Board Meeting\nTime: Sep 22\, 2021 06:00 PM Pacific Time (US and Canada) \nJoin Zoom Meeting\nhttps://us02web.zoom.us/j/85114047514?pwd=dmFaSkpqbmZZckNLM2ppdVVwVTlCdz09 \nMeeting ID: 851 1404 7514\nPasscode: 988981\nOne tap mobile\n+16699006833\,\,85114047514#\,\,\,\,*988981# US (San Jose)\n+12532158782\,\,85114047514#\,\,\,\,*988981# US (Tacoma) \nDial by your location\n        +1 669 900 6833 US (San Jose)\n        +1 253 215 8782 US (Tacoma)\n        +1 346 248 7799 US (Houston)\n        +1 929 436 2866 US (New York)\n        +1 301 715 8592 US (Washington DC)\n        +1 312 626 6799 US (Chicago)\nMeeting ID: 851 1404 7514\nPasscode: 988981\nFind your local number: https://us02web.zoom.us/u/k2HxDcDHF
URL:https://westcolumbiagorgechamber.com/event/wcgcc-board-meeting-open-to-the-public/
LOCATION:OR
CATEGORIES:Board of Directors Meetings,Chamber Meetings
END:VEVENT
BEGIN:VEVENT
DTSTART;TZID=America/Los_Angeles:20211020T180000
DTEND;TZID=America/Los_Angeles:20211020T200000
DTSTAMP:20260420T202107
CREATED:20210922T184454Z
LAST-MODIFIED:20210922T184454Z
UID:9886-1634752800-1634760000@westcolumbiagorgechamber.com
SUMMARY:WCGCC Board Meeting  (Open to the Public)
DESCRIPTION:Chamber Admin is inviting you to a scheduled Zoom meeting. \nTopic: Board Meeting\nTime: Sep 22\, 2021 06:00 PM Pacific Time (US and Canada) \nJoin Zoom Meeting\nhttps://us02web.zoom.us/j/85114047514?pwd=dmFaSkpqbmZZckNLM2ppdVVwVTlCdz09 \nMeeting ID: 851 1404 7514\nPasscode: 988981\nOne tap mobile\n+16699006833\,\,85114047514#\,\,\,\,*988981# US (San Jose)\n+12532158782\,\,85114047514#\,\,\,\,*988981# US (Tacoma) \nDial by your location\n        +1 669 900 6833 US (San Jose)\n        +1 253 215 8782 US (Tacoma)\n        +1 346 248 7799 US (Houston)\n        +1 929 436 2866 US (New York)\n        +1 301 715 8592 US (Washington DC)\n        +1 312 626 6799 US (Chicago)\nMeeting ID: 851 1404 7514\nPasscode: 988981\nFind your local number: https://us02web.zoom.us/u/k2HxDcDHF
URL:https://westcolumbiagorgechamber.com/event/wcgcc-board-meeting-open-to-the-public-6/
LOCATION:OR
CATEGORIES:Board of Directors Meetings,Chamber Meetings
END:VEVENT
BEGIN:VEVENT
DTSTART;TZID=America/Los_Angeles:20211020T180000
DTEND;TZID=America/Los_Angeles:20211020T200000
DTSTAMP:20260420T202107
CREATED:20210922T184454Z
LAST-MODIFIED:20210922T184454Z
UID:9552-1634752800-1634760000@westcolumbiagorgechamber.com
SUMMARY:WCGCC Board Meeting  (Open to the Public)
DESCRIPTION:Chamber Admin is inviting you to a scheduled Zoom meeting. \nTopic: Board Meeting\nTime: Sep 22\, 2021 06:00 PM Pacific Time (US and Canada) \nJoin Zoom Meeting\nhttps://us02web.zoom.us/j/85114047514?pwd=dmFaSkpqbmZZckNLM2ppdVVwVTlCdz09 \nMeeting ID: 851 1404 7514\nPasscode: 988981\nOne tap mobile\n+16699006833\,\,85114047514#\,\,\,\,*988981# US (San Jose)\n+12532158782\,\,85114047514#\,\,\,\,*988981# US (Tacoma) \nDial by your location\n        +1 669 900 6833 US (San Jose)\n        +1 253 215 8782 US (Tacoma)\n        +1 346 248 7799 US (Houston)\n        +1 929 436 2866 US (New York)\n        +1 301 715 8592 US (Washington DC)\n        +1 312 626 6799 US (Chicago)\nMeeting ID: 851 1404 7514\nPasscode: 988981\nFind your local number: https://us02web.zoom.us/u/k2HxDcDHF
URL:https://westcolumbiagorgechamber.com/event/wcgcc-board-meeting-open-to-the-public-4/
LOCATION:OR
CATEGORIES:Board of Directors Meetings,Chamber Meetings
END:VEVENT
BEGIN:VEVENT
DTSTART;TZID=America/Los_Angeles:20211020T180000
DTEND;TZID=America/Los_Angeles:20211020T200000
DTSTAMP:20260420T202107
CREATED:20210922T184454Z
LAST-MODIFIED:20210922T184454Z
UID:9589-1634752800-1634760000@westcolumbiagorgechamber.com
SUMMARY:WCGCC Board Meeting  (Open to the Public)
DESCRIPTION:Chamber Admin is inviting you to a scheduled Zoom meeting. \nTopic: Board Meeting\nTime: Sep 22\, 2021 06:00 PM Pacific Time (US and Canada) \nJoin Zoom Meeting\nhttps://us02web.zoom.us/j/85114047514?pwd=dmFaSkpqbmZZckNLM2ppdVVwVTlCdz09 \nMeeting ID: 851 1404 7514\nPasscode: 988981\nOne tap mobile\n+16699006833\,\,85114047514#\,\,\,\,*988981# US (San Jose)\n+12532158782\,\,85114047514#\,\,\,\,*988981# US (Tacoma) \nDial by your location\n        +1 669 900 6833 US (San Jose)\n        +1 253 215 8782 US (Tacoma)\n        +1 346 248 7799 US (Houston)\n        +1 929 436 2866 US (New York)\n        +1 301 715 8592 US (Washington DC)\n        +1 312 626 6799 US (Chicago)\nMeeting ID: 851 1404 7514\nPasscode: 988981\nFind your local number: https://us02web.zoom.us/u/k2HxDcDHF
URL:https://westcolumbiagorgechamber.com/event/wcgcc-board-meeting-open-to-the-public-5/
LOCATION:OR
CATEGORIES:Board of Directors Meetings,Chamber Meetings
END:VEVENT
END:VCALENDAR