BEGIN:VCALENDAR
VERSION:2.0
PRODID:-//West Columbia Gorge Chamber of Commerce - ECPv6.15.20//NONSGML v1.0//EN
CALSCALE:GREGORIAN
METHOD:PUBLISH
X-ORIGINAL-URL:https://westcolumbiagorgechamber.com
X-WR-CALDESC:Events for West Columbia Gorge Chamber of Commerce
REFRESH-INTERVAL;VALUE=DURATION:PT1H
X-Robots-Tag:noindex
X-PUBLISHED-TTL:PT1H
BEGIN:VTIMEZONE
TZID:America/Los_Angeles
BEGIN:DAYLIGHT
TZOFFSETFROM:-0800
TZOFFSETTO:-0700
TZNAME:PDT
DTSTART:20200308T100000
END:DAYLIGHT
BEGIN:STANDARD
TZOFFSETFROM:-0700
TZOFFSETTO:-0800
TZNAME:PST
DTSTART:20201101T090000
END:STANDARD
BEGIN:DAYLIGHT
TZOFFSETFROM:-0800
TZOFFSETTO:-0700
TZNAME:PDT
DTSTART:20210314T100000
END:DAYLIGHT
BEGIN:STANDARD
TZOFFSETFROM:-0700
TZOFFSETTO:-0800
TZNAME:PST
DTSTART:20211107T090000
END:STANDARD
BEGIN:DAYLIGHT
TZOFFSETFROM:-0800
TZOFFSETTO:-0700
TZNAME:PDT
DTSTART:20220313T100000
END:DAYLIGHT
BEGIN:STANDARD
TZOFFSETFROM:-0700
TZOFFSETTO:-0800
TZNAME:PST
DTSTART:20221106T090000
END:STANDARD
END:VTIMEZONE
BEGIN:VEVENT
DTSTART;TZID=America/Los_Angeles:20211013T080000
DTEND;TZID=America/Los_Angeles:20211013T084500
DTSTAMP:20260420T202232
CREATED:20211001T013130Z
LAST-MODIFIED:20211001T013130Z
UID:8209-1634112000-1634114700@westcolumbiagorgechamber.com
SUMMARY:Chamber Zoom Coffee Chat with Sue O'Halloran of Kohler\, Meyers\, O'Halloran
DESCRIPTION:About KMO – The KMO Team\nThe KMO Team members are leaders in the community\, whether serving on an Education and Arts Foundation board\, as officers in Realtor organizations\, in the Damascus City Council\, part of the executive team for the Historical Society\, the Downtown Development Assn\, or the Historic Downtown Gresham Business Assn.\, we are at the forefront of our East Metro communities.
URL:https://westcolumbiagorgechamber.com/event/chamber-zoom-coffee-chat-with-sue-ohalloran-of-kohler-meyers-ohalloran/
LOCATION:OR
CATEGORIES:Chamber Meetings,Chamber Zoom Coffee Chats
END:VEVENT
BEGIN:VEVENT
DTSTART;TZID=America/Los_Angeles:20211013T080000
DTEND;TZID=America/Los_Angeles:20211013T084500
DTSTAMP:20260420T202232
CREATED:20211001T013130Z
LAST-MODIFIED:20211001T013130Z
UID:9573-1634112000-1634114700@westcolumbiagorgechamber.com
SUMMARY:Chamber Zoom Coffee Chat with Sue O'Halloran of Kohler\, Meyers\, O'Halloran
DESCRIPTION:About KMO – The KMO Team\nThe KMO Team members are leaders in the community\, whether serving on an Education and Arts Foundation board\, as officers in Realtor organizations\, in the Damascus City Council\, part of the executive team for the Historical Society\, the Downtown Development Assn\, or the Historic Downtown Gresham Business Assn.\, we are at the forefront of our East Metro communities.
URL:https://westcolumbiagorgechamber.com/event/chamber-zoom-coffee-chat-with-sue-ohalloran-of-kohler-meyers-ohalloran-2/
LOCATION:OR
CATEGORIES:Chamber Meetings,Chamber Zoom Coffee Chats
END:VEVENT
BEGIN:VEVENT
DTSTART;TZID=America/Los_Angeles:20211013T080000
DTEND;TZID=America/Los_Angeles:20211013T084500
DTSTAMP:20260420T202232
CREATED:20211001T013130Z
LAST-MODIFIED:20211001T013130Z
UID:9610-1634112000-1634114700@westcolumbiagorgechamber.com
SUMMARY:Chamber Zoom Coffee Chat with Sue O'Halloran of Kohler\, Meyers\, O'Halloran
DESCRIPTION:About KMO – The KMO Team\nThe KMO Team members are leaders in the community\, whether serving on an Education and Arts Foundation board\, as officers in Realtor organizations\, in the Damascus City Council\, part of the executive team for the Historical Society\, the Downtown Development Assn\, or the Historic Downtown Gresham Business Assn.\, we are at the forefront of our East Metro communities.
URL:https://westcolumbiagorgechamber.com/event/chamber-zoom-coffee-chat-with-sue-ohalloran-of-kohler-meyers-ohalloran-3/
LOCATION:OR
CATEGORIES:Chamber Meetings,Chamber Zoom Coffee Chats
END:VEVENT
BEGIN:VEVENT
DTSTART;TZID=America/Los_Angeles:20211013T080000
DTEND;TZID=America/Los_Angeles:20211013T084500
DTSTAMP:20260420T202232
CREATED:20211001T013130Z
LAST-MODIFIED:20211001T013130Z
UID:9893-1634112000-1634114700@westcolumbiagorgechamber.com
SUMMARY:Chamber Zoom Coffee Chat with Sue O'Halloran of Kohler\, Meyers\, O'Halloran
DESCRIPTION:About KMO – The KMO Team\nThe KMO Team members are leaders in the community\, whether serving on an Education and Arts Foundation board\, as officers in Realtor organizations\, in the Damascus City Council\, part of the executive team for the Historical Society\, the Downtown Development Assn\, or the Historic Downtown Gresham Business Assn.\, we are at the forefront of our East Metro communities.
URL:https://westcolumbiagorgechamber.com/event/chamber-zoom-coffee-chat-with-sue-ohalloran-of-kohler-meyers-ohalloran-4/
LOCATION:OR
CATEGORIES:Chamber Meetings,Chamber Zoom Coffee Chats
END:VEVENT
END:VCALENDAR