BEGIN:VCALENDAR
VERSION:2.0
PRODID:-//West Columbia Gorge Chamber of Commerce - ECPv6.15.20//NONSGML v1.0//EN
CALSCALE:GREGORIAN
METHOD:PUBLISH
X-ORIGINAL-URL:https://westcolumbiagorgechamber.com
X-WR-CALDESC:Events for West Columbia Gorge Chamber of Commerce
REFRESH-INTERVAL;VALUE=DURATION:PT1H
X-Robots-Tag:noindex
X-PUBLISHED-TTL:PT1H
BEGIN:VTIMEZONE
TZID:America/Los_Angeles
BEGIN:DAYLIGHT
TZOFFSETFROM:-0800
TZOFFSETTO:-0700
TZNAME:PDT
DTSTART:20200308T100000
END:DAYLIGHT
BEGIN:STANDARD
TZOFFSETFROM:-0700
TZOFFSETTO:-0800
TZNAME:PST
DTSTART:20201101T090000
END:STANDARD
BEGIN:DAYLIGHT
TZOFFSETFROM:-0800
TZOFFSETTO:-0700
TZNAME:PDT
DTSTART:20210314T100000
END:DAYLIGHT
BEGIN:STANDARD
TZOFFSETFROM:-0700
TZOFFSETTO:-0800
TZNAME:PST
DTSTART:20211107T090000
END:STANDARD
BEGIN:DAYLIGHT
TZOFFSETFROM:-0800
TZOFFSETTO:-0700
TZNAME:PDT
DTSTART:20220313T100000
END:DAYLIGHT
BEGIN:STANDARD
TZOFFSETFROM:-0700
TZOFFSETTO:-0800
TZNAME:PST
DTSTART:20221106T090000
END:STANDARD
END:VTIMEZONE
BEGIN:VEVENT
DTSTART;TZID=America/Los_Angeles:20211006T080000
DTEND;TZID=America/Los_Angeles:20211006T084500
DTSTAMP:20260420T202618
CREATED:20210927T195303Z
LAST-MODIFIED:20210927T195303Z
UID:9605-1633507200-1633509900@westcolumbiagorgechamber.com
SUMMARY:Zoom Coffee Chat - Cindy Passannante & CP Trips
DESCRIPTION:Come and listen to President and Owner of CP Trips\, Cindy Passannante\, talk about the latest updates with the travel industry. \n  \nChamber Admin is inviting you to a scheduled Zoom meeting.\n \nTopic: Chamber Chat\nTime: Oct 6\, 2021 08:00 AM Pacific Time (US and Canada)\n    Every week on Wed\, 10 occurrence(s)\n    Oct 6\, 2021 08:00 AM\n    Oct 13\, 2021 08:00 AM\n    Oct 20\, 2021 08:00 AM\n    Oct 27\, 2021 08:00 AM\n    Nov 3\, 2021 08:00 AM\n    Nov 10\, 2021 08:00 AM\n    Nov 17\, 2021 08:00 AM\n    Nov 24\, 2021 08:00 AM\n    Dec 1\, 2021 08:00 AM\n    Dec 8\, 2021 08:00 AM\nPlease download and import the following iCalendar (.ics) files to your calendar system.\nWeekly: https://us02web.zoom.us/meeting/tZUtd-iuqD8qEtNZ1AWzu5zzVEjJo83PiFC6/ics?icsToken=98tyKuGprjsrHNKRsBGARpwcAoigd-7wpilfj7dzpk7ENDpGNxnsAMdIGL0nQ-jZ\n \nJoin Zoom Meeting\nhttps://us02web.zoom.us/j/81001664087?pwd=WVppdHF5NDlPajdFK2xWL0Z0MjFBZz09\n \nMeeting ID: 810 0166 4087\nPasscode: 604632\nOne tap mobile\n+13462487799\,\,81001664087#\,\,\,\,*604632# US (Houston)\n+16699006833\,\,81001664087#\,\,\,\,*604632# US (San Jose)\n \nDial by your location\n    +1 346 248 7799 US (Houston)\n    +1 669 900 6833 US (San Jose)\n    +1 253 215 8782 US (Tacoma)\n    +1 312 626 6799 US (Chicago)\n    +1 929 436 2866 US (New York)\n    +1 301 715 8592 US (Washington DC)\nMeeting ID: 810 0166 4087\nPasscode: 604632\nFind your local number: https://us02web.zoom.us/u/kbtIRfvatU
URL:https://westcolumbiagorgechamber.com/event/zoom-coffee-chat-cindy-passannante-cp-trips-3/
LOCATION:OR
CATEGORIES:AM Networkings,Chamber Meetings
END:VEVENT
BEGIN:VEVENT
DTSTART;TZID=America/Los_Angeles:20211006T080000
DTEND;TZID=America/Los_Angeles:20211006T084500
DTSTAMP:20260420T202618
CREATED:20210927T195303Z
LAST-MODIFIED:20210927T195303Z
UID:9891-1633507200-1633509900@westcolumbiagorgechamber.com
SUMMARY:Zoom Coffee Chat - Cindy Passannante & CP Trips
DESCRIPTION:Come and listen to President and Owner of CP Trips\, Cindy Passannante\, talk about the latest updates with the travel industry. \n  \nChamber Admin is inviting you to a scheduled Zoom meeting.\n \nTopic: Chamber Chat\nTime: Oct 6\, 2021 08:00 AM Pacific Time (US and Canada)\n    Every week on Wed\, 10 occurrence(s)\n    Oct 6\, 2021 08:00 AM\n    Oct 13\, 2021 08:00 AM\n    Oct 20\, 2021 08:00 AM\n    Oct 27\, 2021 08:00 AM\n    Nov 3\, 2021 08:00 AM\n    Nov 10\, 2021 08:00 AM\n    Nov 17\, 2021 08:00 AM\n    Nov 24\, 2021 08:00 AM\n    Dec 1\, 2021 08:00 AM\n    Dec 8\, 2021 08:00 AM\nPlease download and import the following iCalendar (.ics) files to your calendar system.\nWeekly: https://us02web.zoom.us/meeting/tZUtd-iuqD8qEtNZ1AWzu5zzVEjJo83PiFC6/ics?icsToken=98tyKuGprjsrHNKRsBGARpwcAoigd-7wpilfj7dzpk7ENDpGNxnsAMdIGL0nQ-jZ\n \nJoin Zoom Meeting\nhttps://us02web.zoom.us/j/81001664087?pwd=WVppdHF5NDlPajdFK2xWL0Z0MjFBZz09\n \nMeeting ID: 810 0166 4087\nPasscode: 604632\nOne tap mobile\n+13462487799\,\,81001664087#\,\,\,\,*604632# US (Houston)\n+16699006833\,\,81001664087#\,\,\,\,*604632# US (San Jose)\n \nDial by your location\n    +1 346 248 7799 US (Houston)\n    +1 669 900 6833 US (San Jose)\n    +1 253 215 8782 US (Tacoma)\n    +1 312 626 6799 US (Chicago)\n    +1 929 436 2866 US (New York)\n    +1 301 715 8592 US (Washington DC)\nMeeting ID: 810 0166 4087\nPasscode: 604632\nFind your local number: https://us02web.zoom.us/u/kbtIRfvatU
URL:https://westcolumbiagorgechamber.com/event/zoom-coffee-chat-cindy-passannante-cp-trips-4/
LOCATION:OR
CATEGORIES:AM Networkings,Chamber Meetings
END:VEVENT
BEGIN:VEVENT
DTSTART;TZID=America/Los_Angeles:20211006T080000
DTEND;TZID=America/Los_Angeles:20211006T084500
DTSTAMP:20260420T202618
CREATED:20210927T195303Z
LAST-MODIFIED:20210927T195303Z
UID:8202-1633507200-1633509900@westcolumbiagorgechamber.com
SUMMARY:Zoom Coffee Chat - Cindy Passannante & CP Trips
DESCRIPTION:Come and listen to President and Owner of CP Trips\, Cindy Passannante\, talk about the latest updates with the travel industry. \n  \nChamber Admin is inviting you to a scheduled Zoom meeting.\n \nTopic: Chamber Chat\nTime: Oct 6\, 2021 08:00 AM Pacific Time (US and Canada)\n    Every week on Wed\, 10 occurrence(s)\n    Oct 6\, 2021 08:00 AM\n    Oct 13\, 2021 08:00 AM\n    Oct 20\, 2021 08:00 AM\n    Oct 27\, 2021 08:00 AM\n    Nov 3\, 2021 08:00 AM\n    Nov 10\, 2021 08:00 AM\n    Nov 17\, 2021 08:00 AM\n    Nov 24\, 2021 08:00 AM\n    Dec 1\, 2021 08:00 AM\n    Dec 8\, 2021 08:00 AM\nPlease download and import the following iCalendar (.ics) files to your calendar system.\nWeekly: https://us02web.zoom.us/meeting/tZUtd-iuqD8qEtNZ1AWzu5zzVEjJo83PiFC6/ics?icsToken=98tyKuGprjsrHNKRsBGARpwcAoigd-7wpilfj7dzpk7ENDpGNxnsAMdIGL0nQ-jZ\n \nJoin Zoom Meeting\nhttps://us02web.zoom.us/j/81001664087?pwd=WVppdHF5NDlPajdFK2xWL0Z0MjFBZz09\n \nMeeting ID: 810 0166 4087\nPasscode: 604632\nOne tap mobile\n+13462487799\,\,81001664087#\,\,\,\,*604632# US (Houston)\n+16699006833\,\,81001664087#\,\,\,\,*604632# US (San Jose)\n \nDial by your location\n    +1 346 248 7799 US (Houston)\n    +1 669 900 6833 US (San Jose)\n    +1 253 215 8782 US (Tacoma)\n    +1 312 626 6799 US (Chicago)\n    +1 929 436 2866 US (New York)\n    +1 301 715 8592 US (Washington DC)\nMeeting ID: 810 0166 4087\nPasscode: 604632\nFind your local number: https://us02web.zoom.us/u/kbtIRfvatU
URL:https://westcolumbiagorgechamber.com/event/zoom-coffee-chat-cindy-passannante-cp-trips/
LOCATION:OR
CATEGORIES:AM Networkings,Chamber Meetings
END:VEVENT
BEGIN:VEVENT
DTSTART;TZID=America/Los_Angeles:20211006T080000
DTEND;TZID=America/Los_Angeles:20211006T084500
DTSTAMP:20260420T202618
CREATED:20210927T195303Z
LAST-MODIFIED:20210927T195303Z
UID:9567-1633507200-1633509900@westcolumbiagorgechamber.com
SUMMARY:Zoom Coffee Chat - Cindy Passannante & CP Trips
DESCRIPTION:Come and listen to President and Owner of CP Trips\, Cindy Passannante\, talk about the latest updates with the travel industry. \n  \nChamber Admin is inviting you to a scheduled Zoom meeting.\n \nTopic: Chamber Chat\nTime: Oct 6\, 2021 08:00 AM Pacific Time (US and Canada)\n    Every week on Wed\, 10 occurrence(s)\n    Oct 6\, 2021 08:00 AM\n    Oct 13\, 2021 08:00 AM\n    Oct 20\, 2021 08:00 AM\n    Oct 27\, 2021 08:00 AM\n    Nov 3\, 2021 08:00 AM\n    Nov 10\, 2021 08:00 AM\n    Nov 17\, 2021 08:00 AM\n    Nov 24\, 2021 08:00 AM\n    Dec 1\, 2021 08:00 AM\n    Dec 8\, 2021 08:00 AM\nPlease download and import the following iCalendar (.ics) files to your calendar system.\nWeekly: https://us02web.zoom.us/meeting/tZUtd-iuqD8qEtNZ1AWzu5zzVEjJo83PiFC6/ics?icsToken=98tyKuGprjsrHNKRsBGARpwcAoigd-7wpilfj7dzpk7ENDpGNxnsAMdIGL0nQ-jZ\n \nJoin Zoom Meeting\nhttps://us02web.zoom.us/j/81001664087?pwd=WVppdHF5NDlPajdFK2xWL0Z0MjFBZz09\n \nMeeting ID: 810 0166 4087\nPasscode: 604632\nOne tap mobile\n+13462487799\,\,81001664087#\,\,\,\,*604632# US (Houston)\n+16699006833\,\,81001664087#\,\,\,\,*604632# US (San Jose)\n \nDial by your location\n    +1 346 248 7799 US (Houston)\n    +1 669 900 6833 US (San Jose)\n    +1 253 215 8782 US (Tacoma)\n    +1 312 626 6799 US (Chicago)\n    +1 929 436 2866 US (New York)\n    +1 301 715 8592 US (Washington DC)\nMeeting ID: 810 0166 4087\nPasscode: 604632\nFind your local number: https://us02web.zoom.us/u/kbtIRfvatU
URL:https://westcolumbiagorgechamber.com/event/zoom-coffee-chat-cindy-passannante-cp-trips-2/
LOCATION:OR
CATEGORIES:AM Networkings,Chamber Meetings
END:VEVENT
END:VCALENDAR