BEGIN:VCALENDAR
VERSION:2.0
PRODID:-//West Columbia Gorge Chamber of Commerce - ECPv6.15.20//NONSGML v1.0//EN
CALSCALE:GREGORIAN
METHOD:PUBLISH
X-WR-CALNAME:West Columbia Gorge Chamber of Commerce
X-ORIGINAL-URL:https://westcolumbiagorgechamber.com
X-WR-CALDESC:Events for West Columbia Gorge Chamber of Commerce
REFRESH-INTERVAL;VALUE=DURATION:PT1H
X-Robots-Tag:noindex
X-PUBLISHED-TTL:PT1H
BEGIN:VTIMEZONE
TZID:America/Los_Angeles
BEGIN:DAYLIGHT
TZOFFSETFROM:-0800
TZOFFSETTO:-0700
TZNAME:PDT
DTSTART:20200308T100000
END:DAYLIGHT
BEGIN:STANDARD
TZOFFSETFROM:-0700
TZOFFSETTO:-0800
TZNAME:PST
DTSTART:20201101T090000
END:STANDARD
BEGIN:DAYLIGHT
TZOFFSETFROM:-0800
TZOFFSETTO:-0700
TZNAME:PDT
DTSTART:20210314T100000
END:DAYLIGHT
BEGIN:STANDARD
TZOFFSETFROM:-0700
TZOFFSETTO:-0800
TZNAME:PST
DTSTART:20211107T090000
END:STANDARD
BEGIN:DAYLIGHT
TZOFFSETFROM:-0800
TZOFFSETTO:-0700
TZNAME:PDT
DTSTART:20220313T100000
END:DAYLIGHT
BEGIN:STANDARD
TZOFFSETFROM:-0700
TZOFFSETTO:-0800
TZNAME:PST
DTSTART:20221106T090000
END:STANDARD
END:VTIMEZONE
BEGIN:VEVENT
DTSTART;TZID=America/Los_Angeles:20210811T080000
DTEND;TZID=America/Los_Angeles:20210811T084500
DTSTAMP:20260420T230555
CREATED:20210803T210618Z
LAST-MODIFIED:20210803T210618Z
UID:8091-1628668800-1628671500@westcolumbiagorgechamber.com
SUMMARY:Zoom Coffee Chat with Jo Ann Lindenthal of Multnomah Learning Academy K-8 Public Charter School
DESCRIPTION:Come and listen to JoAnn Lindenthal\, Executive Director – CFO-HR of MLA-K-8 Public Charter School speak about their special school and what they are offering students this coming Fall. \nChamber Admin is inviting you to a scheduled Zoom meeting.\n \nTopic: Chamber Chat\nTime: Aug 11\, 2021 08:00 AM Pacific Time (US and Canada)\n    Every week on Wed\, 18 occurrence(s)\n    Aug 11\, 2021 08:00 AM\n    Aug 18\, 2021 08:00 AM\n    Aug 25\, 2021 08:00 AM\n    Sep 1\, 2021 08:00 AM\n    Sep 8\, 2021 08:00 AM\n    Sep 15\, 2021 08:00 AM\n    Sep 22\, 2021 08:00 AM\n    Sep 29\, 2021 08:00 AM\n    Oct 6\, 2021 08:00 AM\n    Oct 13\, 2021 08:00 AM\n    Oct 20\, 2021 08:00 AM\n    Oct 27\, 2021 08:00 AM\n    Nov 3\, 2021 08:00 AM\n    Nov 10\, 2021 08:00 AM\n    Nov 17\, 2021 08:00 AM\n    Nov 24\, 2021 08:00 AM\n    Dec 1\, 2021 08:00 AM\n    Dec 8\, 2021 08:00 AM\nPlease download and import the following iCalendar (.ics) files to your calendar system.\nWeekly: https://us02web.zoom.us/meeting/tZUtd-iuqD8qEtNZ1AWzu5zzVEjJo83PiFC6/ics?icsToken=98tyKuGprjsrHNKRsBGARpwcAoigd-7wpilfj7dzpk7ENDpGNxnsAMdIGL0nQ-jZ\n \nJoin Zoom Meeting\nhttps://us02web.zoom.us/j/81001664087?pwd=WVppdHF5NDlPajdFK2xWL0Z0MjFBZz09\n \nMeeting ID: 810 0166 4087\nPasscode: 604632\nOne tap mobile\n+13126266799\,\,81001664087#\,\,\,\,*604632# US (Chicago)\n+19294362866\,\,81001664087#\,\,\,\,*604632# US (New York)\n \nDial by your location\n    +1 312 626 6799 US (Chicago)\n    +1 929 436 2866 US (New York)\n    +1 301 715 8592 US (Washington DC)\n    +1 346 248 7799 US (Houston)\n    +1 669 900 6833 US (San Jose)\n    +1 253 215 8782 US (Tacoma)\nMeeting ID: 810 0166 4087\nPasscode: 604632\nFind your local number: https://us02web.zoom.us/u/kbtIRfvatU\n 
URL:https://westcolumbiagorgechamber.com/event/multnomah-learning-academy-k-8-public-charter-school/
LOCATION:OR
CATEGORIES:Chamber Meetings,Chamber Zoom Coffee Chats
END:VEVENT
BEGIN:VEVENT
DTSTART;TZID=America/Los_Angeles:20210811T080000
DTEND;TZID=America/Los_Angeles:20210811T084500
DTSTAMP:20260420T230555
CREATED:20210803T210618Z
LAST-MODIFIED:20210803T210618Z
UID:9537-1628668800-1628671500@westcolumbiagorgechamber.com
SUMMARY:Zoom Coffee Chat with Jo Ann Lindenthal of Multnomah Learning Academy K-8 Public Charter School
DESCRIPTION:Come and listen to JoAnn Lindenthal\, Executive Director – CFO-HR of MLA-K-8 Public Charter School speak about their special school and what they are offering students this coming Fall. \nChamber Admin is inviting you to a scheduled Zoom meeting.\n \nTopic: Chamber Chat\nTime: Aug 11\, 2021 08:00 AM Pacific Time (US and Canada)\n    Every week on Wed\, 18 occurrence(s)\n    Aug 11\, 2021 08:00 AM\n    Aug 18\, 2021 08:00 AM\n    Aug 25\, 2021 08:00 AM\n    Sep 1\, 2021 08:00 AM\n    Sep 8\, 2021 08:00 AM\n    Sep 15\, 2021 08:00 AM\n    Sep 22\, 2021 08:00 AM\n    Sep 29\, 2021 08:00 AM\n    Oct 6\, 2021 08:00 AM\n    Oct 13\, 2021 08:00 AM\n    Oct 20\, 2021 08:00 AM\n    Oct 27\, 2021 08:00 AM\n    Nov 3\, 2021 08:00 AM\n    Nov 10\, 2021 08:00 AM\n    Nov 17\, 2021 08:00 AM\n    Nov 24\, 2021 08:00 AM\n    Dec 1\, 2021 08:00 AM\n    Dec 8\, 2021 08:00 AM\nPlease download and import the following iCalendar (.ics) files to your calendar system.\nWeekly: https://us02web.zoom.us/meeting/tZUtd-iuqD8qEtNZ1AWzu5zzVEjJo83PiFC6/ics?icsToken=98tyKuGprjsrHNKRsBGARpwcAoigd-7wpilfj7dzpk7ENDpGNxnsAMdIGL0nQ-jZ\n \nJoin Zoom Meeting\nhttps://us02web.zoom.us/j/81001664087?pwd=WVppdHF5NDlPajdFK2xWL0Z0MjFBZz09\n \nMeeting ID: 810 0166 4087\nPasscode: 604632\nOne tap mobile\n+13126266799\,\,81001664087#\,\,\,\,*604632# US (Chicago)\n+19294362866\,\,81001664087#\,\,\,\,*604632# US (New York)\n \nDial by your location\n    +1 312 626 6799 US (Chicago)\n    +1 929 436 2866 US (New York)\n    +1 301 715 8592 US (Washington DC)\n    +1 346 248 7799 US (Houston)\n    +1 669 900 6833 US (San Jose)\n    +1 253 215 8782 US (Tacoma)\nMeeting ID: 810 0166 4087\nPasscode: 604632\nFind your local number: https://us02web.zoom.us/u/kbtIRfvatU\n 
URL:https://westcolumbiagorgechamber.com/event/multnomah-learning-academy-k-8-public-charter-school-2/
LOCATION:OR
CATEGORIES:Chamber Meetings,Chamber Zoom Coffee Chats
END:VEVENT
BEGIN:VEVENT
DTSTART;TZID=America/Los_Angeles:20210811T080000
DTEND;TZID=America/Los_Angeles:20210811T084500
DTSTAMP:20260420T230555
CREATED:20210803T210618Z
LAST-MODIFIED:20210803T210618Z
UID:9571-1628668800-1628671500@westcolumbiagorgechamber.com
SUMMARY:Zoom Coffee Chat with Jo Ann Lindenthal of Multnomah Learning Academy K-8 Public Charter School
DESCRIPTION:Come and listen to JoAnn Lindenthal\, Executive Director – CFO-HR of MLA-K-8 Public Charter School speak about their special school and what they are offering students this coming Fall. \nChamber Admin is inviting you to a scheduled Zoom meeting.\n \nTopic: Chamber Chat\nTime: Aug 11\, 2021 08:00 AM Pacific Time (US and Canada)\n    Every week on Wed\, 18 occurrence(s)\n    Aug 11\, 2021 08:00 AM\n    Aug 18\, 2021 08:00 AM\n    Aug 25\, 2021 08:00 AM\n    Sep 1\, 2021 08:00 AM\n    Sep 8\, 2021 08:00 AM\n    Sep 15\, 2021 08:00 AM\n    Sep 22\, 2021 08:00 AM\n    Sep 29\, 2021 08:00 AM\n    Oct 6\, 2021 08:00 AM\n    Oct 13\, 2021 08:00 AM\n    Oct 20\, 2021 08:00 AM\n    Oct 27\, 2021 08:00 AM\n    Nov 3\, 2021 08:00 AM\n    Nov 10\, 2021 08:00 AM\n    Nov 17\, 2021 08:00 AM\n    Nov 24\, 2021 08:00 AM\n    Dec 1\, 2021 08:00 AM\n    Dec 8\, 2021 08:00 AM\nPlease download and import the following iCalendar (.ics) files to your calendar system.\nWeekly: https://us02web.zoom.us/meeting/tZUtd-iuqD8qEtNZ1AWzu5zzVEjJo83PiFC6/ics?icsToken=98tyKuGprjsrHNKRsBGARpwcAoigd-7wpilfj7dzpk7ENDpGNxnsAMdIGL0nQ-jZ\n \nJoin Zoom Meeting\nhttps://us02web.zoom.us/j/81001664087?pwd=WVppdHF5NDlPajdFK2xWL0Z0MjFBZz09\n \nMeeting ID: 810 0166 4087\nPasscode: 604632\nOne tap mobile\n+13126266799\,\,81001664087#\,\,\,\,*604632# US (Chicago)\n+19294362866\,\,81001664087#\,\,\,\,*604632# US (New York)\n \nDial by your location\n    +1 312 626 6799 US (Chicago)\n    +1 929 436 2866 US (New York)\n    +1 301 715 8592 US (Washington DC)\n    +1 346 248 7799 US (Houston)\n    +1 669 900 6833 US (San Jose)\n    +1 253 215 8782 US (Tacoma)\nMeeting ID: 810 0166 4087\nPasscode: 604632\nFind your local number: https://us02web.zoom.us/u/kbtIRfvatU\n 
URL:https://westcolumbiagorgechamber.com/event/multnomah-learning-academy-k-8-public-charter-school-3/
LOCATION:OR
CATEGORIES:Chamber Meetings,Chamber Zoom Coffee Chats
END:VEVENT
BEGIN:VEVENT
DTSTART;TZID=America/Los_Angeles:20210811T080000
DTEND;TZID=America/Los_Angeles:20210811T084500
DTSTAMP:20260420T230555
CREATED:20210803T210618Z
LAST-MODIFIED:20210803T210618Z
UID:9881-1628668800-1628671500@westcolumbiagorgechamber.com
SUMMARY:Zoom Coffee Chat with Jo Ann Lindenthal of Multnomah Learning Academy K-8 Public Charter School
DESCRIPTION:Come and listen to JoAnn Lindenthal\, Executive Director – CFO-HR of MLA-K-8 Public Charter School speak about their special school and what they are offering students this coming Fall. \nChamber Admin is inviting you to a scheduled Zoom meeting.\n \nTopic: Chamber Chat\nTime: Aug 11\, 2021 08:00 AM Pacific Time (US and Canada)\n    Every week on Wed\, 18 occurrence(s)\n    Aug 11\, 2021 08:00 AM\n    Aug 18\, 2021 08:00 AM\n    Aug 25\, 2021 08:00 AM\n    Sep 1\, 2021 08:00 AM\n    Sep 8\, 2021 08:00 AM\n    Sep 15\, 2021 08:00 AM\n    Sep 22\, 2021 08:00 AM\n    Sep 29\, 2021 08:00 AM\n    Oct 6\, 2021 08:00 AM\n    Oct 13\, 2021 08:00 AM\n    Oct 20\, 2021 08:00 AM\n    Oct 27\, 2021 08:00 AM\n    Nov 3\, 2021 08:00 AM\n    Nov 10\, 2021 08:00 AM\n    Nov 17\, 2021 08:00 AM\n    Nov 24\, 2021 08:00 AM\n    Dec 1\, 2021 08:00 AM\n    Dec 8\, 2021 08:00 AM\nPlease download and import the following iCalendar (.ics) files to your calendar system.\nWeekly: https://us02web.zoom.us/meeting/tZUtd-iuqD8qEtNZ1AWzu5zzVEjJo83PiFC6/ics?icsToken=98tyKuGprjsrHNKRsBGARpwcAoigd-7wpilfj7dzpk7ENDpGNxnsAMdIGL0nQ-jZ\n \nJoin Zoom Meeting\nhttps://us02web.zoom.us/j/81001664087?pwd=WVppdHF5NDlPajdFK2xWL0Z0MjFBZz09\n \nMeeting ID: 810 0166 4087\nPasscode: 604632\nOne tap mobile\n+13126266799\,\,81001664087#\,\,\,\,*604632# US (Chicago)\n+19294362866\,\,81001664087#\,\,\,\,*604632# US (New York)\n \nDial by your location\n    +1 312 626 6799 US (Chicago)\n    +1 929 436 2866 US (New York)\n    +1 301 715 8592 US (Washington DC)\n    +1 346 248 7799 US (Houston)\n    +1 669 900 6833 US (San Jose)\n    +1 253 215 8782 US (Tacoma)\nMeeting ID: 810 0166 4087\nPasscode: 604632\nFind your local number: https://us02web.zoom.us/u/kbtIRfvatU\n 
URL:https://westcolumbiagorgechamber.com/event/multnomah-learning-academy-k-8-public-charter-school-4/
LOCATION:OR
CATEGORIES:Chamber Meetings,Chamber Zoom Coffee Chats
END:VEVENT
END:VCALENDAR