BEGIN:VCALENDAR
VERSION:2.0
PRODID:-//West Columbia Gorge Chamber of Commerce - ECPv6.15.20//NONSGML v1.0//EN
CALSCALE:GREGORIAN
METHOD:PUBLISH
X-ORIGINAL-URL:https://westcolumbiagorgechamber.com
X-WR-CALDESC:Events for West Columbia Gorge Chamber of Commerce
REFRESH-INTERVAL;VALUE=DURATION:PT1H
X-Robots-Tag:noindex
X-PUBLISHED-TTL:PT1H
BEGIN:VTIMEZONE
TZID:America/Los_Angeles
BEGIN:DAYLIGHT
TZOFFSETFROM:-0800
TZOFFSETTO:-0700
TZNAME:PDT
DTSTART:20200308T100000
END:DAYLIGHT
BEGIN:STANDARD
TZOFFSETFROM:-0700
TZOFFSETTO:-0800
TZNAME:PST
DTSTART:20201101T090000
END:STANDARD
BEGIN:DAYLIGHT
TZOFFSETFROM:-0800
TZOFFSETTO:-0700
TZNAME:PDT
DTSTART:20210314T100000
END:DAYLIGHT
BEGIN:STANDARD
TZOFFSETFROM:-0700
TZOFFSETTO:-0800
TZNAME:PST
DTSTART:20211107T090000
END:STANDARD
BEGIN:DAYLIGHT
TZOFFSETFROM:-0800
TZOFFSETTO:-0700
TZNAME:PDT
DTSTART:20220313T100000
END:DAYLIGHT
BEGIN:STANDARD
TZOFFSETFROM:-0700
TZOFFSETTO:-0800
TZNAME:PST
DTSTART:20221106T090000
END:STANDARD
END:VTIMEZONE
BEGIN:VEVENT
DTSTART;TZID=America/Los_Angeles:20210721T080000
DTEND;TZID=America/Los_Angeles:20210721T090000
DTSTAMP:20260421T001957
CREATED:20210503T175144Z
LAST-MODIFIED:20210503T175144Z
UID:9508-1626854400-1626858000@westcolumbiagorgechamber.com
SUMMARY:Zoom Coffee Chat with Lance Fisher of Lance Fisher Fishing
DESCRIPTION:This week we take to the outdoors with Lance Fisher of Lance Fisher Fishing! This is another opportunity to support of your fellow chamber members and hear what he does and how he does it. Many people think they know how to fish but there are so many ways to do it and why not have someone help you discover how to make the best out of a fishing trip. Please share this e-blast with other members and friends as we try to encourage the community to be involved with our businesses. Explore this fun sport and make the most of your summer.\n \n\nChamber Admin is inviting you to a scheduled Zoom meeting.\n \nTopic: Chamber Chat\nTime: Jul 21\, 2021 08:00 AM Pacific Time (US and Canada)\n    Every week on Wed\, 1 occurrence(s)\n    Jul 21\, 2021 08:00 AM\nPlease download and import the following iCalendar (.ics) files to your calendar system.\nWeekly: https://us02web.zoom.us/meeting/tZUtd-iuqD8qEtNZ1AWzu5zzVEjJo83PiFC6/ics?icsToken=98tyKuGprjsrHNKRsBGARpwcAoigd-7wpilfj7dzpk7ENDpGNxnsAMdIGL0nQ-jZ\n \nJoin Zoom Meeting\nhttps://us02web.zoom.us/j/81001664087?pwd=WVppdHF5NDlPajdFK2xWL0Z0MjFBZz09\n \nMeeting ID: 810 0166 4087\nPasscode: 604632\nOne tap mobile\n+13462487799\,\,81001664087#\,\,\,\,*604632# US (Houston)\n+16699006833\,\,81001664087#\,\,\,\,*604632# US (San Jose)\n \nDial by your location\n    +1 346 248 7799 US (Houston)\n    +1 669 900 6833 US (San Jose)\n    +1 253 215 8782 US (Tacoma)\n    +1 312 626 6799 US (Chicago)\n    +1 929 436 2866 US (New York)\n    +1 301 715 8592 US (Washington DC)\nMeeting ID: 810 0166 4087\nPasscode: 604632\nFind your local number: https://us02web.zoom.us/u/kbtIRfvatU\n \n\n 
URL:https://westcolumbiagorgechamber.com/event/zoom-coffee-chat-with-lance-fisher-of-lance-fisher-fishing-2/
LOCATION:OR
CATEGORIES:Chamber Meetings,Chamber Zoom Coffee Chats
END:VEVENT
BEGIN:VEVENT
DTSTART;TZID=America/Los_Angeles:20210721T080000
DTEND;TZID=America/Los_Angeles:20210721T090000
DTSTAMP:20260421T001957
CREATED:20210503T175144Z
LAST-MODIFIED:20210503T175144Z
UID:9541-1626854400-1626858000@westcolumbiagorgechamber.com
SUMMARY:Zoom Coffee Chat with Lance Fisher of Lance Fisher Fishing
DESCRIPTION:This week we take to the outdoors with Lance Fisher of Lance Fisher Fishing! This is another opportunity to support of your fellow chamber members and hear what he does and how he does it. Many people think they know how to fish but there are so many ways to do it and why not have someone help you discover how to make the best out of a fishing trip. Please share this e-blast with other members and friends as we try to encourage the community to be involved with our businesses. Explore this fun sport and make the most of your summer.\n \n\nChamber Admin is inviting you to a scheduled Zoom meeting.\n \nTopic: Chamber Chat\nTime: Jul 21\, 2021 08:00 AM Pacific Time (US and Canada)\n    Every week on Wed\, 1 occurrence(s)\n    Jul 21\, 2021 08:00 AM\nPlease download and import the following iCalendar (.ics) files to your calendar system.\nWeekly: https://us02web.zoom.us/meeting/tZUtd-iuqD8qEtNZ1AWzu5zzVEjJo83PiFC6/ics?icsToken=98tyKuGprjsrHNKRsBGARpwcAoigd-7wpilfj7dzpk7ENDpGNxnsAMdIGL0nQ-jZ\n \nJoin Zoom Meeting\nhttps://us02web.zoom.us/j/81001664087?pwd=WVppdHF5NDlPajdFK2xWL0Z0MjFBZz09\n \nMeeting ID: 810 0166 4087\nPasscode: 604632\nOne tap mobile\n+13462487799\,\,81001664087#\,\,\,\,*604632# US (Houston)\n+16699006833\,\,81001664087#\,\,\,\,*604632# US (San Jose)\n \nDial by your location\n    +1 346 248 7799 US (Houston)\n    +1 669 900 6833 US (San Jose)\n    +1 253 215 8782 US (Tacoma)\n    +1 312 626 6799 US (Chicago)\n    +1 929 436 2866 US (New York)\n    +1 301 715 8592 US (Washington DC)\nMeeting ID: 810 0166 4087\nPasscode: 604632\nFind your local number: https://us02web.zoom.us/u/kbtIRfvatU\n \n\n 
URL:https://westcolumbiagorgechamber.com/event/zoom-coffee-chat-with-lance-fisher-of-lance-fisher-fishing-3/
LOCATION:OR
CATEGORIES:Chamber Meetings,Chamber Zoom Coffee Chats
END:VEVENT
BEGIN:VEVENT
DTSTART;TZID=America/Los_Angeles:20210721T080000
DTEND;TZID=America/Los_Angeles:20210721T090000
DTSTAMP:20260421T001957
CREATED:20210503T175144Z
LAST-MODIFIED:20210503T175144Z
UID:9871-1626854400-1626858000@westcolumbiagorgechamber.com
SUMMARY:Zoom Coffee Chat with Lance Fisher of Lance Fisher Fishing
DESCRIPTION:This week we take to the outdoors with Lance Fisher of Lance Fisher Fishing! This is another opportunity to support of your fellow chamber members and hear what he does and how he does it. Many people think they know how to fish but there are so many ways to do it and why not have someone help you discover how to make the best out of a fishing trip. Please share this e-blast with other members and friends as we try to encourage the community to be involved with our businesses. Explore this fun sport and make the most of your summer.\n \n\nChamber Admin is inviting you to a scheduled Zoom meeting.\n \nTopic: Chamber Chat\nTime: Jul 21\, 2021 08:00 AM Pacific Time (US and Canada)\n    Every week on Wed\, 1 occurrence(s)\n    Jul 21\, 2021 08:00 AM\nPlease download and import the following iCalendar (.ics) files to your calendar system.\nWeekly: https://us02web.zoom.us/meeting/tZUtd-iuqD8qEtNZ1AWzu5zzVEjJo83PiFC6/ics?icsToken=98tyKuGprjsrHNKRsBGARpwcAoigd-7wpilfj7dzpk7ENDpGNxnsAMdIGL0nQ-jZ\n \nJoin Zoom Meeting\nhttps://us02web.zoom.us/j/81001664087?pwd=WVppdHF5NDlPajdFK2xWL0Z0MjFBZz09\n \nMeeting ID: 810 0166 4087\nPasscode: 604632\nOne tap mobile\n+13462487799\,\,81001664087#\,\,\,\,*604632# US (Houston)\n+16699006833\,\,81001664087#\,\,\,\,*604632# US (San Jose)\n \nDial by your location\n    +1 346 248 7799 US (Houston)\n    +1 669 900 6833 US (San Jose)\n    +1 253 215 8782 US (Tacoma)\n    +1 312 626 6799 US (Chicago)\n    +1 929 436 2866 US (New York)\n    +1 301 715 8592 US (Washington DC)\nMeeting ID: 810 0166 4087\nPasscode: 604632\nFind your local number: https://us02web.zoom.us/u/kbtIRfvatU\n \n\n 
URL:https://westcolumbiagorgechamber.com/event/zoom-coffee-chat-with-lance-fisher-of-lance-fisher-fishing-4/
LOCATION:OR
CATEGORIES:Chamber Meetings,Chamber Zoom Coffee Chats
END:VEVENT
BEGIN:VEVENT
DTSTART;TZID=America/Los_Angeles:20210721T080000
DTEND;TZID=America/Los_Angeles:20210721T090000
DTSTAMP:20260421T001957
CREATED:20210503T175144Z
LAST-MODIFIED:20210503T175144Z
UID:7863-1626854400-1626858000@westcolumbiagorgechamber.com
SUMMARY:Zoom Coffee Chat with Lance Fisher of Lance Fisher Fishing
DESCRIPTION:This week we take to the outdoors with Lance Fisher of Lance Fisher Fishing! This is another opportunity to support of your fellow chamber members and hear what he does and how he does it. Many people think they know how to fish but there are so many ways to do it and why not have someone help you discover how to make the best out of a fishing trip. Please share this e-blast with other members and friends as we try to encourage the community to be involved with our businesses. Explore this fun sport and make the most of your summer.\n \n\nChamber Admin is inviting you to a scheduled Zoom meeting.\n \nTopic: Chamber Chat\nTime: Jul 21\, 2021 08:00 AM Pacific Time (US and Canada)\n    Every week on Wed\, 1 occurrence(s)\n    Jul 21\, 2021 08:00 AM\nPlease download and import the following iCalendar (.ics) files to your calendar system.\nWeekly: https://us02web.zoom.us/meeting/tZUtd-iuqD8qEtNZ1AWzu5zzVEjJo83PiFC6/ics?icsToken=98tyKuGprjsrHNKRsBGARpwcAoigd-7wpilfj7dzpk7ENDpGNxnsAMdIGL0nQ-jZ\n \nJoin Zoom Meeting\nhttps://us02web.zoom.us/j/81001664087?pwd=WVppdHF5NDlPajdFK2xWL0Z0MjFBZz09\n \nMeeting ID: 810 0166 4087\nPasscode: 604632\nOne tap mobile\n+13462487799\,\,81001664087#\,\,\,\,*604632# US (Houston)\n+16699006833\,\,81001664087#\,\,\,\,*604632# US (San Jose)\n \nDial by your location\n    +1 346 248 7799 US (Houston)\n    +1 669 900 6833 US (San Jose)\n    +1 253 215 8782 US (Tacoma)\n    +1 312 626 6799 US (Chicago)\n    +1 929 436 2866 US (New York)\n    +1 301 715 8592 US (Washington DC)\nMeeting ID: 810 0166 4087\nPasscode: 604632\nFind your local number: https://us02web.zoom.us/u/kbtIRfvatU\n \n\n 
URL:https://westcolumbiagorgechamber.com/event/zoom-coffee-chat-with-lance-fisher-of-lance-fisher-fishing/
LOCATION:OR
CATEGORIES:Chamber Meetings,Chamber Zoom Coffee Chats
END:VEVENT
END:VCALENDAR