BEGIN:VCALENDAR
VERSION:2.0
PRODID:-//West Columbia Gorge Chamber of Commerce - ECPv6.15.20//NONSGML v1.0//EN
CALSCALE:GREGORIAN
METHOD:PUBLISH
X-ORIGINAL-URL:https://westcolumbiagorgechamber.com
X-WR-CALDESC:Events for West Columbia Gorge Chamber of Commerce
REFRESH-INTERVAL;VALUE=DURATION:PT1H
X-Robots-Tag:noindex
X-PUBLISHED-TTL:PT1H
BEGIN:VTIMEZONE
TZID:America/Los_Angeles
BEGIN:DAYLIGHT
TZOFFSETFROM:-0800
TZOFFSETTO:-0700
TZNAME:PDT
DTSTART:20200308T100000
END:DAYLIGHT
BEGIN:STANDARD
TZOFFSETFROM:-0700
TZOFFSETTO:-0800
TZNAME:PST
DTSTART:20201101T090000
END:STANDARD
BEGIN:DAYLIGHT
TZOFFSETFROM:-0800
TZOFFSETTO:-0700
TZNAME:PDT
DTSTART:20210314T100000
END:DAYLIGHT
BEGIN:STANDARD
TZOFFSETFROM:-0700
TZOFFSETTO:-0800
TZNAME:PST
DTSTART:20211107T090000
END:STANDARD
BEGIN:DAYLIGHT
TZOFFSETFROM:-0800
TZOFFSETTO:-0700
TZNAME:PDT
DTSTART:20220313T100000
END:DAYLIGHT
BEGIN:STANDARD
TZOFFSETFROM:-0700
TZOFFSETTO:-0800
TZNAME:PST
DTSTART:20221106T090000
END:STANDARD
END:VTIMEZONE
BEGIN:VEVENT
DTSTART;TZID=America/Los_Angeles:20210623T080000
DTEND;TZID=America/Los_Angeles:20210623T084500
DTSTAMP:20260421T014804
CREATED:20210421T160234Z
LAST-MODIFIED:20210421T160234Z
UID:9864-1624435200-1624437900@westcolumbiagorgechamber.com
SUMMARY:Zoom Coffee Chat with Rev. Brad Busiek of Smith Memorial Presbyterian Church
DESCRIPTION:Come and hear all about Smith Memorial Presbyterian Church and the new food pantry. Smith is making a difference and here to speak about it is the pastor of the church\, Brad Busiek! So much is happening at the church from the new pantry to the amazing stained glass windows and rich history of a church nearly 130 years old. This my Church home and I have been very involved here trying to make a difference in our community like helping Fairview Elementary School when they need help after school\, music programs and a place for kids when displaced by school closures. \nChamber Admin is inviting you to a scheduled Zoom meeting.\n \nTopic: Chamber Chat\nTime: Jun 23\, 2021 08:00 AM Pacific Time (US and Canada)\n    Every week on Wed\, 5 occurrence(s)\n    Jun 23\, 2021 08:00 AM\n    Jun 30\, 2021 08:00 AM\n    Jul 7\, 2021 08:00 AM\n    Jul 14\, 2021 08:00 AM\n    Jul 21\, 2021 08:00 AM\nPlease download and import the following iCalendar (.ics) files to your calendar system.\nWeekly: https://us02web.zoom.us/meeting/tZUtd-iuqD8qEtNZ1AWzu5zzVEjJo83PiFC6/ics?icsToken=98tyKuGprjsrHNKRsBGARpwcAoigd-7wpilfj7dzpk7ENDpGNxnsAMdIGL0nQ-jZ\n \nJoin Zoom Meeting\nhttps://us02web.zoom.us/j/81001664087?pwd=WVppdHF5NDlPajdFK2xWL0Z0MjFBZz09\n \nMeeting ID: 810 0166 4087\nPasscode: 604632\nOne tap mobile\n+13462487799\,\,81001664087#\,\,\,\,*604632# US (Houston)\n+16699006833\,\,81001664087#\,\,\,\,*604632# US (San Jose)\n \nDial by your location\n    +1 346 248 7799 US (Houston)\n    +1 669 900 6833 US (San Jose)\n    +1 253 215 8782 US (Tacoma)\n    +1 312 626 6799 US (Chicago)\n    +1 929 436 2866 US (New York)\n    +1 301 715 8592 US (Washington DC)\nMeeting ID: 810 0166 4087\nPasscode: 604632\nFind your local number: https://us02web.zoom.us/u/kbtIRfvatU
URL:https://westcolumbiagorgechamber.com/event/zoom-coffee-chat-with-rev-brad-busiek-of-smith-memorial-presbyterian-church-4/
LOCATION:OR
CATEGORIES:Chamber Meetings,Chamber Zoom Coffee Chats
END:VEVENT
BEGIN:VEVENT
DTSTART;TZID=America/Los_Angeles:20210623T080000
DTEND;TZID=America/Los_Angeles:20210623T084500
DTSTAMP:20260421T014804
CREATED:20210421T160234Z
LAST-MODIFIED:20210421T160234Z
UID:7820-1624435200-1624437900@westcolumbiagorgechamber.com
SUMMARY:Zoom Coffee Chat with Rev. Brad Busiek of Smith Memorial Presbyterian Church
DESCRIPTION:Come and hear all about Smith Memorial Presbyterian Church and the new food pantry. Smith is making a difference and here to speak about it is the pastor of the church\, Brad Busiek! So much is happening at the church from the new pantry to the amazing stained glass windows and rich history of a church nearly 130 years old. This my Church home and I have been very involved here trying to make a difference in our community like helping Fairview Elementary School when they need help after school\, music programs and a place for kids when displaced by school closures. \nChamber Admin is inviting you to a scheduled Zoom meeting.\n \nTopic: Chamber Chat\nTime: Jun 23\, 2021 08:00 AM Pacific Time (US and Canada)\n    Every week on Wed\, 5 occurrence(s)\n    Jun 23\, 2021 08:00 AM\n    Jun 30\, 2021 08:00 AM\n    Jul 7\, 2021 08:00 AM\n    Jul 14\, 2021 08:00 AM\n    Jul 21\, 2021 08:00 AM\nPlease download and import the following iCalendar (.ics) files to your calendar system.\nWeekly: https://us02web.zoom.us/meeting/tZUtd-iuqD8qEtNZ1AWzu5zzVEjJo83PiFC6/ics?icsToken=98tyKuGprjsrHNKRsBGARpwcAoigd-7wpilfj7dzpk7ENDpGNxnsAMdIGL0nQ-jZ\n \nJoin Zoom Meeting\nhttps://us02web.zoom.us/j/81001664087?pwd=WVppdHF5NDlPajdFK2xWL0Z0MjFBZz09\n \nMeeting ID: 810 0166 4087\nPasscode: 604632\nOne tap mobile\n+13462487799\,\,81001664087#\,\,\,\,*604632# US (Houston)\n+16699006833\,\,81001664087#\,\,\,\,*604632# US (San Jose)\n \nDial by your location\n    +1 346 248 7799 US (Houston)\n    +1 669 900 6833 US (San Jose)\n    +1 253 215 8782 US (Tacoma)\n    +1 312 626 6799 US (Chicago)\n    +1 929 436 2866 US (New York)\n    +1 301 715 8592 US (Washington DC)\nMeeting ID: 810 0166 4087\nPasscode: 604632\nFind your local number: https://us02web.zoom.us/u/kbtIRfvatU
URL:https://westcolumbiagorgechamber.com/event/zoom-coffee-chat-with-rev-brad-busiek-of-smith-memorial-presbyterian-church/
LOCATION:OR
CATEGORIES:Chamber Meetings,Chamber Zoom Coffee Chats
END:VEVENT
BEGIN:VEVENT
DTSTART;TZID=America/Los_Angeles:20210623T080000
DTEND;TZID=America/Los_Angeles:20210623T084500
DTSTAMP:20260421T014804
CREATED:20210421T160234Z
LAST-MODIFIED:20210421T160234Z
UID:9487-1624435200-1624437900@westcolumbiagorgechamber.com
SUMMARY:Zoom Coffee Chat with Rev. Brad Busiek of Smith Memorial Presbyterian Church
DESCRIPTION:Come and hear all about Smith Memorial Presbyterian Church and the new food pantry. Smith is making a difference and here to speak about it is the pastor of the church\, Brad Busiek! So much is happening at the church from the new pantry to the amazing stained glass windows and rich history of a church nearly 130 years old. This my Church home and I have been very involved here trying to make a difference in our community like helping Fairview Elementary School when they need help after school\, music programs and a place for kids when displaced by school closures. \nChamber Admin is inviting you to a scheduled Zoom meeting.\n \nTopic: Chamber Chat\nTime: Jun 23\, 2021 08:00 AM Pacific Time (US and Canada)\n    Every week on Wed\, 5 occurrence(s)\n    Jun 23\, 2021 08:00 AM\n    Jun 30\, 2021 08:00 AM\n    Jul 7\, 2021 08:00 AM\n    Jul 14\, 2021 08:00 AM\n    Jul 21\, 2021 08:00 AM\nPlease download and import the following iCalendar (.ics) files to your calendar system.\nWeekly: https://us02web.zoom.us/meeting/tZUtd-iuqD8qEtNZ1AWzu5zzVEjJo83PiFC6/ics?icsToken=98tyKuGprjsrHNKRsBGARpwcAoigd-7wpilfj7dzpk7ENDpGNxnsAMdIGL0nQ-jZ\n \nJoin Zoom Meeting\nhttps://us02web.zoom.us/j/81001664087?pwd=WVppdHF5NDlPajdFK2xWL0Z0MjFBZz09\n \nMeeting ID: 810 0166 4087\nPasscode: 604632\nOne tap mobile\n+13462487799\,\,81001664087#\,\,\,\,*604632# US (Houston)\n+16699006833\,\,81001664087#\,\,\,\,*604632# US (San Jose)\n \nDial by your location\n    +1 346 248 7799 US (Houston)\n    +1 669 900 6833 US (San Jose)\n    +1 253 215 8782 US (Tacoma)\n    +1 312 626 6799 US (Chicago)\n    +1 929 436 2866 US (New York)\n    +1 301 715 8592 US (Washington DC)\nMeeting ID: 810 0166 4087\nPasscode: 604632\nFind your local number: https://us02web.zoom.us/u/kbtIRfvatU
URL:https://westcolumbiagorgechamber.com/event/zoom-coffee-chat-with-rev-brad-busiek-of-smith-memorial-presbyterian-church-2/
LOCATION:OR
CATEGORIES:Chamber Meetings,Chamber Zoom Coffee Chats
END:VEVENT
BEGIN:VEVENT
DTSTART;TZID=America/Los_Angeles:20210623T080000
DTEND;TZID=America/Los_Angeles:20210623T084500
DTSTAMP:20260421T014804
CREATED:20210421T160234Z
LAST-MODIFIED:20210421T160234Z
UID:9519-1624435200-1624437900@westcolumbiagorgechamber.com
SUMMARY:Zoom Coffee Chat with Rev. Brad Busiek of Smith Memorial Presbyterian Church
DESCRIPTION:Come and hear all about Smith Memorial Presbyterian Church and the new food pantry. Smith is making a difference and here to speak about it is the pastor of the church\, Brad Busiek! So much is happening at the church from the new pantry to the amazing stained glass windows and rich history of a church nearly 130 years old. This my Church home and I have been very involved here trying to make a difference in our community like helping Fairview Elementary School when they need help after school\, music programs and a place for kids when displaced by school closures. \nChamber Admin is inviting you to a scheduled Zoom meeting.\n \nTopic: Chamber Chat\nTime: Jun 23\, 2021 08:00 AM Pacific Time (US and Canada)\n    Every week on Wed\, 5 occurrence(s)\n    Jun 23\, 2021 08:00 AM\n    Jun 30\, 2021 08:00 AM\n    Jul 7\, 2021 08:00 AM\n    Jul 14\, 2021 08:00 AM\n    Jul 21\, 2021 08:00 AM\nPlease download and import the following iCalendar (.ics) files to your calendar system.\nWeekly: https://us02web.zoom.us/meeting/tZUtd-iuqD8qEtNZ1AWzu5zzVEjJo83PiFC6/ics?icsToken=98tyKuGprjsrHNKRsBGARpwcAoigd-7wpilfj7dzpk7ENDpGNxnsAMdIGL0nQ-jZ\n \nJoin Zoom Meeting\nhttps://us02web.zoom.us/j/81001664087?pwd=WVppdHF5NDlPajdFK2xWL0Z0MjFBZz09\n \nMeeting ID: 810 0166 4087\nPasscode: 604632\nOne tap mobile\n+13462487799\,\,81001664087#\,\,\,\,*604632# US (Houston)\n+16699006833\,\,81001664087#\,\,\,\,*604632# US (San Jose)\n \nDial by your location\n    +1 346 248 7799 US (Houston)\n    +1 669 900 6833 US (San Jose)\n    +1 253 215 8782 US (Tacoma)\n    +1 312 626 6799 US (Chicago)\n    +1 929 436 2866 US (New York)\n    +1 301 715 8592 US (Washington DC)\nMeeting ID: 810 0166 4087\nPasscode: 604632\nFind your local number: https://us02web.zoom.us/u/kbtIRfvatU
URL:https://westcolumbiagorgechamber.com/event/zoom-coffee-chat-with-rev-brad-busiek-of-smith-memorial-presbyterian-church-3/
LOCATION:OR
CATEGORIES:Chamber Meetings,Chamber Zoom Coffee Chats
END:VEVENT
END:VCALENDAR