BEGIN:VCALENDAR
VERSION:2.0
PRODID:-//West Columbia Gorge Chamber of Commerce - ECPv6.15.20//NONSGML v1.0//EN
CALSCALE:GREGORIAN
METHOD:PUBLISH
X-WR-CALNAME:West Columbia Gorge Chamber of Commerce
X-ORIGINAL-URL:https://westcolumbiagorgechamber.com
X-WR-CALDESC:Events for West Columbia Gorge Chamber of Commerce
REFRESH-INTERVAL;VALUE=DURATION:PT1H
X-Robots-Tag:noindex
X-PUBLISHED-TTL:PT1H
BEGIN:VTIMEZONE
TZID:America/Los_Angeles
BEGIN:DAYLIGHT
TZOFFSETFROM:-0800
TZOFFSETTO:-0700
TZNAME:PDT
DTSTART:20200308T100000
END:DAYLIGHT
BEGIN:STANDARD
TZOFFSETFROM:-0700
TZOFFSETTO:-0800
TZNAME:PST
DTSTART:20201101T090000
END:STANDARD
BEGIN:DAYLIGHT
TZOFFSETFROM:-0800
TZOFFSETTO:-0700
TZNAME:PDT
DTSTART:20210314T100000
END:DAYLIGHT
BEGIN:STANDARD
TZOFFSETFROM:-0700
TZOFFSETTO:-0800
TZNAME:PST
DTSTART:20211107T090000
END:STANDARD
BEGIN:DAYLIGHT
TZOFFSETFROM:-0800
TZOFFSETTO:-0700
TZNAME:PDT
DTSTART:20220313T100000
END:DAYLIGHT
BEGIN:STANDARD
TZOFFSETFROM:-0700
TZOFFSETTO:-0800
TZNAME:PST
DTSTART:20221106T090000
END:STANDARD
END:VTIMEZONE
BEGIN:VEVENT
DTSTART;TZID=America/Los_Angeles:20210526T080000
DTEND;TZID=America/Los_Angeles:20210526T084500
DTSTAMP:20260421T030918
CREATED:20210329T224527Z
LAST-MODIFIED:20210329T224527Z
UID:7703-1622016000-1622018700@westcolumbiagorgechamber.com
SUMMARY:Coffee Chat on Zoom with Kirsten Wageman of SnowCap Community Charities
DESCRIPTION:The pandemic has affected all of us but how SnowCap has dealt with this is amazing. This week’s host is Kirsten Wageman of SnowCap. She has been at the helm for awhile now and hearing how she has rolled with the changes forced on her organization is amazing. Come hear the story of SnowCap and how the communities rally around this amazing organization. She will share what has happened this year and the successes in programs. How can we help SnowCap and what are they doing now? Please share this with your fellow business friends and those in need. This is a community forum for our community and we build up our community by bringing us all together. See you there! \nChamber Admin is inviting you to a scheduled Zoom meeting.\n \nTopic: Chamber Chat\nTime: May 26\, 2021 08:00 AM Pacific Time (US and Canada)\n    Every week on Wed\, 9 occurrence(s)\n    May 26\, 2021 08:00 AM\n    Jun 2\, 2021 08:00 AM\n    Jun 9\, 2021 08:00 AM\n    Jun 16\, 2021 08:00 AM\n    Jun 23\, 2021 08:00 AM\n    Jun 30\, 2021 08:00 AM\n    Jul 7\, 2021 08:00 AM\n    Jul 14\, 2021 08:00 AM\n    Jul 21\, 2021 08:00 AM\nPlease download and import the following iCalendar (.ics) files to your calendar system.\nWeekly: https://us02web.zoom.us/meeting/tZUtd-iuqD8qEtNZ1AWzu5zzVEjJo83PiFC6/ics?icsToken=98tyKuGprjsrHNKRsBGARpwcAoigd-7wpilfj7dzpk7ENDpGNxnsAMdIGL0nQ-jZ\n \nJoin Zoom Meeting\nhttps://us02web.zoom.us/j/81001664087?pwd=WVppdHF5NDlPajdFK2xWL0Z0MjFBZz09\n \nMeeting ID: 810 0166 4087\nPasscode: 604632\nOne tap mobile\n+13462487799\,\,81001664087#\,\,\,\,*604632# US (Houston)\n+16699006833\,\,81001664087#\,\,\,\,*604632# US (San Jose)\n \nDial by your location\n    +1 346 248 7799 US (Houston)\n    +1 669 900 6833 US (San Jose)\n    +1 253 215 8782 US (Tacoma)\n    +1 312 626 6799 US (Chicago)\n    +1 929 436 2866 US (New York)\n    +1 301 715 8592 US (Washington DC)\nMeeting ID: 810 0166 4087\nPasscode: 604632\nFind your local number: https://us02web.zoom.us/u/kbtIRfvatU
URL:https://westcolumbiagorgechamber.com/event/coffee-chat-on-zoom-with-kirsten-wageman-of-snowcap-community-charities/
LOCATION:OR
CATEGORIES:Chamber Meetings,Chamber Zoom Coffee Chats
END:VEVENT
BEGIN:VEVENT
DTSTART;TZID=America/Los_Angeles:20210526T080000
DTEND;TZID=America/Los_Angeles:20210526T084500
DTSTAMP:20260421T030918
CREATED:20210329T224527Z
LAST-MODIFIED:20210329T224527Z
UID:9447-1622016000-1622018700@westcolumbiagorgechamber.com
SUMMARY:Coffee Chat on Zoom with Kirsten Wageman of SnowCap Community Charities
DESCRIPTION:The pandemic has affected all of us but how SnowCap has dealt with this is amazing. This week’s host is Kirsten Wageman of SnowCap. She has been at the helm for awhile now and hearing how she has rolled with the changes forced on her organization is amazing. Come hear the story of SnowCap and how the communities rally around this amazing organization. She will share what has happened this year and the successes in programs. How can we help SnowCap and what are they doing now? Please share this with your fellow business friends and those in need. This is a community forum for our community and we build up our community by bringing us all together. See you there! \nChamber Admin is inviting you to a scheduled Zoom meeting.\n \nTopic: Chamber Chat\nTime: May 26\, 2021 08:00 AM Pacific Time (US and Canada)\n    Every week on Wed\, 9 occurrence(s)\n    May 26\, 2021 08:00 AM\n    Jun 2\, 2021 08:00 AM\n    Jun 9\, 2021 08:00 AM\n    Jun 16\, 2021 08:00 AM\n    Jun 23\, 2021 08:00 AM\n    Jun 30\, 2021 08:00 AM\n    Jul 7\, 2021 08:00 AM\n    Jul 14\, 2021 08:00 AM\n    Jul 21\, 2021 08:00 AM\nPlease download and import the following iCalendar (.ics) files to your calendar system.\nWeekly: https://us02web.zoom.us/meeting/tZUtd-iuqD8qEtNZ1AWzu5zzVEjJo83PiFC6/ics?icsToken=98tyKuGprjsrHNKRsBGARpwcAoigd-7wpilfj7dzpk7ENDpGNxnsAMdIGL0nQ-jZ\n \nJoin Zoom Meeting\nhttps://us02web.zoom.us/j/81001664087?pwd=WVppdHF5NDlPajdFK2xWL0Z0MjFBZz09\n \nMeeting ID: 810 0166 4087\nPasscode: 604632\nOne tap mobile\n+13462487799\,\,81001664087#\,\,\,\,*604632# US (Houston)\n+16699006833\,\,81001664087#\,\,\,\,*604632# US (San Jose)\n \nDial by your location\n    +1 346 248 7799 US (Houston)\n    +1 669 900 6833 US (San Jose)\n    +1 253 215 8782 US (Tacoma)\n    +1 312 626 6799 US (Chicago)\n    +1 929 436 2866 US (New York)\n    +1 301 715 8592 US (Washington DC)\nMeeting ID: 810 0166 4087\nPasscode: 604632\nFind your local number: https://us02web.zoom.us/u/kbtIRfvatU
URL:https://westcolumbiagorgechamber.com/event/coffee-chat-on-zoom-with-kirsten-wageman-of-snowcap-community-charities-2/
LOCATION:OR
CATEGORIES:Chamber Meetings,Chamber Zoom Coffee Chats
END:VEVENT
BEGIN:VEVENT
DTSTART;TZID=America/Los_Angeles:20210526T080000
DTEND;TZID=America/Los_Angeles:20210526T084500
DTSTAMP:20260421T030918
CREATED:20210329T224527Z
LAST-MODIFIED:20210329T224527Z
UID:9479-1622016000-1622018700@westcolumbiagorgechamber.com
SUMMARY:Coffee Chat on Zoom with Kirsten Wageman of SnowCap Community Charities
DESCRIPTION:The pandemic has affected all of us but how SnowCap has dealt with this is amazing. This week’s host is Kirsten Wageman of SnowCap. She has been at the helm for awhile now and hearing how she has rolled with the changes forced on her organization is amazing. Come hear the story of SnowCap and how the communities rally around this amazing organization. She will share what has happened this year and the successes in programs. How can we help SnowCap and what are they doing now? Please share this with your fellow business friends and those in need. This is a community forum for our community and we build up our community by bringing us all together. See you there! \nChamber Admin is inviting you to a scheduled Zoom meeting.\n \nTopic: Chamber Chat\nTime: May 26\, 2021 08:00 AM Pacific Time (US and Canada)\n    Every week on Wed\, 9 occurrence(s)\n    May 26\, 2021 08:00 AM\n    Jun 2\, 2021 08:00 AM\n    Jun 9\, 2021 08:00 AM\n    Jun 16\, 2021 08:00 AM\n    Jun 23\, 2021 08:00 AM\n    Jun 30\, 2021 08:00 AM\n    Jul 7\, 2021 08:00 AM\n    Jul 14\, 2021 08:00 AM\n    Jul 21\, 2021 08:00 AM\nPlease download and import the following iCalendar (.ics) files to your calendar system.\nWeekly: https://us02web.zoom.us/meeting/tZUtd-iuqD8qEtNZ1AWzu5zzVEjJo83PiFC6/ics?icsToken=98tyKuGprjsrHNKRsBGARpwcAoigd-7wpilfj7dzpk7ENDpGNxnsAMdIGL0nQ-jZ\n \nJoin Zoom Meeting\nhttps://us02web.zoom.us/j/81001664087?pwd=WVppdHF5NDlPajdFK2xWL0Z0MjFBZz09\n \nMeeting ID: 810 0166 4087\nPasscode: 604632\nOne tap mobile\n+13462487799\,\,81001664087#\,\,\,\,*604632# US (Houston)\n+16699006833\,\,81001664087#\,\,\,\,*604632# US (San Jose)\n \nDial by your location\n    +1 346 248 7799 US (Houston)\n    +1 669 900 6833 US (San Jose)\n    +1 253 215 8782 US (Tacoma)\n    +1 312 626 6799 US (Chicago)\n    +1 929 436 2866 US (New York)\n    +1 301 715 8592 US (Washington DC)\nMeeting ID: 810 0166 4087\nPasscode: 604632\nFind your local number: https://us02web.zoom.us/u/kbtIRfvatU
URL:https://westcolumbiagorgechamber.com/event/coffee-chat-on-zoom-with-kirsten-wageman-of-snowcap-community-charities-3/
LOCATION:OR
CATEGORIES:Chamber Meetings,Chamber Zoom Coffee Chats
END:VEVENT
BEGIN:VEVENT
DTSTART;TZID=America/Los_Angeles:20210526T080000
DTEND;TZID=America/Los_Angeles:20210526T084500
DTSTAMP:20260421T030918
CREATED:20210329T224527Z
LAST-MODIFIED:20210329T224527Z
UID:9852-1622016000-1622018700@westcolumbiagorgechamber.com
SUMMARY:Coffee Chat on Zoom with Kirsten Wageman of SnowCap Community Charities
DESCRIPTION:The pandemic has affected all of us but how SnowCap has dealt with this is amazing. This week’s host is Kirsten Wageman of SnowCap. She has been at the helm for awhile now and hearing how she has rolled with the changes forced on her organization is amazing. Come hear the story of SnowCap and how the communities rally around this amazing organization. She will share what has happened this year and the successes in programs. How can we help SnowCap and what are they doing now? Please share this with your fellow business friends and those in need. This is a community forum for our community and we build up our community by bringing us all together. See you there! \nChamber Admin is inviting you to a scheduled Zoom meeting.\n \nTopic: Chamber Chat\nTime: May 26\, 2021 08:00 AM Pacific Time (US and Canada)\n    Every week on Wed\, 9 occurrence(s)\n    May 26\, 2021 08:00 AM\n    Jun 2\, 2021 08:00 AM\n    Jun 9\, 2021 08:00 AM\n    Jun 16\, 2021 08:00 AM\n    Jun 23\, 2021 08:00 AM\n    Jun 30\, 2021 08:00 AM\n    Jul 7\, 2021 08:00 AM\n    Jul 14\, 2021 08:00 AM\n    Jul 21\, 2021 08:00 AM\nPlease download and import the following iCalendar (.ics) files to your calendar system.\nWeekly: https://us02web.zoom.us/meeting/tZUtd-iuqD8qEtNZ1AWzu5zzVEjJo83PiFC6/ics?icsToken=98tyKuGprjsrHNKRsBGARpwcAoigd-7wpilfj7dzpk7ENDpGNxnsAMdIGL0nQ-jZ\n \nJoin Zoom Meeting\nhttps://us02web.zoom.us/j/81001664087?pwd=WVppdHF5NDlPajdFK2xWL0Z0MjFBZz09\n \nMeeting ID: 810 0166 4087\nPasscode: 604632\nOne tap mobile\n+13462487799\,\,81001664087#\,\,\,\,*604632# US (Houston)\n+16699006833\,\,81001664087#\,\,\,\,*604632# US (San Jose)\n \nDial by your location\n    +1 346 248 7799 US (Houston)\n    +1 669 900 6833 US (San Jose)\n    +1 253 215 8782 US (Tacoma)\n    +1 312 626 6799 US (Chicago)\n    +1 929 436 2866 US (New York)\n    +1 301 715 8592 US (Washington DC)\nMeeting ID: 810 0166 4087\nPasscode: 604632\nFind your local number: https://us02web.zoom.us/u/kbtIRfvatU
URL:https://westcolumbiagorgechamber.com/event/coffee-chat-on-zoom-with-kirsten-wageman-of-snowcap-community-charities-4/
LOCATION:OR
CATEGORIES:Chamber Meetings,Chamber Zoom Coffee Chats
END:VEVENT
END:VCALENDAR