BEGIN:VCALENDAR
VERSION:2.0
PRODID:-//West Columbia Gorge Chamber of Commerce - ECPv6.15.20//NONSGML v1.0//EN
CALSCALE:GREGORIAN
METHOD:PUBLISH
X-ORIGINAL-URL:https://westcolumbiagorgechamber.com
X-WR-CALDESC:Events for West Columbia Gorge Chamber of Commerce
REFRESH-INTERVAL;VALUE=DURATION:PT1H
X-Robots-Tag:noindex
X-PUBLISHED-TTL:PT1H
BEGIN:VTIMEZONE
TZID:America/Los_Angeles
BEGIN:DAYLIGHT
TZOFFSETFROM:-0800
TZOFFSETTO:-0700
TZNAME:PDT
DTSTART:20190310T100000
END:DAYLIGHT
BEGIN:STANDARD
TZOFFSETFROM:-0700
TZOFFSETTO:-0800
TZNAME:PST
DTSTART:20191103T090000
END:STANDARD
BEGIN:DAYLIGHT
TZOFFSETFROM:-0800
TZOFFSETTO:-0700
TZNAME:PDT
DTSTART:20200308T100000
END:DAYLIGHT
BEGIN:STANDARD
TZOFFSETFROM:-0700
TZOFFSETTO:-0800
TZNAME:PST
DTSTART:20201101T090000
END:STANDARD
BEGIN:DAYLIGHT
TZOFFSETFROM:-0800
TZOFFSETTO:-0700
TZNAME:PDT
DTSTART:20210314T100000
END:DAYLIGHT
BEGIN:STANDARD
TZOFFSETFROM:-0700
TZOFFSETTO:-0800
TZNAME:PST
DTSTART:20211107T090000
END:STANDARD
END:VTIMEZONE
BEGIN:VEVENT
DTSTART;TZID=America/Los_Angeles:20201118T080000
DTEND;TZID=America/Los_Angeles:20201118T084500
DTSTAMP:20260421T111837
CREATED:20201015T203216Z
LAST-MODIFIED:20201015T203216Z
UID:7231-1605686400-1605689100@westcolumbiagorgechamber.com
SUMMARY:Chamber Coffee Chat with "Rains"
DESCRIPTION:Carolyn Cummings\, Executive Director of Oregon Rains will be our speaker today. \nCaroline Cummings has been the Founder and CEO of two technology companies (one failed/one sold). She’s raised $1M in angel capital for her own startups and over $4M for non-profits she’s passionate about. She’s helped catalyze several seed-stage investment funds and entrepreneurial programs. She’s currently an angel investor and has invested in over a dozen startups\, most of which are women-led. She’s a firm believer that when more women invest\, more women founders get funded. \n \nThrough her consulting firm Varo Ventures\, she serves as the executive director of Oregon RAIN where she helps communities build inclusive entrepreneurial ecosystems and innovation-based economies. Oregon RAIN has been invited into to serve 21 cities across 5 counties. She’s regularly invited to guest lecture and serve as a judge at business\, marketing\, and entrepreneurship classes and events at several universities and accelerator programs around the globe\, including Egypt\, Pakistan\, and for her alma mater\, Drexel University in Philadelphia. \n \nHer biggest passion is mentoring at-risk youth\, helping women step outside of their comfort zones to realize their full potential\, and cooking for friends and family. \n  \nChamber Admin is inviting you to a scheduled Zoom meeting. \nTopic: Chamber Chat\nTime: Nov 18\, 2020 08:00 AM Pacific Time (US and Canada)\nEvery week on Wed\, 11 occurrence(s)\nNov 18\, 2020 08:00 AM\nNov 25\, 2020 08:00 AM\nDec 2\, 2020 08:00 AM\nDec 9\, 2020 08:00 AM\nDec 16\, 2020 08:00 AM\nDec 23\, 2020 08:00 AM\nDec 30\, 2020 08:00 AM\nJan 6\, 2021 08:00 AM\nJan 13\, 2021 08:00 AM\nJan 20\, 2021 08:00 AM\nJan 27\, 2021 08:00 AM\nPlease download and import the following iCalendar (.ics) files to your calendar system.\nWeekly: https://us02web.zoom.us/meeting/tZIscuCsrzwiE9ZN_nXXCiRYfJ07TMZnpoDi/ics?icsToken=98tyKuGurz4jHtWSuBCFRpwABY_4XejzmGZHj_pnsiDrOxhwazHPMMgSZYZSKtbA \nJoin Zoom Meeting\nhttps://us02web.zoom.us/j/86159417892?pwd=VzlNUXgvRHNoSTd2VHRxWllpTzB2Zz09 \nMeeting ID: 861 5941 7892\nPasscode: 656994\nOne tap mobile\n+12532158782\,\,86159417892#\,\,\,\,\,\,0#\,\,656994# US (Tacoma)\n+13462487799\,\,86159417892#\,\,\,\,\,\,0#\,\,656994# US (Houston) \nDial by your location\n+1 253 215 8782 US (Tacoma)\n+1 346 248 7799 US (Houston)\n+1 669 900 6833 US (San Jose)\n+1 301 715 8592 US (Washington D.C)\n+1 312 626 6799 US (Chicago)\n+1 929 436 2866 US (New York)\nMeeting ID: 861 5941 7892\nPasscode: 656994\nFind your local number: https://us02web.zoom.us/u/kc1s2DETpD \n 
URL:https://westcolumbiagorgechamber.com/event/chamber-coffee-chat-with-rains/
LOCATION:OR
CATEGORIES:Chamber Meetings,Chamber Zoom Coffee Chats
END:VEVENT
BEGIN:VEVENT
DTSTART;TZID=America/Los_Angeles:20201118T080000
DTEND;TZID=America/Los_Angeles:20201118T084500
DTSTAMP:20260421T111837
CREATED:20201015T203216Z
LAST-MODIFIED:20201015T203216Z
UID:9353-1605686400-1605689100@westcolumbiagorgechamber.com
SUMMARY:Chamber Coffee Chat with "Rains"
DESCRIPTION:Carolyn Cummings\, Executive Director of Oregon Rains will be our speaker today. \nCaroline Cummings has been the Founder and CEO of two technology companies (one failed/one sold). She’s raised $1M in angel capital for her own startups and over $4M for non-profits she’s passionate about. She’s helped catalyze several seed-stage investment funds and entrepreneurial programs. She’s currently an angel investor and has invested in over a dozen startups\, most of which are women-led. She’s a firm believer that when more women invest\, more women founders get funded. \n \nThrough her consulting firm Varo Ventures\, she serves as the executive director of Oregon RAIN where she helps communities build inclusive entrepreneurial ecosystems and innovation-based economies. Oregon RAIN has been invited into to serve 21 cities across 5 counties. She’s regularly invited to guest lecture and serve as a judge at business\, marketing\, and entrepreneurship classes and events at several universities and accelerator programs around the globe\, including Egypt\, Pakistan\, and for her alma mater\, Drexel University in Philadelphia. \n \nHer biggest passion is mentoring at-risk youth\, helping women step outside of their comfort zones to realize their full potential\, and cooking for friends and family. \n  \nChamber Admin is inviting you to a scheduled Zoom meeting. \nTopic: Chamber Chat\nTime: Nov 18\, 2020 08:00 AM Pacific Time (US and Canada)\nEvery week on Wed\, 11 occurrence(s)\nNov 18\, 2020 08:00 AM\nNov 25\, 2020 08:00 AM\nDec 2\, 2020 08:00 AM\nDec 9\, 2020 08:00 AM\nDec 16\, 2020 08:00 AM\nDec 23\, 2020 08:00 AM\nDec 30\, 2020 08:00 AM\nJan 6\, 2021 08:00 AM\nJan 13\, 2021 08:00 AM\nJan 20\, 2021 08:00 AM\nJan 27\, 2021 08:00 AM\nPlease download and import the following iCalendar (.ics) files to your calendar system.\nWeekly: https://us02web.zoom.us/meeting/tZIscuCsrzwiE9ZN_nXXCiRYfJ07TMZnpoDi/ics?icsToken=98tyKuGurz4jHtWSuBCFRpwABY_4XejzmGZHj_pnsiDrOxhwazHPMMgSZYZSKtbA \nJoin Zoom Meeting\nhttps://us02web.zoom.us/j/86159417892?pwd=VzlNUXgvRHNoSTd2VHRxWllpTzB2Zz09 \nMeeting ID: 861 5941 7892\nPasscode: 656994\nOne tap mobile\n+12532158782\,\,86159417892#\,\,\,\,\,\,0#\,\,656994# US (Tacoma)\n+13462487799\,\,86159417892#\,\,\,\,\,\,0#\,\,656994# US (Houston) \nDial by your location\n+1 253 215 8782 US (Tacoma)\n+1 346 248 7799 US (Houston)\n+1 669 900 6833 US (San Jose)\n+1 301 715 8592 US (Washington D.C)\n+1 312 626 6799 US (Chicago)\n+1 929 436 2866 US (New York)\nMeeting ID: 861 5941 7892\nPasscode: 656994\nFind your local number: https://us02web.zoom.us/u/kc1s2DETpD \n 
URL:https://westcolumbiagorgechamber.com/event/chamber-coffee-chat-with-rains-2/
LOCATION:OR
CATEGORIES:Chamber Meetings,Chamber Zoom Coffee Chats
END:VEVENT
BEGIN:VEVENT
DTSTART;TZID=America/Los_Angeles:20201118T080000
DTEND;TZID=America/Los_Angeles:20201118T084500
DTSTAMP:20260421T111837
CREATED:20201015T203216Z
LAST-MODIFIED:20201015T203216Z
UID:9390-1605686400-1605689100@westcolumbiagorgechamber.com
SUMMARY:Chamber Coffee Chat with "Rains"
DESCRIPTION:Carolyn Cummings\, Executive Director of Oregon Rains will be our speaker today. \nCaroline Cummings has been the Founder and CEO of two technology companies (one failed/one sold). She’s raised $1M in angel capital for her own startups and over $4M for non-profits she’s passionate about. She’s helped catalyze several seed-stage investment funds and entrepreneurial programs. She’s currently an angel investor and has invested in over a dozen startups\, most of which are women-led. She’s a firm believer that when more women invest\, more women founders get funded. \n \nThrough her consulting firm Varo Ventures\, she serves as the executive director of Oregon RAIN where she helps communities build inclusive entrepreneurial ecosystems and innovation-based economies. Oregon RAIN has been invited into to serve 21 cities across 5 counties. She’s regularly invited to guest lecture and serve as a judge at business\, marketing\, and entrepreneurship classes and events at several universities and accelerator programs around the globe\, including Egypt\, Pakistan\, and for her alma mater\, Drexel University in Philadelphia. \n \nHer biggest passion is mentoring at-risk youth\, helping women step outside of their comfort zones to realize their full potential\, and cooking for friends and family. \n  \nChamber Admin is inviting you to a scheduled Zoom meeting. \nTopic: Chamber Chat\nTime: Nov 18\, 2020 08:00 AM Pacific Time (US and Canada)\nEvery week on Wed\, 11 occurrence(s)\nNov 18\, 2020 08:00 AM\nNov 25\, 2020 08:00 AM\nDec 2\, 2020 08:00 AM\nDec 9\, 2020 08:00 AM\nDec 16\, 2020 08:00 AM\nDec 23\, 2020 08:00 AM\nDec 30\, 2020 08:00 AM\nJan 6\, 2021 08:00 AM\nJan 13\, 2021 08:00 AM\nJan 20\, 2021 08:00 AM\nJan 27\, 2021 08:00 AM\nPlease download and import the following iCalendar (.ics) files to your calendar system.\nWeekly: https://us02web.zoom.us/meeting/tZIscuCsrzwiE9ZN_nXXCiRYfJ07TMZnpoDi/ics?icsToken=98tyKuGurz4jHtWSuBCFRpwABY_4XejzmGZHj_pnsiDrOxhwazHPMMgSZYZSKtbA \nJoin Zoom Meeting\nhttps://us02web.zoom.us/j/86159417892?pwd=VzlNUXgvRHNoSTd2VHRxWllpTzB2Zz09 \nMeeting ID: 861 5941 7892\nPasscode: 656994\nOne tap mobile\n+12532158782\,\,86159417892#\,\,\,\,\,\,0#\,\,656994# US (Tacoma)\n+13462487799\,\,86159417892#\,\,\,\,\,\,0#\,\,656994# US (Houston) \nDial by your location\n+1 253 215 8782 US (Tacoma)\n+1 346 248 7799 US (Houston)\n+1 669 900 6833 US (San Jose)\n+1 301 715 8592 US (Washington D.C)\n+1 312 626 6799 US (Chicago)\n+1 929 436 2866 US (New York)\nMeeting ID: 861 5941 7892\nPasscode: 656994\nFind your local number: https://us02web.zoom.us/u/kc1s2DETpD \n 
URL:https://westcolumbiagorgechamber.com/event/chamber-coffee-chat-with-rains-3/
LOCATION:OR
CATEGORIES:Chamber Meetings,Chamber Zoom Coffee Chats
END:VEVENT
BEGIN:VEVENT
DTSTART;TZID=America/Los_Angeles:20201118T080000
DTEND;TZID=America/Los_Angeles:20201118T084500
DTSTAMP:20260421T111837
CREATED:20201015T203216Z
LAST-MODIFIED:20201015T203216Z
UID:9822-1605686400-1605689100@westcolumbiagorgechamber.com
SUMMARY:Chamber Coffee Chat with "Rains"
DESCRIPTION:Carolyn Cummings\, Executive Director of Oregon Rains will be our speaker today. \nCaroline Cummings has been the Founder and CEO of two technology companies (one failed/one sold). She’s raised $1M in angel capital for her own startups and over $4M for non-profits she’s passionate about. She’s helped catalyze several seed-stage investment funds and entrepreneurial programs. She’s currently an angel investor and has invested in over a dozen startups\, most of which are women-led. She’s a firm believer that when more women invest\, more women founders get funded. \n \nThrough her consulting firm Varo Ventures\, she serves as the executive director of Oregon RAIN where she helps communities build inclusive entrepreneurial ecosystems and innovation-based economies. Oregon RAIN has been invited into to serve 21 cities across 5 counties. She’s regularly invited to guest lecture and serve as a judge at business\, marketing\, and entrepreneurship classes and events at several universities and accelerator programs around the globe\, including Egypt\, Pakistan\, and for her alma mater\, Drexel University in Philadelphia. \n \nHer biggest passion is mentoring at-risk youth\, helping women step outside of their comfort zones to realize their full potential\, and cooking for friends and family. \n  \nChamber Admin is inviting you to a scheduled Zoom meeting. \nTopic: Chamber Chat\nTime: Nov 18\, 2020 08:00 AM Pacific Time (US and Canada)\nEvery week on Wed\, 11 occurrence(s)\nNov 18\, 2020 08:00 AM\nNov 25\, 2020 08:00 AM\nDec 2\, 2020 08:00 AM\nDec 9\, 2020 08:00 AM\nDec 16\, 2020 08:00 AM\nDec 23\, 2020 08:00 AM\nDec 30\, 2020 08:00 AM\nJan 6\, 2021 08:00 AM\nJan 13\, 2021 08:00 AM\nJan 20\, 2021 08:00 AM\nJan 27\, 2021 08:00 AM\nPlease download and import the following iCalendar (.ics) files to your calendar system.\nWeekly: https://us02web.zoom.us/meeting/tZIscuCsrzwiE9ZN_nXXCiRYfJ07TMZnpoDi/ics?icsToken=98tyKuGurz4jHtWSuBCFRpwABY_4XejzmGZHj_pnsiDrOxhwazHPMMgSZYZSKtbA \nJoin Zoom Meeting\nhttps://us02web.zoom.us/j/86159417892?pwd=VzlNUXgvRHNoSTd2VHRxWllpTzB2Zz09 \nMeeting ID: 861 5941 7892\nPasscode: 656994\nOne tap mobile\n+12532158782\,\,86159417892#\,\,\,\,\,\,0#\,\,656994# US (Tacoma)\n+13462487799\,\,86159417892#\,\,\,\,\,\,0#\,\,656994# US (Houston) \nDial by your location\n+1 253 215 8782 US (Tacoma)\n+1 346 248 7799 US (Houston)\n+1 669 900 6833 US (San Jose)\n+1 301 715 8592 US (Washington D.C)\n+1 312 626 6799 US (Chicago)\n+1 929 436 2866 US (New York)\nMeeting ID: 861 5941 7892\nPasscode: 656994\nFind your local number: https://us02web.zoom.us/u/kc1s2DETpD \n 
URL:https://westcolumbiagorgechamber.com/event/chamber-coffee-chat-with-rains-4/
LOCATION:OR
CATEGORIES:Chamber Meetings,Chamber Zoom Coffee Chats
END:VEVENT
END:VCALENDAR