BEGIN:VCALENDAR
VERSION:2.0
PRODID:-//West Columbia Gorge Chamber of Commerce - ECPv6.15.20//NONSGML v1.0//EN
CALSCALE:GREGORIAN
METHOD:PUBLISH
X-WR-CALNAME:West Columbia Gorge Chamber of Commerce
X-ORIGINAL-URL:https://westcolumbiagorgechamber.com
X-WR-CALDESC:Events for West Columbia Gorge Chamber of Commerce
REFRESH-INTERVAL;VALUE=DURATION:PT1H
X-Robots-Tag:noindex
X-PUBLISHED-TTL:PT1H
BEGIN:VTIMEZONE
TZID:America/Los_Angeles
BEGIN:DAYLIGHT
TZOFFSETFROM:-0800
TZOFFSETTO:-0700
TZNAME:PDT
DTSTART:20190310T100000
END:DAYLIGHT
BEGIN:STANDARD
TZOFFSETFROM:-0700
TZOFFSETTO:-0800
TZNAME:PST
DTSTART:20191103T090000
END:STANDARD
BEGIN:DAYLIGHT
TZOFFSETFROM:-0800
TZOFFSETTO:-0700
TZNAME:PDT
DTSTART:20200308T100000
END:DAYLIGHT
BEGIN:STANDARD
TZOFFSETFROM:-0700
TZOFFSETTO:-0800
TZNAME:PST
DTSTART:20201101T090000
END:STANDARD
BEGIN:DAYLIGHT
TZOFFSETFROM:-0800
TZOFFSETTO:-0700
TZNAME:PDT
DTSTART:20210314T100000
END:DAYLIGHT
BEGIN:STANDARD
TZOFFSETFROM:-0700
TZOFFSETTO:-0800
TZNAME:PST
DTSTART:20211107T090000
END:STANDARD
END:VTIMEZONE
BEGIN:VEVENT
DTSTART;TZID=America/Los_Angeles:20201111T080000
DTEND;TZID=America/Los_Angeles:20201111T084500
DTSTAMP:20260421T111641
CREATED:20201015T202721Z
LAST-MODIFIED:20201015T202721Z
UID:9350-1605081600-1605084300@westcolumbiagorgechamber.com
SUMMARY:Chamber Coffee Chat with CP Trips
DESCRIPTION:Cindy Passannante of CP Trips will be hosting this week’s Chamber Chat. Located in Damascus by appointment Cindy will be speaking about all aspects of travel in the era of Covid19. You may have noticed that travel is different now. Flying is coming back and you can stay at a variety of venues. Private rentals are going off the chart in the rental of a vacation stay but Cruise Lines aren’t there yet. Cindy will speaking on all aspects of travel and how to do it safe and successfully. Using a travel agent helps you navigate a confusing and sometimes very complicated process. \n  \nChamber Admin is inviting you to a scheduled Zoom meeting.\n \nTopic: Chamber Chat\nTime: Nov 11\, 2020 08:00 AM Pacific Time (US and Canada)\n    Every week on Wed\, 12 occurrence(s)\n    Nov 11\, 2020 08:00 AM\n    Nov 18\, 2020 08:00 AM\n    Nov 25\, 2020 08:00 AM\n    Dec 2\, 2020 08:00 AM\n    Dec 9\, 2020 08:00 AM\n    Dec 16\, 2020 08:00 AM\n    Dec 23\, 2020 08:00 AM\n    Dec 30\, 2020 08:00 AM\n    Jan 6\, 2021 08:00 AM\n    Jan 13\, 2021 08:00 AM\n    Jan 20\, 2021 08:00 AM\n    Jan 27\, 2021 08:00 AM\nPlease download and import the following iCalendar (.ics) files to your calendar system.\nWeekly: https://us02web.zoom.us/meeting/tZIscuCsrzwiE9ZN_nXXCiRYfJ07TMZnpoDi/ics?icsToken=98tyKuGurz4jHtWSuBCFRpwABY_4XejzmGZHj_pnsiDrOxhwazHPMMgSZYZSKtbA\n \nJoin Zoom Meeting\nhttps://us02web.zoom.us/j/86159417892?pwd=VzlNUXgvRHNoSTd2VHRxWllpTzB2Zz09\n \nMeeting ID: 861 5941 7892\nPasscode: 656994\nOne tap mobile\n+12532158782\,\,86159417892#\,\,\,\,\,\,0#\,\,656994# US (Tacoma)\n+13462487799\,\,86159417892#\,\,\,\,\,\,0#\,\,656994# US (Houston)\n \nDial by your location\n    +1 253 215 8782 US (Tacoma)\n    +1 346 248 7799 US (Houston)\n    +1 669 900 6833 US (San Jose)\n    +1 301 715 8592 US (Washington D.C)\n    +1 312 626 6799 US (Chicago)\n    +1 929 436 2866 US (New York)\nMeeting ID: 861 5941 7892\nPasscode: 656994\nFind your local number: https://us02web.zoom.us/u/kc1s2DETpD\n \n 
URL:https://westcolumbiagorgechamber.com/event/chamber-coffee-chat-with-cp-trips-2/
LOCATION:OR
CATEGORIES:Chamber Meetings,Chamber Zoom Coffee Chats
END:VEVENT
BEGIN:VEVENT
DTSTART;TZID=America/Los_Angeles:20201111T080000
DTEND;TZID=America/Los_Angeles:20201111T084500
DTSTAMP:20260421T111641
CREATED:20201015T202721Z
LAST-MODIFIED:20201015T202721Z
UID:9386-1605081600-1605084300@westcolumbiagorgechamber.com
SUMMARY:Chamber Coffee Chat with CP Trips
DESCRIPTION:Cindy Passannante of CP Trips will be hosting this week’s Chamber Chat. Located in Damascus by appointment Cindy will be speaking about all aspects of travel in the era of Covid19. You may have noticed that travel is different now. Flying is coming back and you can stay at a variety of venues. Private rentals are going off the chart in the rental of a vacation stay but Cruise Lines aren’t there yet. Cindy will speaking on all aspects of travel and how to do it safe and successfully. Using a travel agent helps you navigate a confusing and sometimes very complicated process. \n  \nChamber Admin is inviting you to a scheduled Zoom meeting.\n \nTopic: Chamber Chat\nTime: Nov 11\, 2020 08:00 AM Pacific Time (US and Canada)\n    Every week on Wed\, 12 occurrence(s)\n    Nov 11\, 2020 08:00 AM\n    Nov 18\, 2020 08:00 AM\n    Nov 25\, 2020 08:00 AM\n    Dec 2\, 2020 08:00 AM\n    Dec 9\, 2020 08:00 AM\n    Dec 16\, 2020 08:00 AM\n    Dec 23\, 2020 08:00 AM\n    Dec 30\, 2020 08:00 AM\n    Jan 6\, 2021 08:00 AM\n    Jan 13\, 2021 08:00 AM\n    Jan 20\, 2021 08:00 AM\n    Jan 27\, 2021 08:00 AM\nPlease download and import the following iCalendar (.ics) files to your calendar system.\nWeekly: https://us02web.zoom.us/meeting/tZIscuCsrzwiE9ZN_nXXCiRYfJ07TMZnpoDi/ics?icsToken=98tyKuGurz4jHtWSuBCFRpwABY_4XejzmGZHj_pnsiDrOxhwazHPMMgSZYZSKtbA\n \nJoin Zoom Meeting\nhttps://us02web.zoom.us/j/86159417892?pwd=VzlNUXgvRHNoSTd2VHRxWllpTzB2Zz09\n \nMeeting ID: 861 5941 7892\nPasscode: 656994\nOne tap mobile\n+12532158782\,\,86159417892#\,\,\,\,\,\,0#\,\,656994# US (Tacoma)\n+13462487799\,\,86159417892#\,\,\,\,\,\,0#\,\,656994# US (Houston)\n \nDial by your location\n    +1 253 215 8782 US (Tacoma)\n    +1 346 248 7799 US (Houston)\n    +1 669 900 6833 US (San Jose)\n    +1 301 715 8592 US (Washington D.C)\n    +1 312 626 6799 US (Chicago)\n    +1 929 436 2866 US (New York)\nMeeting ID: 861 5941 7892\nPasscode: 656994\nFind your local number: https://us02web.zoom.us/u/kc1s2DETpD\n \n 
URL:https://westcolumbiagorgechamber.com/event/chamber-coffee-chat-with-cp-trips-3/
LOCATION:OR
CATEGORIES:Chamber Meetings,Chamber Zoom Coffee Chats
END:VEVENT
BEGIN:VEVENT
DTSTART;TZID=America/Los_Angeles:20201111T080000
DTEND;TZID=America/Los_Angeles:20201111T084500
DTSTAMP:20260421T111641
CREATED:20201015T202721Z
LAST-MODIFIED:20201015T202721Z
UID:9821-1605081600-1605084300@westcolumbiagorgechamber.com
SUMMARY:Chamber Coffee Chat with CP Trips
DESCRIPTION:Cindy Passannante of CP Trips will be hosting this week’s Chamber Chat. Located in Damascus by appointment Cindy will be speaking about all aspects of travel in the era of Covid19. You may have noticed that travel is different now. Flying is coming back and you can stay at a variety of venues. Private rentals are going off the chart in the rental of a vacation stay but Cruise Lines aren’t there yet. Cindy will speaking on all aspects of travel and how to do it safe and successfully. Using a travel agent helps you navigate a confusing and sometimes very complicated process. \n  \nChamber Admin is inviting you to a scheduled Zoom meeting.\n \nTopic: Chamber Chat\nTime: Nov 11\, 2020 08:00 AM Pacific Time (US and Canada)\n    Every week on Wed\, 12 occurrence(s)\n    Nov 11\, 2020 08:00 AM\n    Nov 18\, 2020 08:00 AM\n    Nov 25\, 2020 08:00 AM\n    Dec 2\, 2020 08:00 AM\n    Dec 9\, 2020 08:00 AM\n    Dec 16\, 2020 08:00 AM\n    Dec 23\, 2020 08:00 AM\n    Dec 30\, 2020 08:00 AM\n    Jan 6\, 2021 08:00 AM\n    Jan 13\, 2021 08:00 AM\n    Jan 20\, 2021 08:00 AM\n    Jan 27\, 2021 08:00 AM\nPlease download and import the following iCalendar (.ics) files to your calendar system.\nWeekly: https://us02web.zoom.us/meeting/tZIscuCsrzwiE9ZN_nXXCiRYfJ07TMZnpoDi/ics?icsToken=98tyKuGurz4jHtWSuBCFRpwABY_4XejzmGZHj_pnsiDrOxhwazHPMMgSZYZSKtbA\n \nJoin Zoom Meeting\nhttps://us02web.zoom.us/j/86159417892?pwd=VzlNUXgvRHNoSTd2VHRxWllpTzB2Zz09\n \nMeeting ID: 861 5941 7892\nPasscode: 656994\nOne tap mobile\n+12532158782\,\,86159417892#\,\,\,\,\,\,0#\,\,656994# US (Tacoma)\n+13462487799\,\,86159417892#\,\,\,\,\,\,0#\,\,656994# US (Houston)\n \nDial by your location\n    +1 253 215 8782 US (Tacoma)\n    +1 346 248 7799 US (Houston)\n    +1 669 900 6833 US (San Jose)\n    +1 301 715 8592 US (Washington D.C)\n    +1 312 626 6799 US (Chicago)\n    +1 929 436 2866 US (New York)\nMeeting ID: 861 5941 7892\nPasscode: 656994\nFind your local number: https://us02web.zoom.us/u/kc1s2DETpD\n \n 
URL:https://westcolumbiagorgechamber.com/event/chamber-coffee-chat-with-cp-trips-4/
LOCATION:OR
CATEGORIES:Chamber Meetings,Chamber Zoom Coffee Chats
END:VEVENT
BEGIN:VEVENT
DTSTART;TZID=America/Los_Angeles:20201111T080000
DTEND;TZID=America/Los_Angeles:20201111T084500
DTSTAMP:20260421T111641
CREATED:20201015T202721Z
LAST-MODIFIED:20201015T202721Z
UID:7227-1605081600-1605084300@westcolumbiagorgechamber.com
SUMMARY:Chamber Coffee Chat with CP Trips
DESCRIPTION:Cindy Passannante of CP Trips will be hosting this week’s Chamber Chat. Located in Damascus by appointment Cindy will be speaking about all aspects of travel in the era of Covid19. You may have noticed that travel is different now. Flying is coming back and you can stay at a variety of venues. Private rentals are going off the chart in the rental of a vacation stay but Cruise Lines aren’t there yet. Cindy will speaking on all aspects of travel and how to do it safe and successfully. Using a travel agent helps you navigate a confusing and sometimes very complicated process. \n  \nChamber Admin is inviting you to a scheduled Zoom meeting.\n \nTopic: Chamber Chat\nTime: Nov 11\, 2020 08:00 AM Pacific Time (US and Canada)\n    Every week on Wed\, 12 occurrence(s)\n    Nov 11\, 2020 08:00 AM\n    Nov 18\, 2020 08:00 AM\n    Nov 25\, 2020 08:00 AM\n    Dec 2\, 2020 08:00 AM\n    Dec 9\, 2020 08:00 AM\n    Dec 16\, 2020 08:00 AM\n    Dec 23\, 2020 08:00 AM\n    Dec 30\, 2020 08:00 AM\n    Jan 6\, 2021 08:00 AM\n    Jan 13\, 2021 08:00 AM\n    Jan 20\, 2021 08:00 AM\n    Jan 27\, 2021 08:00 AM\nPlease download and import the following iCalendar (.ics) files to your calendar system.\nWeekly: https://us02web.zoom.us/meeting/tZIscuCsrzwiE9ZN_nXXCiRYfJ07TMZnpoDi/ics?icsToken=98tyKuGurz4jHtWSuBCFRpwABY_4XejzmGZHj_pnsiDrOxhwazHPMMgSZYZSKtbA\n \nJoin Zoom Meeting\nhttps://us02web.zoom.us/j/86159417892?pwd=VzlNUXgvRHNoSTd2VHRxWllpTzB2Zz09\n \nMeeting ID: 861 5941 7892\nPasscode: 656994\nOne tap mobile\n+12532158782\,\,86159417892#\,\,\,\,\,\,0#\,\,656994# US (Tacoma)\n+13462487799\,\,86159417892#\,\,\,\,\,\,0#\,\,656994# US (Houston)\n \nDial by your location\n    +1 253 215 8782 US (Tacoma)\n    +1 346 248 7799 US (Houston)\n    +1 669 900 6833 US (San Jose)\n    +1 301 715 8592 US (Washington D.C)\n    +1 312 626 6799 US (Chicago)\n    +1 929 436 2866 US (New York)\nMeeting ID: 861 5941 7892\nPasscode: 656994\nFind your local number: https://us02web.zoom.us/u/kc1s2DETpD\n \n 
URL:https://westcolumbiagorgechamber.com/event/chamber-coffee-chat-with-cp-trips/
LOCATION:OR
CATEGORIES:Chamber Meetings,Chamber Zoom Coffee Chats
END:VEVENT
END:VCALENDAR