BEGIN:VCALENDAR
VERSION:2.0
PRODID:-//West Columbia Gorge Chamber of Commerce - ECPv6.15.20//NONSGML v1.0//EN
CALSCALE:GREGORIAN
METHOD:PUBLISH
X-ORIGINAL-URL:https://westcolumbiagorgechamber.com
X-WR-CALDESC:Events for West Columbia Gorge Chamber of Commerce
REFRESH-INTERVAL;VALUE=DURATION:PT1H
X-Robots-Tag:noindex
X-PUBLISHED-TTL:PT1H
BEGIN:VTIMEZONE
TZID:America/Los_Angeles
BEGIN:DAYLIGHT
TZOFFSETFROM:-0800
TZOFFSETTO:-0700
TZNAME:PDT
DTSTART:20190310T100000
END:DAYLIGHT
BEGIN:STANDARD
TZOFFSETFROM:-0700
TZOFFSETTO:-0800
TZNAME:PST
DTSTART:20191103T090000
END:STANDARD
BEGIN:DAYLIGHT
TZOFFSETFROM:-0800
TZOFFSETTO:-0700
TZNAME:PDT
DTSTART:20200308T100000
END:DAYLIGHT
BEGIN:STANDARD
TZOFFSETFROM:-0700
TZOFFSETTO:-0800
TZNAME:PST
DTSTART:20201101T090000
END:STANDARD
BEGIN:DAYLIGHT
TZOFFSETFROM:-0800
TZOFFSETTO:-0700
TZNAME:PDT
DTSTART:20210314T100000
END:DAYLIGHT
BEGIN:STANDARD
TZOFFSETFROM:-0700
TZOFFSETTO:-0800
TZNAME:PST
DTSTART:20211107T090000
END:STANDARD
END:VTIMEZONE
BEGIN:VEVENT
DTSTART;TZID=America/Los_Angeles:20201104T080000
DTEND;TZID=America/Los_Angeles:20201104T084500
DTSTAMP:20260421T111825
CREATED:20200929T203746Z
LAST-MODIFIED:20200929T203746Z
UID:9819-1604476800-1604479500@westcolumbiagorgechamber.com
SUMMARY:Chamber Coffee Chat via Zoom with Brian Baxter\, owner of Baxter Bookkeeping
DESCRIPTION:Join us for this Weeks Chamber Chat!\n \nNovember 4th @ 8:00 am –\n 8:45 am\n \nBrian Baxter will be hosting this week’s Chamber Chat. Located in Troutdale by appointment Brian will speaking about all aspects of his bookkeeping business but the important thing to note is he is an expert on the PPP and loan forgiveness program that the Government has been offering during the Covid 19 Crisis. This is a must see Chamber chat so please zoom in and join us. This is a community event that the Chamber puts on weekly so you get to meet fellow Chamber members and others in the community that can benefit by becoming a member of the West Columbia Gorge Chamber of Commerce. Share this email and our Facebook post so your friends and fellow businesses can share in the informative session.\n \n\nCome hear Brian Baxter expound on everything bookkeeping. He has been helping those small businesses that were impacted by the shut down. Navigating this critical program has been his mission and he does it well. Baxter Bookkeeping is one the newest member of the West Columbia Gorge Chamber of Commerce. We have a diverse membership and each week we have relevant and resourceful speakers to help you and your business prosper and grow. \n\n \n \nChamber Admin is inviting you to a scheduled Zoom meeting. \n\n \nTopic: Chamber Chat\nTime: Nov 4\, 2020 08:00 AM Pacific Time (US and Canada)\n    Every week on Wed\, 13 occurrence(s)\n    Nov 4\, 2020 08:00 AM\n    Nov 11\, 2020 08:00 AM\n    Nov 18\, 2020 08:00 AM\n    Nov 25\, 2020 08:00 AM\n    Dec 2\, 2020 08:00 AM\n    Dec 9\, 2020 08:00 AM\n    Dec 16\, 2020 08:00 AM\n    Dec 23\, 2020 08:00 AM\n    Dec 30\, 2020 08:00 AM\n    Jan 6\, 2021 08:00 AM\n    Jan 13\, 2021 08:00 AM\n    Jan 20\, 2021 08:00 AM\n    Jan 27\, 2021 08:00 AM\nPlease download and import the following iCalendar (.ics) files to your calendar system.\nWeekly: https://us02web.zoom.us/meeting/tZIscuCsrzwiE9ZN_nXXCiRYfJ07TMZnpoDi/ics?icsToken=98tyKuGurz4jHtWSuBCFRpwABY_4XejzmGZHj_pnsiDrOxhwazHPMMgSZYZSKtbA\n \nJoin Zoom Meeting\nhttps://us02web.zoom.us/j/86159417892?pwd=VzlNUXgvRHNoSTd2VHRxWllpTzB2Zz09\n \nMeeting ID: 861 5941 7892\nPasscode: 656994\nOne tap mobile\n+12532158782\,\,86159417892#\,\,\,\,\,\,0#\,\,656994# US (Tacoma)\n+13462487799\,\,86159417892#\,\,\,\,\,\,0#\,\,656994# US (Houston)\n \nDial by your location\n    +1 253 215 8782 US (Tacoma)\n    +1 346 248 7799 US (Houston)\n    +1 669 900 6833 US (San Jose)\n    +1 301 715 8592 US (Germantown)\n    +1 312 626 6799 US (Chicago)\n    +1 929 436 2866 US (New York)\nMeeting ID: 861 5941 7892\nPasscode: 656994\nFind your local number: https://us02web.zoom.us/u/kc1s2DETpD
URL:https://westcolumbiagorgechamber.com/event/chamber-chat-via-zoom-with-brian-baxter-owner-of-baxter-bookkeeping-4/
LOCATION:OR
CATEGORIES:Chamber Meetings,Chamber Zoom Coffee Chats
END:VEVENT
BEGIN:VEVENT
DTSTART;TZID=America/Los_Angeles:20201104T080000
DTEND;TZID=America/Los_Angeles:20201104T084500
DTSTAMP:20260421T111825
CREATED:20200929T203746Z
LAST-MODIFIED:20200929T203746Z
UID:7192-1604476800-1604479500@westcolumbiagorgechamber.com
SUMMARY:Chamber Coffee Chat via Zoom with Brian Baxter\, owner of Baxter Bookkeeping
DESCRIPTION:Join us for this Weeks Chamber Chat!\n \nNovember 4th @ 8:00 am –\n 8:45 am\n \nBrian Baxter will be hosting this week’s Chamber Chat. Located in Troutdale by appointment Brian will speaking about all aspects of his bookkeeping business but the important thing to note is he is an expert on the PPP and loan forgiveness program that the Government has been offering during the Covid 19 Crisis. This is a must see Chamber chat so please zoom in and join us. This is a community event that the Chamber puts on weekly so you get to meet fellow Chamber members and others in the community that can benefit by becoming a member of the West Columbia Gorge Chamber of Commerce. Share this email and our Facebook post so your friends and fellow businesses can share in the informative session.\n \n\nCome hear Brian Baxter expound on everything bookkeeping. He has been helping those small businesses that were impacted by the shut down. Navigating this critical program has been his mission and he does it well. Baxter Bookkeeping is one the newest member of the West Columbia Gorge Chamber of Commerce. We have a diverse membership and each week we have relevant and resourceful speakers to help you and your business prosper and grow. \n\n \n \nChamber Admin is inviting you to a scheduled Zoom meeting. \n\n \nTopic: Chamber Chat\nTime: Nov 4\, 2020 08:00 AM Pacific Time (US and Canada)\n    Every week on Wed\, 13 occurrence(s)\n    Nov 4\, 2020 08:00 AM\n    Nov 11\, 2020 08:00 AM\n    Nov 18\, 2020 08:00 AM\n    Nov 25\, 2020 08:00 AM\n    Dec 2\, 2020 08:00 AM\n    Dec 9\, 2020 08:00 AM\n    Dec 16\, 2020 08:00 AM\n    Dec 23\, 2020 08:00 AM\n    Dec 30\, 2020 08:00 AM\n    Jan 6\, 2021 08:00 AM\n    Jan 13\, 2021 08:00 AM\n    Jan 20\, 2021 08:00 AM\n    Jan 27\, 2021 08:00 AM\nPlease download and import the following iCalendar (.ics) files to your calendar system.\nWeekly: https://us02web.zoom.us/meeting/tZIscuCsrzwiE9ZN_nXXCiRYfJ07TMZnpoDi/ics?icsToken=98tyKuGurz4jHtWSuBCFRpwABY_4XejzmGZHj_pnsiDrOxhwazHPMMgSZYZSKtbA\n \nJoin Zoom Meeting\nhttps://us02web.zoom.us/j/86159417892?pwd=VzlNUXgvRHNoSTd2VHRxWllpTzB2Zz09\n \nMeeting ID: 861 5941 7892\nPasscode: 656994\nOne tap mobile\n+12532158782\,\,86159417892#\,\,\,\,\,\,0#\,\,656994# US (Tacoma)\n+13462487799\,\,86159417892#\,\,\,\,\,\,0#\,\,656994# US (Houston)\n \nDial by your location\n    +1 253 215 8782 US (Tacoma)\n    +1 346 248 7799 US (Houston)\n    +1 669 900 6833 US (San Jose)\n    +1 301 715 8592 US (Germantown)\n    +1 312 626 6799 US (Chicago)\n    +1 929 436 2866 US (New York)\nMeeting ID: 861 5941 7892\nPasscode: 656994\nFind your local number: https://us02web.zoom.us/u/kc1s2DETpD
URL:https://westcolumbiagorgechamber.com/event/chamber-chat-via-zoom-with-brian-baxter-owner-of-baxter-bookkeeping/
LOCATION:OR
CATEGORIES:Chamber Meetings,Chamber Zoom Coffee Chats
END:VEVENT
BEGIN:VEVENT
DTSTART;TZID=America/Los_Angeles:20201104T080000
DTEND;TZID=America/Los_Angeles:20201104T084500
DTSTAMP:20260421T111825
CREATED:20200929T203746Z
LAST-MODIFIED:20200929T203746Z
UID:9345-1604476800-1604479500@westcolumbiagorgechamber.com
SUMMARY:Chamber Coffee Chat via Zoom with Brian Baxter\, owner of Baxter Bookkeeping
DESCRIPTION:Join us for this Weeks Chamber Chat!\n \nNovember 4th @ 8:00 am –\n 8:45 am\n \nBrian Baxter will be hosting this week’s Chamber Chat. Located in Troutdale by appointment Brian will speaking about all aspects of his bookkeeping business but the important thing to note is he is an expert on the PPP and loan forgiveness program that the Government has been offering during the Covid 19 Crisis. This is a must see Chamber chat so please zoom in and join us. This is a community event that the Chamber puts on weekly so you get to meet fellow Chamber members and others in the community that can benefit by becoming a member of the West Columbia Gorge Chamber of Commerce. Share this email and our Facebook post so your friends and fellow businesses can share in the informative session.\n \n\nCome hear Brian Baxter expound on everything bookkeeping. He has been helping those small businesses that were impacted by the shut down. Navigating this critical program has been his mission and he does it well. Baxter Bookkeeping is one the newest member of the West Columbia Gorge Chamber of Commerce. We have a diverse membership and each week we have relevant and resourceful speakers to help you and your business prosper and grow. \n\n \n \nChamber Admin is inviting you to a scheduled Zoom meeting. \n\n \nTopic: Chamber Chat\nTime: Nov 4\, 2020 08:00 AM Pacific Time (US and Canada)\n    Every week on Wed\, 13 occurrence(s)\n    Nov 4\, 2020 08:00 AM\n    Nov 11\, 2020 08:00 AM\n    Nov 18\, 2020 08:00 AM\n    Nov 25\, 2020 08:00 AM\n    Dec 2\, 2020 08:00 AM\n    Dec 9\, 2020 08:00 AM\n    Dec 16\, 2020 08:00 AM\n    Dec 23\, 2020 08:00 AM\n    Dec 30\, 2020 08:00 AM\n    Jan 6\, 2021 08:00 AM\n    Jan 13\, 2021 08:00 AM\n    Jan 20\, 2021 08:00 AM\n    Jan 27\, 2021 08:00 AM\nPlease download and import the following iCalendar (.ics) files to your calendar system.\nWeekly: https://us02web.zoom.us/meeting/tZIscuCsrzwiE9ZN_nXXCiRYfJ07TMZnpoDi/ics?icsToken=98tyKuGurz4jHtWSuBCFRpwABY_4XejzmGZHj_pnsiDrOxhwazHPMMgSZYZSKtbA\n \nJoin Zoom Meeting\nhttps://us02web.zoom.us/j/86159417892?pwd=VzlNUXgvRHNoSTd2VHRxWllpTzB2Zz09\n \nMeeting ID: 861 5941 7892\nPasscode: 656994\nOne tap mobile\n+12532158782\,\,86159417892#\,\,\,\,\,\,0#\,\,656994# US (Tacoma)\n+13462487799\,\,86159417892#\,\,\,\,\,\,0#\,\,656994# US (Houston)\n \nDial by your location\n    +1 253 215 8782 US (Tacoma)\n    +1 346 248 7799 US (Houston)\n    +1 669 900 6833 US (San Jose)\n    +1 301 715 8592 US (Germantown)\n    +1 312 626 6799 US (Chicago)\n    +1 929 436 2866 US (New York)\nMeeting ID: 861 5941 7892\nPasscode: 656994\nFind your local number: https://us02web.zoom.us/u/kc1s2DETpD
URL:https://westcolumbiagorgechamber.com/event/chamber-chat-via-zoom-with-brian-baxter-owner-of-baxter-bookkeeping-2/
LOCATION:OR
CATEGORIES:Chamber Meetings,Chamber Zoom Coffee Chats
END:VEVENT
BEGIN:VEVENT
DTSTART;TZID=America/Los_Angeles:20201104T080000
DTEND;TZID=America/Los_Angeles:20201104T084500
DTSTAMP:20260421T111825
CREATED:20200929T203746Z
LAST-MODIFIED:20200929T203746Z
UID:9380-1604476800-1604479500@westcolumbiagorgechamber.com
SUMMARY:Chamber Coffee Chat via Zoom with Brian Baxter\, owner of Baxter Bookkeeping
DESCRIPTION:Join us for this Weeks Chamber Chat!\n \nNovember 4th @ 8:00 am –\n 8:45 am\n \nBrian Baxter will be hosting this week’s Chamber Chat. Located in Troutdale by appointment Brian will speaking about all aspects of his bookkeeping business but the important thing to note is he is an expert on the PPP and loan forgiveness program that the Government has been offering during the Covid 19 Crisis. This is a must see Chamber chat so please zoom in and join us. This is a community event that the Chamber puts on weekly so you get to meet fellow Chamber members and others in the community that can benefit by becoming a member of the West Columbia Gorge Chamber of Commerce. Share this email and our Facebook post so your friends and fellow businesses can share in the informative session.\n \n\nCome hear Brian Baxter expound on everything bookkeeping. He has been helping those small businesses that were impacted by the shut down. Navigating this critical program has been his mission and he does it well. Baxter Bookkeeping is one the newest member of the West Columbia Gorge Chamber of Commerce. We have a diverse membership and each week we have relevant and resourceful speakers to help you and your business prosper and grow. \n\n \n \nChamber Admin is inviting you to a scheduled Zoom meeting. \n\n \nTopic: Chamber Chat\nTime: Nov 4\, 2020 08:00 AM Pacific Time (US and Canada)\n    Every week on Wed\, 13 occurrence(s)\n    Nov 4\, 2020 08:00 AM\n    Nov 11\, 2020 08:00 AM\n    Nov 18\, 2020 08:00 AM\n    Nov 25\, 2020 08:00 AM\n    Dec 2\, 2020 08:00 AM\n    Dec 9\, 2020 08:00 AM\n    Dec 16\, 2020 08:00 AM\n    Dec 23\, 2020 08:00 AM\n    Dec 30\, 2020 08:00 AM\n    Jan 6\, 2021 08:00 AM\n    Jan 13\, 2021 08:00 AM\n    Jan 20\, 2021 08:00 AM\n    Jan 27\, 2021 08:00 AM\nPlease download and import the following iCalendar (.ics) files to your calendar system.\nWeekly: https://us02web.zoom.us/meeting/tZIscuCsrzwiE9ZN_nXXCiRYfJ07TMZnpoDi/ics?icsToken=98tyKuGurz4jHtWSuBCFRpwABY_4XejzmGZHj_pnsiDrOxhwazHPMMgSZYZSKtbA\n \nJoin Zoom Meeting\nhttps://us02web.zoom.us/j/86159417892?pwd=VzlNUXgvRHNoSTd2VHRxWllpTzB2Zz09\n \nMeeting ID: 861 5941 7892\nPasscode: 656994\nOne tap mobile\n+12532158782\,\,86159417892#\,\,\,\,\,\,0#\,\,656994# US (Tacoma)\n+13462487799\,\,86159417892#\,\,\,\,\,\,0#\,\,656994# US (Houston)\n \nDial by your location\n    +1 253 215 8782 US (Tacoma)\n    +1 346 248 7799 US (Houston)\n    +1 669 900 6833 US (San Jose)\n    +1 301 715 8592 US (Germantown)\n    +1 312 626 6799 US (Chicago)\n    +1 929 436 2866 US (New York)\nMeeting ID: 861 5941 7892\nPasscode: 656994\nFind your local number: https://us02web.zoom.us/u/kc1s2DETpD
URL:https://westcolumbiagorgechamber.com/event/chamber-chat-via-zoom-with-brian-baxter-owner-of-baxter-bookkeeping-3/
LOCATION:OR
CATEGORIES:Chamber Meetings,Chamber Zoom Coffee Chats
END:VEVENT
END:VCALENDAR