BEGIN:VCALENDAR
VERSION:2.0
PRODID:-//West Columbia Gorge Chamber of Commerce - ECPv6.15.20//NONSGML v1.0//EN
CALSCALE:GREGORIAN
METHOD:PUBLISH
X-ORIGINAL-URL:https://westcolumbiagorgechamber.com
X-WR-CALDESC:Events for West Columbia Gorge Chamber of Commerce
REFRESH-INTERVAL;VALUE=DURATION:PT1H
X-Robots-Tag:noindex
X-PUBLISHED-TTL:PT1H
BEGIN:VTIMEZONE
TZID:America/Los_Angeles
BEGIN:DAYLIGHT
TZOFFSETFROM:-0800
TZOFFSETTO:-0700
TZNAME:PDT
DTSTART:20190310T100000
END:DAYLIGHT
BEGIN:STANDARD
TZOFFSETFROM:-0700
TZOFFSETTO:-0800
TZNAME:PST
DTSTART:20191103T090000
END:STANDARD
BEGIN:DAYLIGHT
TZOFFSETFROM:-0800
TZOFFSETTO:-0700
TZNAME:PDT
DTSTART:20200308T100000
END:DAYLIGHT
BEGIN:STANDARD
TZOFFSETFROM:-0700
TZOFFSETTO:-0800
TZNAME:PST
DTSTART:20201101T090000
END:STANDARD
BEGIN:DAYLIGHT
TZOFFSETFROM:-0800
TZOFFSETTO:-0700
TZNAME:PDT
DTSTART:20210314T100000
END:DAYLIGHT
BEGIN:STANDARD
TZOFFSETFROM:-0700
TZOFFSETTO:-0800
TZNAME:PST
DTSTART:20211107T090000
END:STANDARD
END:VTIMEZONE
BEGIN:VEVENT
DTSTART;TZID=America/Los_Angeles:20201029T173000
DTEND;TZID=America/Los_Angeles:20201029T190000
DTSTAMP:20260421T111822
CREATED:20200905T235815Z
LAST-MODIFIED:20200905T235815Z
UID:9818-1603992600-1603998000@westcolumbiagorgechamber.com
SUMMARY:Chamber "Business & Social Hour" at Alexs  1712 NE 223rd Ave\,    Fairview\, OR
DESCRIPTION:This event will take place on the patio area at Alexs.  Come and meet fellow business owners including Anestis\, the owner of Alexs!
URL:https://westcolumbiagorgechamber.com/event/chamber-business-social-hour-at-alexs-1712-ne-223rd-ave-fairview-or-4/
LOCATION:OR
CATEGORIES:Business & Social Hours (BASH),Chamber Meetings
END:VEVENT
BEGIN:VEVENT
DTSTART;TZID=America/Los_Angeles:20201029T173000
DTEND;TZID=America/Los_Angeles:20201029T190000
DTSTAMP:20260421T111822
CREATED:20200905T235815Z
LAST-MODIFIED:20200905T235815Z
UID:7068-1603992600-1603998000@westcolumbiagorgechamber.com
SUMMARY:Chamber "Business & Social Hour" at Alexs  1712 NE 223rd Ave\,    Fairview\, OR
DESCRIPTION:This event will take place on the patio area at Alexs.  Come and meet fellow business owners including Anestis\, the owner of Alexs!
URL:https://westcolumbiagorgechamber.com/event/chamber-business-social-hour-at-alexs-1712-ne-223rd-ave-fairview-or/
LOCATION:OR
CATEGORIES:Business & Social Hours (BASH),Chamber Meetings
END:VEVENT
BEGIN:VEVENT
DTSTART;TZID=America/Los_Angeles:20201029T173000
DTEND;TZID=America/Los_Angeles:20201029T190000
DTSTAMP:20260421T111822
CREATED:20200905T235815Z
LAST-MODIFIED:20200905T235815Z
UID:9342-1603992600-1603998000@westcolumbiagorgechamber.com
SUMMARY:Chamber "Business & Social Hour" at Alexs  1712 NE 223rd Ave\,    Fairview\, OR
DESCRIPTION:This event will take place on the patio area at Alexs.  Come and meet fellow business owners including Anestis\, the owner of Alexs!
URL:https://westcolumbiagorgechamber.com/event/chamber-business-social-hour-at-alexs-1712-ne-223rd-ave-fairview-or-2/
LOCATION:OR
CATEGORIES:Business & Social Hours (BASH),Chamber Meetings
END:VEVENT
BEGIN:VEVENT
DTSTART;TZID=America/Los_Angeles:20201029T173000
DTEND;TZID=America/Los_Angeles:20201029T190000
DTSTAMP:20260421T111822
CREATED:20200905T235815Z
LAST-MODIFIED:20200905T235815Z
UID:9376-1603992600-1603998000@westcolumbiagorgechamber.com
SUMMARY:Chamber "Business & Social Hour" at Alexs  1712 NE 223rd Ave\,    Fairview\, OR
DESCRIPTION:This event will take place on the patio area at Alexs.  Come and meet fellow business owners including Anestis\, the owner of Alexs!
URL:https://westcolumbiagorgechamber.com/event/chamber-business-social-hour-at-alexs-1712-ne-223rd-ave-fairview-or-3/
LOCATION:OR
CATEGORIES:Business & Social Hours (BASH),Chamber Meetings
END:VEVENT
END:VCALENDAR