BEGIN:VCALENDAR
VERSION:2.0
PRODID:-//West Columbia Gorge Chamber of Commerce - ECPv6.15.20//NONSGML v1.0//EN
CALSCALE:GREGORIAN
METHOD:PUBLISH
X-ORIGINAL-URL:https://westcolumbiagorgechamber.com
X-WR-CALDESC:Events for West Columbia Gorge Chamber of Commerce
REFRESH-INTERVAL;VALUE=DURATION:PT1H
X-Robots-Tag:noindex
X-PUBLISHED-TTL:PT1H
BEGIN:VTIMEZONE
TZID:America/Los_Angeles
BEGIN:DAYLIGHT
TZOFFSETFROM:-0800
TZOFFSETTO:-0700
TZNAME:PDT
DTSTART:20190310T100000
END:DAYLIGHT
BEGIN:STANDARD
TZOFFSETFROM:-0700
TZOFFSETTO:-0800
TZNAME:PST
DTSTART:20191103T090000
END:STANDARD
BEGIN:DAYLIGHT
TZOFFSETFROM:-0800
TZOFFSETTO:-0700
TZNAME:PDT
DTSTART:20200308T100000
END:DAYLIGHT
BEGIN:STANDARD
TZOFFSETFROM:-0700
TZOFFSETTO:-0800
TZNAME:PST
DTSTART:20201101T090000
END:STANDARD
BEGIN:DAYLIGHT
TZOFFSETFROM:-0800
TZOFFSETTO:-0700
TZNAME:PDT
DTSTART:20210314T100000
END:DAYLIGHT
BEGIN:STANDARD
TZOFFSETFROM:-0700
TZOFFSETTO:-0800
TZNAME:PST
DTSTART:20211107T090000
END:STANDARD
END:VTIMEZONE
BEGIN:VEVENT
DTSTART;TZID=America/Los_Angeles:20200917T180000
DTEND;TZID=America/Los_Angeles:20200917T200000
DTSTAMP:20260421T175802
CREATED:20200116T234543Z
LAST-MODIFIED:20200116T234543Z
UID:6727-1600365600-1600372800@westcolumbiagorgechamber.com
SUMMARY:Board of Directors Meeting
DESCRIPTION:This Meeting will be a Zoom meeting: \nChamber Admin is inviting you to a scheduled Zoom meeting. \nTopic: Board meeting Sept 17th\nTime: Sep 17\, 2020 06:00 PM Pacific Time (US and Canada) \nJoin Zoom Meeting\nhttps://us02web.zoom.us/j/86126676862?pwd=YzVXZCs2Mi9rTXV4ZHl0c1M3SFZNZz09 \nMeeting ID: 861 2667 6862\nPasscode: 791433\nOne tap mobile\n+16699006833\,\,86126676862#\,\,\,\,\,\,0#\,\,791433# US (San Jose)\n+12532158782\,\,86126676862#\,\,\,\,\,\,0#\,\,791433# US (Tacoma) \nDial by your location\n+1 669 900 6833 US (San Jose)\n+1 253 215 8782 US (Tacoma)\n+1 346 248 7799 US (Houston)\n+1 929 436 2866 US (New York)\n+1 301 715 8592 US (Germantown)\n+1 312 626 6799 US (Chicago)\nMeeting ID: 861 2667 6862\nPasscode: 791433\nFind your local number: https://us02web.zoom.us/u/kdH7kP78P7 \n 
URL:https://westcolumbiagorgechamber.com/event/board-of-directors-meeting-39/
LOCATION:Zoom meeting\, 107 E. Historic Columbia River Hwy\, Troutdale\, OR\, 97060\, United States
CATEGORIES:Board of Directors Meetings,Chamber Meetings
END:VEVENT
BEGIN:VEVENT
DTSTART;TZID=America/Los_Angeles:20200917T180000
DTEND;TZID=America/Los_Angeles:20200917T200000
DTSTAMP:20260421T175802
CREATED:20200116T234543Z
LAST-MODIFIED:20200116T234543Z
UID:9252-1600365600-1600372800@westcolumbiagorgechamber.com
SUMMARY:Board of Directors Meeting
DESCRIPTION:This Meeting will be a Zoom meeting: \nChamber Admin is inviting you to a scheduled Zoom meeting. \nTopic: Board meeting Sept 17th\nTime: Sep 17\, 2020 06:00 PM Pacific Time (US and Canada) \nJoin Zoom Meeting\nhttps://us02web.zoom.us/j/86126676862?pwd=YzVXZCs2Mi9rTXV4ZHl0c1M3SFZNZz09 \nMeeting ID: 861 2667 6862\nPasscode: 791433\nOne tap mobile\n+16699006833\,\,86126676862#\,\,\,\,\,\,0#\,\,791433# US (San Jose)\n+12532158782\,\,86126676862#\,\,\,\,\,\,0#\,\,791433# US (Tacoma) \nDial by your location\n+1 669 900 6833 US (San Jose)\n+1 253 215 8782 US (Tacoma)\n+1 346 248 7799 US (Houston)\n+1 929 436 2866 US (New York)\n+1 301 715 8592 US (Germantown)\n+1 312 626 6799 US (Chicago)\nMeeting ID: 861 2667 6862\nPasscode: 791433\nFind your local number: https://us02web.zoom.us/u/kdH7kP78P7 \n 
URL:https://westcolumbiagorgechamber.com/event/board-of-directors-meeting-39-2/
LOCATION:Zoom meeting\, 107 E. Historic Columbia River Hwy\, Troutdale\, OR\, 97060\, United States
CATEGORIES:Board of Directors Meetings,Chamber Meetings
END:VEVENT
BEGIN:VEVENT
DTSTART;TZID=America/Los_Angeles:20200917T180000
DTEND;TZID=America/Los_Angeles:20200917T200000
DTSTAMP:20260421T175802
CREATED:20200116T234543Z
LAST-MODIFIED:20200116T234543Z
UID:9289-1600365600-1600372800@westcolumbiagorgechamber.com
SUMMARY:Board of Directors Meeting
DESCRIPTION:This Meeting will be a Zoom meeting: \nChamber Admin is inviting you to a scheduled Zoom meeting. \nTopic: Board meeting Sept 17th\nTime: Sep 17\, 2020 06:00 PM Pacific Time (US and Canada) \nJoin Zoom Meeting\nhttps://us02web.zoom.us/j/86126676862?pwd=YzVXZCs2Mi9rTXV4ZHl0c1M3SFZNZz09 \nMeeting ID: 861 2667 6862\nPasscode: 791433\nOne tap mobile\n+16699006833\,\,86126676862#\,\,\,\,\,\,0#\,\,791433# US (San Jose)\n+12532158782\,\,86126676862#\,\,\,\,\,\,0#\,\,791433# US (Tacoma) \nDial by your location\n+1 669 900 6833 US (San Jose)\n+1 253 215 8782 US (Tacoma)\n+1 346 248 7799 US (Houston)\n+1 929 436 2866 US (New York)\n+1 301 715 8592 US (Germantown)\n+1 312 626 6799 US (Chicago)\nMeeting ID: 861 2667 6862\nPasscode: 791433\nFind your local number: https://us02web.zoom.us/u/kdH7kP78P7 \n 
URL:https://westcolumbiagorgechamber.com/event/board-of-directors-meeting-39-3/
LOCATION:Zoom meeting\, 107 E. Historic Columbia River Hwy\, Troutdale\, OR\, 97060\, United States
CATEGORIES:Board of Directors Meetings,Chamber Meetings
END:VEVENT
BEGIN:VEVENT
DTSTART;TZID=America/Los_Angeles:20200917T180000
DTEND;TZID=America/Los_Angeles:20200917T200000
DTSTAMP:20260421T175802
CREATED:20200116T234543Z
LAST-MODIFIED:20200116T234543Z
UID:9788-1600365600-1600372800@westcolumbiagorgechamber.com
SUMMARY:Board of Directors Meeting
DESCRIPTION:This Meeting will be a Zoom meeting: \nChamber Admin is inviting you to a scheduled Zoom meeting. \nTopic: Board meeting Sept 17th\nTime: Sep 17\, 2020 06:00 PM Pacific Time (US and Canada) \nJoin Zoom Meeting\nhttps://us02web.zoom.us/j/86126676862?pwd=YzVXZCs2Mi9rTXV4ZHl0c1M3SFZNZz09 \nMeeting ID: 861 2667 6862\nPasscode: 791433\nOne tap mobile\n+16699006833\,\,86126676862#\,\,\,\,\,\,0#\,\,791433# US (San Jose)\n+12532158782\,\,86126676862#\,\,\,\,\,\,0#\,\,791433# US (Tacoma) \nDial by your location\n+1 669 900 6833 US (San Jose)\n+1 253 215 8782 US (Tacoma)\n+1 346 248 7799 US (Houston)\n+1 929 436 2866 US (New York)\n+1 301 715 8592 US (Germantown)\n+1 312 626 6799 US (Chicago)\nMeeting ID: 861 2667 6862\nPasscode: 791433\nFind your local number: https://us02web.zoom.us/u/kdH7kP78P7 \n 
URL:https://westcolumbiagorgechamber.com/event/board-of-directors-meeting-39-4/
LOCATION:Zoom meeting\, 107 E. Historic Columbia River Hwy\, Troutdale\, OR\, 97060\, United States
CATEGORIES:Board of Directors Meetings,Chamber Meetings
END:VEVENT
END:VCALENDAR