BEGIN:VCALENDAR
VERSION:2.0
PRODID:-//West Columbia Gorge Chamber of Commerce - ECPv6.15.20//NONSGML v1.0//EN
CALSCALE:GREGORIAN
METHOD:PUBLISH
X-ORIGINAL-URL:https://westcolumbiagorgechamber.com
X-WR-CALDESC:Events for West Columbia Gorge Chamber of Commerce
REFRESH-INTERVAL;VALUE=DURATION:PT1H
X-Robots-Tag:noindex
X-PUBLISHED-TTL:PT1H
BEGIN:VTIMEZONE
TZID:America/Los_Angeles
BEGIN:DAYLIGHT
TZOFFSETFROM:-0800
TZOFFSETTO:-0700
TZNAME:PDT
DTSTART:20190310T100000
END:DAYLIGHT
BEGIN:STANDARD
TZOFFSETFROM:-0700
TZOFFSETTO:-0800
TZNAME:PST
DTSTART:20191103T090000
END:STANDARD
BEGIN:DAYLIGHT
TZOFFSETFROM:-0800
TZOFFSETTO:-0700
TZNAME:PDT
DTSTART:20200308T100000
END:DAYLIGHT
BEGIN:STANDARD
TZOFFSETFROM:-0700
TZOFFSETTO:-0800
TZNAME:PST
DTSTART:20201101T090000
END:STANDARD
BEGIN:DAYLIGHT
TZOFFSETFROM:-0800
TZOFFSETTO:-0700
TZNAME:PDT
DTSTART:20210314T100000
END:DAYLIGHT
BEGIN:STANDARD
TZOFFSETFROM:-0700
TZOFFSETTO:-0800
TZNAME:PST
DTSTART:20211107T090000
END:STANDARD
END:VTIMEZONE
BEGIN:VEVENT
DTSTART;TZID=America/Los_Angeles:20200909T080000
DTEND;TZID=America/Los_Angeles:20200909T084500
DTSTAMP:20260421T175812
CREATED:20200806T214200Z
LAST-MODIFIED:20200806T214200Z
UID:9335-1599638400-1599641100@westcolumbiagorgechamber.com
SUMMARY:WCGCC Coffee Chat via Zoom Good Samaritan Fairlawn Village
DESCRIPTION:Jackie Bradford\, Executive Director of the Good Samaritan Society Fairlawn Village will be speaking to us about services offered to seniors and will share various success stories of how they are keeping people safe during this unprecedented time in history. \n  \nChamber Admin is inviting you to a scheduled Zoom meeting. \nTopic: Chamber Chat\nTime: Sep 9\, 2020 08:00 AM Pacific Time (US and Canada)\n        Every week on Wed\, until Oct 21\, 2020\, 7 occurrence(s)\n        Sep 9\, 2020 08:00 AM\n        Sep 16\, 2020 08:00 AM\n        Sep 23\, 2020 08:00 AM\n        Sep 30\, 2020 08:00 AM\n        Oct 7\, 2020 08:00 AM\n        Oct 14\, 2020 08:00 AM\n        Oct 21\, 2020 08:00 AM\nPlease download and import the following iCalendar (.ics) files to your calendar system.\nWeekly: https://us02web.zoom.us/meeting/tZIscuCsrzwiE9ZN_nXXCiRYfJ07TMZnpoDi/ics?icsToken=98tyKuGurz4jHtWSuBCFRpwABY_4XejzmGZHj_pnsiDrOxhwazHPMMgSZYZSKtbA \nJoin Zoom Meeting\nhttps://us02web.zoom.us/j/86159417892?pwd=VzlNUXgvRHNoSTd2VHRxWllpTzB2Zz09 \nMeeting ID: 861 5941 7892\nPasscode: 656994\nOne tap mobile\n+12532158782\,\,86159417892#\,\,\,\,\,\,0#\,\,656994# US (Tacoma)\n+13462487799\,\,86159417892#\,\,\,\,\,\,0#\,\,656994# US (Houston) \nDial by your location\n        +1 253 215 8782 US (Tacoma)\n        +1 346 248 7799 US (Houston)\n        +1 669 900 6833 US (San Jose)\n        +1 301 715 8592 US (Germantown)\n        +1 312 626 6799 US (Chicago)\n        +1 929 436 2866 US (New York)\nMeeting ID: 861 5941 7892\nPasscode: 656994\nFind your local number: https://us02web.zoom.us/u/kc1s2DETpD
URL:https://westcolumbiagorgechamber.com/event/wcgcc-coffee-chat-via-zoom-7-3/
LOCATION:OR
CATEGORIES:Chamber Meetings,Chamber Zoom Coffee Chats
END:VEVENT
BEGIN:VEVENT
DTSTART;TZID=America/Los_Angeles:20200909T080000
DTEND;TZID=America/Los_Angeles:20200909T084500
DTSTAMP:20260421T175812
CREATED:20200806T214200Z
LAST-MODIFIED:20200806T214200Z
UID:9804-1599638400-1599641100@westcolumbiagorgechamber.com
SUMMARY:WCGCC Coffee Chat via Zoom Good Samaritan Fairlawn Village
DESCRIPTION:Jackie Bradford\, Executive Director of the Good Samaritan Society Fairlawn Village will be speaking to us about services offered to seniors and will share various success stories of how they are keeping people safe during this unprecedented time in history. \n  \nChamber Admin is inviting you to a scheduled Zoom meeting. \nTopic: Chamber Chat\nTime: Sep 9\, 2020 08:00 AM Pacific Time (US and Canada)\n        Every week on Wed\, until Oct 21\, 2020\, 7 occurrence(s)\n        Sep 9\, 2020 08:00 AM\n        Sep 16\, 2020 08:00 AM\n        Sep 23\, 2020 08:00 AM\n        Sep 30\, 2020 08:00 AM\n        Oct 7\, 2020 08:00 AM\n        Oct 14\, 2020 08:00 AM\n        Oct 21\, 2020 08:00 AM\nPlease download and import the following iCalendar (.ics) files to your calendar system.\nWeekly: https://us02web.zoom.us/meeting/tZIscuCsrzwiE9ZN_nXXCiRYfJ07TMZnpoDi/ics?icsToken=98tyKuGurz4jHtWSuBCFRpwABY_4XejzmGZHj_pnsiDrOxhwazHPMMgSZYZSKtbA \nJoin Zoom Meeting\nhttps://us02web.zoom.us/j/86159417892?pwd=VzlNUXgvRHNoSTd2VHRxWllpTzB2Zz09 \nMeeting ID: 861 5941 7892\nPasscode: 656994\nOne tap mobile\n+12532158782\,\,86159417892#\,\,\,\,\,\,0#\,\,656994# US (Tacoma)\n+13462487799\,\,86159417892#\,\,\,\,\,\,0#\,\,656994# US (Houston) \nDial by your location\n        +1 253 215 8782 US (Tacoma)\n        +1 346 248 7799 US (Houston)\n        +1 669 900 6833 US (San Jose)\n        +1 301 715 8592 US (Germantown)\n        +1 312 626 6799 US (Chicago)\n        +1 929 436 2866 US (New York)\nMeeting ID: 861 5941 7892\nPasscode: 656994\nFind your local number: https://us02web.zoom.us/u/kc1s2DETpD
URL:https://westcolumbiagorgechamber.com/event/wcgcc-coffee-chat-via-zoom-7-4/
LOCATION:OR
CATEGORIES:Chamber Meetings,Chamber Zoom Coffee Chats
END:VEVENT
BEGIN:VEVENT
DTSTART;TZID=America/Los_Angeles:20200909T080000
DTEND;TZID=America/Los_Angeles:20200909T084500
DTSTAMP:20260421T175812
CREATED:20200806T214200Z
LAST-MODIFIED:20200806T214200Z
UID:6969-1599638400-1599641100@westcolumbiagorgechamber.com
SUMMARY:WCGCC Coffee Chat via Zoom Good Samaritan Fairlawn Village
DESCRIPTION:Jackie Bradford\, Executive Director of the Good Samaritan Society Fairlawn Village will be speaking to us about services offered to seniors and will share various success stories of how they are keeping people safe during this unprecedented time in history. \n  \nChamber Admin is inviting you to a scheduled Zoom meeting. \nTopic: Chamber Chat\nTime: Sep 9\, 2020 08:00 AM Pacific Time (US and Canada)\n        Every week on Wed\, until Oct 21\, 2020\, 7 occurrence(s)\n        Sep 9\, 2020 08:00 AM\n        Sep 16\, 2020 08:00 AM\n        Sep 23\, 2020 08:00 AM\n        Sep 30\, 2020 08:00 AM\n        Oct 7\, 2020 08:00 AM\n        Oct 14\, 2020 08:00 AM\n        Oct 21\, 2020 08:00 AM\nPlease download and import the following iCalendar (.ics) files to your calendar system.\nWeekly: https://us02web.zoom.us/meeting/tZIscuCsrzwiE9ZN_nXXCiRYfJ07TMZnpoDi/ics?icsToken=98tyKuGurz4jHtWSuBCFRpwABY_4XejzmGZHj_pnsiDrOxhwazHPMMgSZYZSKtbA \nJoin Zoom Meeting\nhttps://us02web.zoom.us/j/86159417892?pwd=VzlNUXgvRHNoSTd2VHRxWllpTzB2Zz09 \nMeeting ID: 861 5941 7892\nPasscode: 656994\nOne tap mobile\n+12532158782\,\,86159417892#\,\,\,\,\,\,0#\,\,656994# US (Tacoma)\n+13462487799\,\,86159417892#\,\,\,\,\,\,0#\,\,656994# US (Houston) \nDial by your location\n        +1 253 215 8782 US (Tacoma)\n        +1 346 248 7799 US (Houston)\n        +1 669 900 6833 US (San Jose)\n        +1 301 715 8592 US (Germantown)\n        +1 312 626 6799 US (Chicago)\n        +1 929 436 2866 US (New York)\nMeeting ID: 861 5941 7892\nPasscode: 656994\nFind your local number: https://us02web.zoom.us/u/kc1s2DETpD
URL:https://westcolumbiagorgechamber.com/event/wcgcc-coffee-chat-via-zoom-7/
LOCATION:OR
CATEGORIES:Chamber Meetings,Chamber Zoom Coffee Chats
END:VEVENT
BEGIN:VEVENT
DTSTART;TZID=America/Los_Angeles:20200909T080000
DTEND;TZID=America/Los_Angeles:20200909T084500
DTSTAMP:20260421T175812
CREATED:20200806T214200Z
LAST-MODIFIED:20200806T214200Z
UID:9299-1599638400-1599641100@westcolumbiagorgechamber.com
SUMMARY:WCGCC Coffee Chat via Zoom Good Samaritan Fairlawn Village
DESCRIPTION:Jackie Bradford\, Executive Director of the Good Samaritan Society Fairlawn Village will be speaking to us about services offered to seniors and will share various success stories of how they are keeping people safe during this unprecedented time in history. \n  \nChamber Admin is inviting you to a scheduled Zoom meeting. \nTopic: Chamber Chat\nTime: Sep 9\, 2020 08:00 AM Pacific Time (US and Canada)\n        Every week on Wed\, until Oct 21\, 2020\, 7 occurrence(s)\n        Sep 9\, 2020 08:00 AM\n        Sep 16\, 2020 08:00 AM\n        Sep 23\, 2020 08:00 AM\n        Sep 30\, 2020 08:00 AM\n        Oct 7\, 2020 08:00 AM\n        Oct 14\, 2020 08:00 AM\n        Oct 21\, 2020 08:00 AM\nPlease download and import the following iCalendar (.ics) files to your calendar system.\nWeekly: https://us02web.zoom.us/meeting/tZIscuCsrzwiE9ZN_nXXCiRYfJ07TMZnpoDi/ics?icsToken=98tyKuGurz4jHtWSuBCFRpwABY_4XejzmGZHj_pnsiDrOxhwazHPMMgSZYZSKtbA \nJoin Zoom Meeting\nhttps://us02web.zoom.us/j/86159417892?pwd=VzlNUXgvRHNoSTd2VHRxWllpTzB2Zz09 \nMeeting ID: 861 5941 7892\nPasscode: 656994\nOne tap mobile\n+12532158782\,\,86159417892#\,\,\,\,\,\,0#\,\,656994# US (Tacoma)\n+13462487799\,\,86159417892#\,\,\,\,\,\,0#\,\,656994# US (Houston) \nDial by your location\n        +1 253 215 8782 US (Tacoma)\n        +1 346 248 7799 US (Houston)\n        +1 669 900 6833 US (San Jose)\n        +1 301 715 8592 US (Germantown)\n        +1 312 626 6799 US (Chicago)\n        +1 929 436 2866 US (New York)\nMeeting ID: 861 5941 7892\nPasscode: 656994\nFind your local number: https://us02web.zoom.us/u/kc1s2DETpD
URL:https://westcolumbiagorgechamber.com/event/wcgcc-coffee-chat-via-zoom-7-2/
LOCATION:OR
CATEGORIES:Chamber Meetings,Chamber Zoom Coffee Chats
END:VEVENT
END:VCALENDAR