BEGIN:VCALENDAR
VERSION:2.0
PRODID:-//West Columbia Gorge Chamber of Commerce - ECPv6.15.20//NONSGML v1.0//EN
CALSCALE:GREGORIAN
METHOD:PUBLISH
X-WR-CALNAME:West Columbia Gorge Chamber of Commerce
X-ORIGINAL-URL:https://westcolumbiagorgechamber.com
X-WR-CALDESC:Events for West Columbia Gorge Chamber of Commerce
REFRESH-INTERVAL;VALUE=DURATION:PT1H
X-Robots-Tag:noindex
X-PUBLISHED-TTL:PT1H
BEGIN:VTIMEZONE
TZID:America/Los_Angeles
BEGIN:DAYLIGHT
TZOFFSETFROM:-0800
TZOFFSETTO:-0700
TZNAME:PDT
DTSTART:20190310T100000
END:DAYLIGHT
BEGIN:STANDARD
TZOFFSETFROM:-0700
TZOFFSETTO:-0800
TZNAME:PST
DTSTART:20191103T090000
END:STANDARD
BEGIN:DAYLIGHT
TZOFFSETFROM:-0800
TZOFFSETTO:-0700
TZNAME:PDT
DTSTART:20200308T100000
END:DAYLIGHT
BEGIN:STANDARD
TZOFFSETFROM:-0700
TZOFFSETTO:-0800
TZNAME:PST
DTSTART:20201101T090000
END:STANDARD
BEGIN:DAYLIGHT
TZOFFSETFROM:-0800
TZOFFSETTO:-0700
TZNAME:PDT
DTSTART:20210314T100000
END:DAYLIGHT
BEGIN:STANDARD
TZOFFSETFROM:-0700
TZOFFSETTO:-0800
TZNAME:PST
DTSTART:20211107T090000
END:STANDARD
END:VTIMEZONE
BEGIN:VEVENT
DTSTART;TZID=America/Los_Angeles:20200827T120000
DTEND;TZID=America/Los_Angeles:20200827T130000
DTSTAMP:20260421T191731
CREATED:20200806T203120Z
LAST-MODIFIED:20200806T203120Z
UID:9801-1598529600-1598533200@westcolumbiagorgechamber.com
SUMMARY:"Advance Directive" Seminar with Rebecca Gandy\, Attorney at Law
DESCRIPTION:Advance Directive 2020 Free Workshop \nOregon’s Healthcare Power of Attorney and Living Will is called an “Advance Directive”. We will go over the current form and discuss additional language that can be added to your form to address COVID 19\, religious preferences and other guidelines. I will also distinguish the POLST and explain how it is used. Everyone should have an Advance Directive to provide their families and loved ones with guidance for care when they cannot speak for themselves. Register today and you will receive a confirmation email containing information about joining the meeting. \nRebecca Gandy\, Attorney-at-Law\, Gandy Legal Services \nAug 27\, 2020 12:00 PM Pacific Time (US and Canada) \nRegister in advance for this free ZOOM meeting: \nhttps://us02web.zoom.us/meeting/register/tZUrdeyorz4sGt2-zUIwITaw5D33BLMXaeVP
URL:https://westcolumbiagorgechamber.com/event/advance-directive-seminar-with-rebecca-gandy-attorney-at-law-4/
LOCATION:OR
CATEGORIES:Chamber Meetings,Chamber Zoom Coffee Chats
END:VEVENT
BEGIN:VEVENT
DTSTART;TZID=America/Los_Angeles:20200827T120000
DTEND;TZID=America/Los_Angeles:20200827T130000
DTSTAMP:20260421T191731
CREATED:20200806T203120Z
LAST-MODIFIED:20200806T203120Z
UID:6958-1598529600-1598533200@westcolumbiagorgechamber.com
SUMMARY:"Advance Directive" Seminar with Rebecca Gandy\, Attorney at Law
DESCRIPTION:Advance Directive 2020 Free Workshop \nOregon’s Healthcare Power of Attorney and Living Will is called an “Advance Directive”. We will go over the current form and discuss additional language that can be added to your form to address COVID 19\, religious preferences and other guidelines. I will also distinguish the POLST and explain how it is used. Everyone should have an Advance Directive to provide their families and loved ones with guidance for care when they cannot speak for themselves. Register today and you will receive a confirmation email containing information about joining the meeting. \nRebecca Gandy\, Attorney-at-Law\, Gandy Legal Services \nAug 27\, 2020 12:00 PM Pacific Time (US and Canada) \nRegister in advance for this free ZOOM meeting: \nhttps://us02web.zoom.us/meeting/register/tZUrdeyorz4sGt2-zUIwITaw5D33BLMXaeVP
URL:https://westcolumbiagorgechamber.com/event/advance-directive-seminar-with-rebecca-gandy-attorney-at-law/
LOCATION:OR
CATEGORIES:Chamber Meetings,Chamber Zoom Coffee Chats
END:VEVENT
BEGIN:VEVENT
DTSTART;TZID=America/Los_Angeles:20200827T120000
DTEND;TZID=America/Los_Angeles:20200827T130000
DTSTAMP:20260421T191731
CREATED:20200806T203120Z
LAST-MODIFIED:20200806T203120Z
UID:9290-1598529600-1598533200@westcolumbiagorgechamber.com
SUMMARY:"Advance Directive" Seminar with Rebecca Gandy\, Attorney at Law
DESCRIPTION:Advance Directive 2020 Free Workshop \nOregon’s Healthcare Power of Attorney and Living Will is called an “Advance Directive”. We will go over the current form and discuss additional language that can be added to your form to address COVID 19\, religious preferences and other guidelines. I will also distinguish the POLST and explain how it is used. Everyone should have an Advance Directive to provide their families and loved ones with guidance for care when they cannot speak for themselves. Register today and you will receive a confirmation email containing information about joining the meeting. \nRebecca Gandy\, Attorney-at-Law\, Gandy Legal Services \nAug 27\, 2020 12:00 PM Pacific Time (US and Canada) \nRegister in advance for this free ZOOM meeting: \nhttps://us02web.zoom.us/meeting/register/tZUrdeyorz4sGt2-zUIwITaw5D33BLMXaeVP
URL:https://westcolumbiagorgechamber.com/event/advance-directive-seminar-with-rebecca-gandy-attorney-at-law-2/
LOCATION:OR
CATEGORIES:Chamber Meetings,Chamber Zoom Coffee Chats
END:VEVENT
BEGIN:VEVENT
DTSTART;TZID=America/Los_Angeles:20200827T120000
DTEND;TZID=America/Los_Angeles:20200827T130000
DTSTAMP:20260421T191731
CREATED:20200806T203120Z
LAST-MODIFIED:20200806T203120Z
UID:9325-1598529600-1598533200@westcolumbiagorgechamber.com
SUMMARY:"Advance Directive" Seminar with Rebecca Gandy\, Attorney at Law
DESCRIPTION:Advance Directive 2020 Free Workshop \nOregon’s Healthcare Power of Attorney and Living Will is called an “Advance Directive”. We will go over the current form and discuss additional language that can be added to your form to address COVID 19\, religious preferences and other guidelines. I will also distinguish the POLST and explain how it is used. Everyone should have an Advance Directive to provide their families and loved ones with guidance for care when they cannot speak for themselves. Register today and you will receive a confirmation email containing information about joining the meeting. \nRebecca Gandy\, Attorney-at-Law\, Gandy Legal Services \nAug 27\, 2020 12:00 PM Pacific Time (US and Canada) \nRegister in advance for this free ZOOM meeting: \nhttps://us02web.zoom.us/meeting/register/tZUrdeyorz4sGt2-zUIwITaw5D33BLMXaeVP
URL:https://westcolumbiagorgechamber.com/event/advance-directive-seminar-with-rebecca-gandy-attorney-at-law-3/
LOCATION:OR
CATEGORIES:Chamber Meetings,Chamber Zoom Coffee Chats
END:VEVENT
END:VCALENDAR