BEGIN:VCALENDAR
VERSION:2.0
PRODID:-//West Columbia Gorge Chamber of Commerce - ECPv6.15.20//NONSGML v1.0//EN
CALSCALE:GREGORIAN
METHOD:PUBLISH
X-WR-CALNAME:West Columbia Gorge Chamber of Commerce
X-ORIGINAL-URL:https://westcolumbiagorgechamber.com
X-WR-CALDESC:Events for West Columbia Gorge Chamber of Commerce
REFRESH-INTERVAL;VALUE=DURATION:PT1H
X-Robots-Tag:noindex
X-PUBLISHED-TTL:PT1H
BEGIN:VTIMEZONE
TZID:America/Los_Angeles
BEGIN:DAYLIGHT
TZOFFSETFROM:-0800
TZOFFSETTO:-0700
TZNAME:PDT
DTSTART:20210314T100000
END:DAYLIGHT
BEGIN:STANDARD
TZOFFSETFROM:-0700
TZOFFSETTO:-0800
TZNAME:PST
DTSTART:20211107T090000
END:STANDARD
BEGIN:DAYLIGHT
TZOFFSETFROM:-0800
TZOFFSETTO:-0700
TZNAME:PDT
DTSTART:20220313T100000
END:DAYLIGHT
BEGIN:STANDARD
TZOFFSETFROM:-0700
TZOFFSETTO:-0800
TZNAME:PST
DTSTART:20221106T090000
END:STANDARD
BEGIN:DAYLIGHT
TZOFFSETFROM:-0800
TZOFFSETTO:-0700
TZNAME:PDT
DTSTART:20230312T100000
END:DAYLIGHT
BEGIN:STANDARD
TZOFFSETFROM:-0700
TZOFFSETTO:-0800
TZNAME:PST
DTSTART:20231105T090000
END:STANDARD
END:VTIMEZONE
BEGIN:VEVENT
DTSTART;TZID=America/Los_Angeles:20221005T003000
DTEND;TZID=America/Los_Angeles:20221005T013000
DTSTAMP:20260420T043242
CREATED:20221001T043556Z
LAST-MODIFIED:20221001T043556Z
UID:10111-1664929800-1664933400@westcolumbiagorgechamber.com
SUMMARY:West Columbia Gorge Chamber of Commerce Chamber chat will be hosted by Zach Hudson District #49 Representative
DESCRIPTION:This week’s Chamber chat will be hosted by Zach Hudson\, District #49 Representative. It will be held at Tany’s Coffee Shop at the corner of Stark and Hogan. He will be discussing and presenting information on the last meeting of the House Economic Development Committee during the recent legislative session in Salem. Come join us and get informed on what is happening in our district. Have your questions ready for Zach and be prepared to give him feedback on this topic. See you there and invite someone to come with you. \n  \nChamber chat is supported in part by our sustaining partner\, The Reynolds School District
URL:https://westcolumbiagorgechamber.com/event/west-columbia-gorge-chamber-of-commerce-chamber-chat-will-be-hosted-by-zach-hudson-district-49-representative/
LOCATION:Tany’s Coffee Shop 3030\, 3030 NE Hogan Dr\, Gresham\, OR\, 97030\, United States
CATEGORIES:AM Networkings,Chamber Meetings
ORGANIZER;CN="West Columbia Gorge Chamber of Commerce":MAILTO:info@westcolumbiagorgechamber.com
END:VEVENT
END:VCALENDAR