BEGIN:VCALENDAR
VERSION:2.0
PRODID:-//West Columbia Gorge Chamber of Commerce - ECPv6.15.20//NONSGML v1.0//EN
CALSCALE:GREGORIAN
METHOD:PUBLISH
X-WR-CALNAME:West Columbia Gorge Chamber of Commerce
X-ORIGINAL-URL:https://westcolumbiagorgechamber.com
X-WR-CALDESC:Events for West Columbia Gorge Chamber of Commerce
REFRESH-INTERVAL;VALUE=DURATION:PT1H
X-Robots-Tag:noindex
X-PUBLISHED-TTL:PT1H
BEGIN:VTIMEZONE
TZID:America/Los_Angeles
BEGIN:DAYLIGHT
TZOFFSETFROM:-0800
TZOFFSETTO:-0700
TZNAME:PDT
DTSTART:20210314T100000
END:DAYLIGHT
BEGIN:STANDARD
TZOFFSETFROM:-0700
TZOFFSETTO:-0800
TZNAME:PST
DTSTART:20211107T090000
END:STANDARD
BEGIN:DAYLIGHT
TZOFFSETFROM:-0800
TZOFFSETTO:-0700
TZNAME:PDT
DTSTART:20220313T100000
END:DAYLIGHT
BEGIN:STANDARD
TZOFFSETFROM:-0700
TZOFFSETTO:-0800
TZNAME:PST
DTSTART:20221106T090000
END:STANDARD
BEGIN:DAYLIGHT
TZOFFSETFROM:-0800
TZOFFSETTO:-0700
TZNAME:PDT
DTSTART:20230312T100000
END:DAYLIGHT
BEGIN:STANDARD
TZOFFSETFROM:-0700
TZOFFSETTO:-0800
TZNAME:PST
DTSTART:20231105T090000
END:STANDARD
END:VTIMEZONE
BEGIN:VEVENT
DTSTART;TZID=America/Los_Angeles:20220713T003800
DTEND;TZID=America/Los_Angeles:20220713T013800
DTSTAMP:20260420T082018
CREATED:20220712T045023Z
LAST-MODIFIED:20220712T045023Z
UID:10071-1657672680-1657676280@westcolumbiagorgechamber.com
SUMMARY:Meet our new President Ed Chin at this week's Coffee Chat held at Tany's Coffee Shop!
DESCRIPTION:Come meet the Chambers new President Ed Chin. This will be a meet and greet format so come have some coffee and something fun to eat and network with fellow chamber members and guests.
URL:https://westcolumbiagorgechamber.com/event/meet-our-new-president-ed-chin-at-this-weeks-coffee-chat-held-at-tanys-coffee-shop/
LOCATION:Tany’s Coffee Shop 3030\, 3030 NE Hogan Dr\, Gresham\, OR\, 97030\, United States
CATEGORIES:AM Networkings,Chamber Meetings
ORGANIZER;CN="West Columbia Gorge Chamber of Commerce":MAILTO:info@westcolumbiagorgechamber.com
END:VEVENT
BEGIN:VEVENT
DTSTART;TZID=America/Los_Angeles:20220720T003000
DTEND;TZID=America/Los_Angeles:20220720T020000
DTSTAMP:20260420T082018
CREATED:20220720T050426Z
LAST-MODIFIED:20220720T050426Z
UID:10073-1658277000-1658282400@westcolumbiagorgechamber.com
SUMMARY:Kiwanis of Troutdale will be speaking about the Cruise in Coming up in August. Host Jim Jackson
DESCRIPTION:This coming week the Chamber chat will be at Bateman Carroll Funeral home. President of the Troutdale Kiwanis\, Jim Jackson will be speaking about this event to be held on August 6th in downtown Troutdale from 9am to 2pm. They will be closing this part of the Columbia Highway so there can plenty of classis cars. Never know what cars you will see but they will be amazing and awesome for sure. The event is sponsored by several Chamber members\, Weston Kia GMC\, Multnomah Falls Lodge\, The Outlook\, and the City of Troutdale!
URL:https://westcolumbiagorgechamber.com/event/kiwanis-of-troutdale-will-be-speaking-about-the-cruise-in-coming-up-in-august-host-jim-jackson/
LOCATION:Bateman Carroll Funeral Home\, 520 W Powell Blvd\, Gresham\, OR\, 97030
CATEGORIES:AM Networkings,Chamber Meetings
ORGANIZER;CN="West Columbia Gorge Chamber of Commerce":MAILTO:info@westcolumbiagorgechamber.com
END:VEVENT
BEGIN:VEVENT
DTSTART;TZID=America/Los_Angeles:20220727T100000
DTEND;TZID=America/Los_Angeles:20220727T120000
DTSTAMP:20260420T082018
CREATED:20220725T020430Z
LAST-MODIFIED:20220725T020710Z
UID:10077-1658916000-1658923200@westcolumbiagorgechamber.com
SUMMARY:July 27th - The West Columbia Gorge Chamber Chamber Chat will be in person at Alex's Bar in Fairview. Meet Metro Council Rep Shirley Craddick
DESCRIPTION:What’s Next this week!\nJuly 27th\nat 5pm to 7pm\n\nIn-Person Social hour with Shirley Craddick of the Metro Council at Alex’s – Bar 1712 NE 223rd Ave Fairview\, OR 97024\n\nAlex’s Bar is the place for fun at this Off track betting location. The food is amazing and the seating on the patio has lots of fresh air and will be nice to be in a covered area as temperatures heat up this week. They have a great menu and all of it is to go as well.\nWe will be having a guest speaker this week with Metro Council representative Shirley Craddick joining us.\n\nThe Metro Council and staff are considering making some changes to how Metro’s Supportive Housing business tax is calculated. The goal is to create more conformity between jurisdictions to simplify filing. She is bringing some formation for us and will be ready to answer any questions you may have about the upcoming forum on this Falls’ ballot.
URL:https://westcolumbiagorgechamber.com/event/july-27th-the-west-columbia-gorge-chamber-chamber-chat-will-be-in-person-at-alexs-bar-in-fairview-meet-metro-council-rep-shirley-craddick/
LOCATION:West Columbia Gorge Chamber of Commerce\, P. O Box 245\, Troutdale\, 97060\, United States
CATEGORIES:Business & Social Hours (BASH),Chamber Meetings
END:VEVENT
END:VCALENDAR