BEGIN:VCALENDAR
VERSION:2.0
PRODID:-//West Columbia Gorge Chamber of Commerce - ECPv6.15.20//NONSGML v1.0//EN
CALSCALE:GREGORIAN
METHOD:PUBLISH
X-WR-CALNAME:West Columbia Gorge Chamber of Commerce
X-ORIGINAL-URL:https://westcolumbiagorgechamber.com
X-WR-CALDESC:Events for West Columbia Gorge Chamber of Commerce
REFRESH-INTERVAL;VALUE=DURATION:PT1H
X-Robots-Tag:noindex
X-PUBLISHED-TTL:PT1H
BEGIN:VTIMEZONE
TZID:America/Los_Angeles
BEGIN:DAYLIGHT
TZOFFSETFROM:-0800
TZOFFSETTO:-0700
TZNAME:PDT
DTSTART:20210314T100000
END:DAYLIGHT
BEGIN:STANDARD
TZOFFSETFROM:-0700
TZOFFSETTO:-0800
TZNAME:PST
DTSTART:20211107T090000
END:STANDARD
BEGIN:DAYLIGHT
TZOFFSETFROM:-0800
TZOFFSETTO:-0700
TZNAME:PDT
DTSTART:20220313T100000
END:DAYLIGHT
BEGIN:STANDARD
TZOFFSETFROM:-0700
TZOFFSETTO:-0800
TZNAME:PST
DTSTART:20221106T090000
END:STANDARD
BEGIN:DAYLIGHT
TZOFFSETFROM:-0800
TZOFFSETTO:-0700
TZNAME:PDT
DTSTART:20230312T100000
END:DAYLIGHT
BEGIN:STANDARD
TZOFFSETFROM:-0700
TZOFFSETTO:-0800
TZNAME:PST
DTSTART:20231105T090000
END:STANDARD
END:VTIMEZONE
BEGIN:VEVENT
DTSTART;TZID=America/Los_Angeles:20220601T050000
DTEND;TZID=America/Los_Angeles:20220601T060000
DTSTAMP:20260420T093829
CREATED:20220529T003518Z
LAST-MODIFIED:20220529T003518Z
UID:10049-1654059600-1654063200@westcolumbiagorgechamber.com
SUMMARY:June 1st - The West Columbia Gorge Chamber Chamber Learn over Lunch with hosts Bob and Jane Regan of HBI.
DESCRIPTION:This week we will be meeting for a learn over lunch at Bandits Bar & Grill. Jane Regan will be sharing how they have been doing kitchen and bathroom remodeling over the past 25 years or so. They have an extensive collection of their achievements. Want to know what makes sense in this arena\, come here then tell you all about it and plan your future remodeling with one of the Chambers newer members. They bring excitement to remodeling. If you want to eat\, be sure to come a little early to order your lunch. Going to be a great meeting and we are so pleased to have them share their experience with our Chamber members
URL:https://westcolumbiagorgechamber.com/event/june-1st-the-west-columbia-gorge-chamber-chamber-learn-over-lunch-with-hosts-bob-and-jane-regan-of-hbi/
LOCATION:Bandits Bar and Grill\, 108 E Columbia River Hwy\, Troutdale\, OR\, 97060\, United States
CATEGORIES:Chamber Meetings,Learn Over Lunchs
ORGANIZER;CN="West Columbia Gorge Chamber of Commerce":MAILTO:info@westcolumbiagorgechamber.com
END:VEVENT
BEGIN:VEVENT
DTSTART;TZID=America/Los_Angeles:20220615T043000
DTEND;TZID=America/Los_Angeles:20220615T060000
DTSTAMP:20260420T093829
CREATED:20220509T231443Z
LAST-MODIFIED:20220518T110325Z
UID:10040-1655267400-1655272800@westcolumbiagorgechamber.com
SUMMARY:Annual membership meeting will be held at Smith Memorial Presbyterian Church 11:30 to 1pm
DESCRIPTION:The annual membership meeting will be held at Smith Memorial Presbyterian Church in Fairview. Agenda will consist in update on  financial picture of the Chamber\, projects under consideration such as the Tails and Trails project in late August and the election of officers and board members. There will be light refreshments served. Bring your ideas to improve the Chamber. We will also be electing board members for a new year of service. Ballots will be provided at the meeting. If you are interested in serving on the board\, please send your request an application to the Chamber PO Box 245 in Troutdale\, Can also email your interest to the Chamber through admin@westcolumbiagorgechamber.com
URL:https://westcolumbiagorgechamber.com/event/annual-membership-meeting-will-be-held-at-smith-memorial-presbyterian-church-1130-to-1pm/
LOCATION:Smith Memorial Presbyterian Church
CATEGORIES:Chamber Meetings,Events - Chamber,Membership Meetings
ORGANIZER;CN="West Columbia Gorge Chamber of Commerce":MAILTO:info@westcolumbiagorgechamber.com
END:VEVENT
END:VCALENDAR