BEGIN:VCALENDAR
VERSION:2.0
PRODID:-//West Columbia Gorge Chamber of Commerce - ECPv6.15.20//NONSGML v1.0//EN
CALSCALE:GREGORIAN
METHOD:PUBLISH
X-WR-CALNAME:West Columbia Gorge Chamber of Commerce
X-ORIGINAL-URL:https://westcolumbiagorgechamber.com
X-WR-CALDESC:Events for West Columbia Gorge Chamber of Commerce
REFRESH-INTERVAL;VALUE=DURATION:PT1H
X-Robots-Tag:noindex
X-PUBLISHED-TTL:PT1H
BEGIN:VTIMEZONE
TZID:America/Los_Angeles
BEGIN:DAYLIGHT
TZOFFSETFROM:-0800
TZOFFSETTO:-0700
TZNAME:PDT
DTSTART:20210314T100000
END:DAYLIGHT
BEGIN:STANDARD
TZOFFSETFROM:-0700
TZOFFSETTO:-0800
TZNAME:PST
DTSTART:20211107T090000
END:STANDARD
BEGIN:DAYLIGHT
TZOFFSETFROM:-0800
TZOFFSETTO:-0700
TZNAME:PDT
DTSTART:20220313T100000
END:DAYLIGHT
BEGIN:STANDARD
TZOFFSETFROM:-0700
TZOFFSETTO:-0800
TZNAME:PST
DTSTART:20221106T090000
END:STANDARD
BEGIN:DAYLIGHT
TZOFFSETFROM:-0800
TZOFFSETTO:-0700
TZNAME:PDT
DTSTART:20230312T100000
END:DAYLIGHT
BEGIN:STANDARD
TZOFFSETFROM:-0700
TZOFFSETTO:-0800
TZNAME:PST
DTSTART:20231105T090000
END:STANDARD
END:VTIMEZONE
BEGIN:VEVENT
DTSTART;TZID=America/Los_Angeles:20220301T233800
DTEND;TZID=America/Los_Angeles:20220302T003000
DTSTAMP:20260420T131633
CREATED:20220302T073042Z
LAST-MODIFIED:20220302T073042Z
UID:9980-1646177880-1646181000@westcolumbiagorgechamber.com
SUMMARY:WCGCC morning AM networking with the City of Troutdale in person. Location Tany's Coffee Shop 7:38am
DESCRIPTION:Going to be great at 7:38am with the West Columbia Gorge Chamber of Commerce morning AM. Ray Young of the City of Troutdale is our host this week. Ray is the City Manager and will talking about the State of the City and all that is happening or going to happen this summer. Further\, he will be speaking about the new owners of City Hall and the plan the new owners have for the building.  Should be exciting to hear. Tany’s Coffee Shop will be the location of this event. See you all there and be sure to invite a friend or fellow business associate.
URL:https://westcolumbiagorgechamber.com/event/wcgcc-morning-am-networking-with-the-city-of-troutdale-in-person-location-tanys-coffee-shop-738am/
LOCATION:Tany’s Coffee Shop 3030\, 3030 NE Hogan Dr\, Gresham\, OR\, 97030\, United States
CATEGORIES:AM Networkings,Chamber Meetings,City of Troutdale
END:VEVENT
BEGIN:VEVENT
DTSTART;TZID=America/Los_Angeles:20220308T233000
DTEND;TZID=America/Los_Angeles:20220309T123000
DTSTAMP:20260420T131633
CREATED:20220303T033108Z
LAST-MODIFIED:20220303T033108Z
UID:9983-1646782200-1646829000@westcolumbiagorgechamber.com
SUMMARY:Morning AM networking with the City of Wood Village's City Manager Greg Dirks at 7:38am!
DESCRIPTION:This week the City of Wood Village will take center stage as Greg Dirks shares the news in Wood Village. This will be an in person event at Wood Village’s new City Hall in Wood Village 24200 NE Halsey St\, Wood Village\, OR 97060.  This facility is state of the art in every way. Greg will explain and we will hear what is going on in Wood Village.  Come and invite a friend or fellow business to explore this City.  Look forward to seeing you there.
URL:https://westcolumbiagorgechamber.com/event/morning-am-networking-with-the-city-of-wood-villages-city-manager-greg-dirks-at-738am/
LOCATION:City of Wood Village City Hall\, 24200 NE Halsey St\, Wood Village\, OR\, 97060\, United States
CATEGORIES:AM Networkings,Chamber Meetings,City of Wood Village,Events - Chamber
END:VEVENT
BEGIN:VEVENT
DTSTART;TZID=America/Los_Angeles:20220316T003000
DTEND;TZID=America/Los_Angeles:20220316T013000
DTSTAMP:20260420T131633
CREATED:20220316T231701Z
LAST-MODIFIED:20220316T231701Z
UID:9989-1647390600-1647394200@westcolumbiagorgechamber.com
SUMMARY:Morning AM with Mayor Brian Cooper and the City of Fairview in City Hall!
DESCRIPTION:This week’s “It’s going to be great at 7:38am\, we are meeting with the Mayor of Fairview\, Brian Cooper! Time for an update with Fairview and see what is going on with them. Another opportunity to network with your fellow businesses. In person is allowed and the usual constraints have been lifted. Good to see all of you and this should be special. We don’t get to meet with the Cities of the Gorge very often. Come and check it out and invite a friend or fellow business
URL:https://westcolumbiagorgechamber.com/event/morning-am-with-mayor-brian-cooper-and-the-city-of-fairview-in-city-hall/
LOCATION:OR
CATEGORIES:Chamber Meetings,City of Fairview,Events - Chamber
END:VEVENT
BEGIN:VEVENT
DTSTART;TZID=America/Los_Angeles:20220323T103000
DTEND;TZID=America/Los_Angeles:20220323T120000
DTSTAMP:20260420T131633
CREATED:20220321T035609Z
LAST-MODIFIED:20220321T035609Z
UID:9991-1648031400-1648036800@westcolumbiagorgechamber.com
SUMMARY:WCGCC presents the After hours event at Bandits Bar and Grill from 5:30pm to 7pm!
DESCRIPTION:Come and enjoy networking at Bandits Bar and Grill in downtown Troutdale.  Time to celebrate \nwith fellow Chamber members!  Bandits has happy hour start at 3 but it will still be on when we gather so come early and enjoy their specials which includes some local brewing companies.  They have a variety of foods to enjoy and you can be indoors \nor out depending on the weather.  Invite a friend or fellow business owner to join us!
URL:https://westcolumbiagorgechamber.com/event/wcgcc-presents-the-after-hours-event-at-bandits-bar-and-grill-from-530pm-to-7pm/
LOCATION:Bandits Bar and Grill\, 108 E Columbia River Hwy\, Troutdale\, OR\, 97060\, United States
CATEGORIES:Business & Social Hours (BASH),Chamber Meetings,City of Fairview,City of Troutdale,City of Wood Village,Events - Chamber
ORGANIZER;CN="West Columbia Gorge Chamber of Commerce":MAILTO:info@westcolumbiagorgechamber.com
END:VEVENT
END:VCALENDAR