BEGIN:VCALENDAR
VERSION:2.0
PRODID:-//West Columbia Gorge Chamber of Commerce - ECPv6.15.20//NONSGML v1.0//EN
CALSCALE:GREGORIAN
METHOD:PUBLISH
X-ORIGINAL-URL:https://westcolumbiagorgechamber.com
X-WR-CALDESC:Events for West Columbia Gorge Chamber of Commerce
REFRESH-INTERVAL;VALUE=DURATION:PT1H
X-Robots-Tag:noindex
X-PUBLISHED-TTL:PT1H
BEGIN:VTIMEZONE
TZID:America/Los_Angeles
BEGIN:DAYLIGHT
TZOFFSETFROM:-0800
TZOFFSETTO:-0700
TZNAME:PDT
DTSTART:20190310T100000
END:DAYLIGHT
BEGIN:STANDARD
TZOFFSETFROM:-0700
TZOFFSETTO:-0800
TZNAME:PST
DTSTART:20191103T090000
END:STANDARD
BEGIN:DAYLIGHT
TZOFFSETFROM:-0800
TZOFFSETTO:-0700
TZNAME:PDT
DTSTART:20200308T100000
END:DAYLIGHT
BEGIN:STANDARD
TZOFFSETFROM:-0700
TZOFFSETTO:-0800
TZNAME:PST
DTSTART:20201101T090000
END:STANDARD
BEGIN:DAYLIGHT
TZOFFSETFROM:-0800
TZOFFSETTO:-0700
TZNAME:PDT
DTSTART:20210314T100000
END:DAYLIGHT
BEGIN:STANDARD
TZOFFSETFROM:-0700
TZOFFSETTO:-0800
TZNAME:PST
DTSTART:20211107T090000
END:STANDARD
END:VTIMEZONE
BEGIN:VEVENT
DTSTART;TZID=America/Los_Angeles:20200401T120000
DTEND;TZID=America/Los_Angeles:20200401T133000
DTSTAMP:20260422T015127
CREATED:20200116T230157Z
LAST-MODIFIED:20200116T230157Z
UID:9235-1585742400-1585747800@westcolumbiagorgechamber.com
SUMMARY:Learn Over Lunch @ The Rock Wood Fired Pizza Wood Village Hosted by Kenway Benefits Group
DESCRIPTION:Kenway Benefits Group is an insurance brokerage in Oregon featuring health insurance including Medicare\, personal lines\, business insurance and access to legal services.
URL:https://westcolumbiagorgechamber.com/event/learn-over-lunch-4-2/
LOCATION:The Rock Wood Fired Pizza\, 22401 NE Glisan St\,\, Wood Vilage\, OR\, 97060
CATEGORIES:Chamber Meetings,Learn Over Lunchs
END:VEVENT
BEGIN:VEVENT
DTSTART;TZID=America/Los_Angeles:20200401T120000
DTEND;TZID=America/Los_Angeles:20200401T133000
DTSTAMP:20260422T015127
CREATED:20200116T230157Z
LAST-MODIFIED:20200116T230157Z
UID:9271-1585742400-1585747800@westcolumbiagorgechamber.com
SUMMARY:Learn Over Lunch @ The Rock Wood Fired Pizza Wood Village Hosted by Kenway Benefits Group
DESCRIPTION:Kenway Benefits Group is an insurance brokerage in Oregon featuring health insurance including Medicare\, personal lines\, business insurance and access to legal services.
URL:https://westcolumbiagorgechamber.com/event/learn-over-lunch-4-3/
LOCATION:The Rock Wood Fired Pizza\, 22401 NE Glisan St\,\, Wood Vilage\, OR\, 97060
CATEGORIES:Chamber Meetings,Learn Over Lunchs
END:VEVENT
BEGIN:VEVENT
DTSTART;TZID=America/Los_Angeles:20200401T120000
DTEND;TZID=America/Los_Angeles:20200401T133000
DTSTAMP:20260422T015127
CREATED:20200116T230157Z
LAST-MODIFIED:20200116T230157Z
UID:6706-1585742400-1585747800@westcolumbiagorgechamber.com
SUMMARY:Learn Over Lunch @ The Rock Wood Fired Pizza Wood Village Hosted by Kenway Benefits Group
DESCRIPTION:Kenway Benefits Group is an insurance brokerage in Oregon featuring health insurance including Medicare\, personal lines\, business insurance and access to legal services.
URL:https://westcolumbiagorgechamber.com/event/learn-over-lunch-4/
LOCATION:The Rock Wood Fired Pizza\, 22401 NE Glisan St\,\, Wood Vilage\, OR\, 97060
CATEGORIES:Chamber Meetings,Learn Over Lunchs
END:VEVENT
BEGIN:VEVENT
DTSTART;TZID=America/Los_Angeles:20200401T120000
DTEND;TZID=America/Los_Angeles:20200401T133000
DTSTAMP:20260422T015127
CREATED:20200116T230157Z
LAST-MODIFIED:20200116T230157Z
UID:9782-1585742400-1585747800@westcolumbiagorgechamber.com
SUMMARY:Learn Over Lunch @ The Rock Wood Fired Pizza Wood Village Hosted by Kenway Benefits Group
DESCRIPTION:Kenway Benefits Group is an insurance brokerage in Oregon featuring health insurance including Medicare\, personal lines\, business insurance and access to legal services.
URL:https://westcolumbiagorgechamber.com/event/learn-over-lunch-4-4/
LOCATION:The Rock Wood Fired Pizza\, 22401 NE Glisan St\,\, Wood Vilage\, OR\, 97060
CATEGORIES:Chamber Meetings,Learn Over Lunchs
END:VEVENT
BEGIN:VEVENT
DTSTART;TZID=America/Los_Angeles:20200416T180000
DTEND;TZID=America/Los_Angeles:20200416T203000
DTSTAMP:20260422T015127
CREATED:20191021T212248Z
LAST-MODIFIED:20191021T212248Z
UID:9191-1587060000-1587069000@westcolumbiagorgechamber.com
SUMMARY:Board of Directors Meeting
DESCRIPTION:The Board of Directors will be meeting at 6 pm in the conference room above the chamber office. Public welcome.
URL:https://westcolumbiagorgechamber.com/event/board-of-directors-meeting-36-2/
LOCATION:Zoom meeting\, 107 E. Historic Columbia River Hwy\, Troutdale\, OR\, 97060\, United States
CATEGORIES:Board of Directors Meetings,Chamber Meetings
END:VEVENT
BEGIN:VEVENT
DTSTART;TZID=America/Los_Angeles:20200416T180000
DTEND;TZID=America/Los_Angeles:20200416T203000
DTSTAMP:20260422T015127
CREATED:20191021T212248Z
LAST-MODIFIED:20191021T212248Z
UID:9228-1587060000-1587069000@westcolumbiagorgechamber.com
SUMMARY:Board of Directors Meeting
DESCRIPTION:The Board of Directors will be meeting at 6 pm in the conference room above the chamber office. Public welcome.
URL:https://westcolumbiagorgechamber.com/event/board-of-directors-meeting-36-3/
LOCATION:Zoom meeting\, 107 E. Historic Columbia River Hwy\, Troutdale\, OR\, 97060\, United States
CATEGORIES:Board of Directors Meetings,Chamber Meetings
END:VEVENT
BEGIN:VEVENT
DTSTART;TZID=America/Los_Angeles:20200416T180000
DTEND;TZID=America/Los_Angeles:20200416T203000
DTSTAMP:20260422T015127
CREATED:20191021T212248Z
LAST-MODIFIED:20191021T212248Z
UID:6605-1587060000-1587069000@westcolumbiagorgechamber.com
SUMMARY:Board of Directors Meeting
DESCRIPTION:The Board of Directors will be meeting at 6 pm in the conference room above the chamber office. Public welcome.
URL:https://westcolumbiagorgechamber.com/event/board-of-directors-meeting-36/
LOCATION:Zoom meeting\, 107 E. Historic Columbia River Hwy\, Troutdale\, OR\, 97060\, United States
CATEGORIES:Board of Directors Meetings,Chamber Meetings
END:VEVENT
BEGIN:VEVENT
DTSTART;TZID=America/Los_Angeles:20200416T180000
DTEND;TZID=America/Los_Angeles:20200416T203000
DTSTAMP:20260422T015127
CREATED:20191021T212248Z
LAST-MODIFIED:20191021T212248Z
UID:9767-1587060000-1587069000@westcolumbiagorgechamber.com
SUMMARY:Board of Directors Meeting
DESCRIPTION:The Board of Directors will be meeting at 6 pm in the conference room above the chamber office. Public welcome.
URL:https://westcolumbiagorgechamber.com/event/board-of-directors-meeting-36-4/
LOCATION:Zoom meeting\, 107 E. Historic Columbia River Hwy\, Troutdale\, OR\, 97060\, United States
CATEGORIES:Board of Directors Meetings,Chamber Meetings
END:VEVENT
END:VCALENDAR