BEGIN:VCALENDAR
VERSION:2.0
PRODID:-//West Columbia Gorge Chamber of Commerce - ECPv6.15.20//NONSGML v1.0//EN
CALSCALE:GREGORIAN
METHOD:PUBLISH
X-ORIGINAL-URL:https://westcolumbiagorgechamber.com
X-WR-CALDESC:Events for West Columbia Gorge Chamber of Commerce
REFRESH-INTERVAL;VALUE=DURATION:PT1H
X-Robots-Tag:noindex
X-PUBLISHED-TTL:PT1H
BEGIN:VTIMEZONE
TZID:America/Los_Angeles
BEGIN:DAYLIGHT
TZOFFSETFROM:-0800
TZOFFSETTO:-0700
TZNAME:PDT
DTSTART:20180311T100000
END:DAYLIGHT
BEGIN:STANDARD
TZOFFSETFROM:-0700
TZOFFSETTO:-0800
TZNAME:PST
DTSTART:20181104T090000
END:STANDARD
BEGIN:DAYLIGHT
TZOFFSETFROM:-0800
TZOFFSETTO:-0700
TZNAME:PDT
DTSTART:20190310T100000
END:DAYLIGHT
BEGIN:STANDARD
TZOFFSETFROM:-0700
TZOFFSETTO:-0800
TZNAME:PST
DTSTART:20191103T090000
END:STANDARD
BEGIN:DAYLIGHT
TZOFFSETFROM:-0800
TZOFFSETTO:-0700
TZNAME:PDT
DTSTART:20200308T100000
END:DAYLIGHT
BEGIN:STANDARD
TZOFFSETFROM:-0700
TZOFFSETTO:-0800
TZNAME:PST
DTSTART:20201101T090000
END:STANDARD
END:VTIMEZONE
BEGIN:VEVENT
DTSTART;TZID=America/Los_Angeles:20190110T180000
DTEND;TZID=America/Los_Angeles:20190110T200000
DTSTAMP:20260423T120710
CREATED:20190107T214746Z
LAST-MODIFIED:20190107T214746Z
UID:9030-1547143200-1547150400@westcolumbiagorgechamber.com
SUMMARY:WCGCC Board of Directors Meeting
DESCRIPTION:The Board of Directors will be meeting at 6pm in the Kellogg Room at the Troutdale Policing Community Center. This month will have the Mayor of Fairview\, Brian Cooper as a guest presenter to share news from the City of Fairview.
URL:https://westcolumbiagorgechamber.com/event/wcgcc-board-of-directors-meeting-5/
LOCATION:The Kellogg Room at Troutdale Policing Community Center\, 234 SW Kendall Ave\, Troutdale\, OR\, 97060\, United States
CATEGORIES:Board of Directors Meetings,Chamber Meetings
END:VEVENT
BEGIN:VEVENT
DTSTART;TZID=America/Los_Angeles:20190110T180000
DTEND;TZID=America/Los_Angeles:20190110T200000
DTSTAMP:20260423T120710
CREATED:20190107T214746Z
LAST-MODIFIED:20190107T214746Z
UID:9700-1547143200-1547150400@westcolumbiagorgechamber.com
SUMMARY:WCGCC Board of Directors Meeting
DESCRIPTION:The Board of Directors will be meeting at 6pm in the Kellogg Room at the Troutdale Policing Community Center. This month will have the Mayor of Fairview\, Brian Cooper as a guest presenter to share news from the City of Fairview.
URL:https://westcolumbiagorgechamber.com/event/wcgcc-board-of-directors-meeting-6/
LOCATION:The Kellogg Room at Troutdale Policing Community Center\, 234 SW Kendall Ave\, Troutdale\, OR\, 97060\, United States
CATEGORIES:Board of Directors Meetings,Chamber Meetings
END:VEVENT
BEGIN:VEVENT
DTSTART;TZID=America/Los_Angeles:20190110T180000
DTEND;TZID=America/Los_Angeles:20190110T200000
DTSTAMP:20260423T120710
CREATED:20190107T214746Z
LAST-MODIFIED:20190107T214746Z
UID:6034-1547143200-1547150400@westcolumbiagorgechamber.com
SUMMARY:WCGCC Board of Directors Meeting
DESCRIPTION:The Board of Directors will be meeting at 6pm in the Kellogg Room at the Troutdale Policing Community Center. This month will have the Mayor of Fairview\, Brian Cooper as a guest presenter to share news from the City of Fairview.
URL:https://westcolumbiagorgechamber.com/event/wcgcc-board-of-directors-meeting/
LOCATION:The Kellogg Room at Troutdale Policing Community Center\, 234 SW Kendall Ave\, Troutdale\, OR\, 97060\, United States
CATEGORIES:Board of Directors Meetings,Chamber Meetings
END:VEVENT
BEGIN:VEVENT
DTSTART;TZID=America/Los_Angeles:20190110T180000
DTEND;TZID=America/Los_Angeles:20190110T200000
DTSTAMP:20260423T120710
CREATED:20190107T214746Z
LAST-MODIFIED:20190107T214746Z
UID:8988-1547143200-1547150400@westcolumbiagorgechamber.com
SUMMARY:WCGCC Board of Directors Meeting
DESCRIPTION:The Board of Directors will be meeting at 6pm in the Kellogg Room at the Troutdale Policing Community Center. This month will have the Mayor of Fairview\, Brian Cooper as a guest presenter to share news from the City of Fairview.
URL:https://westcolumbiagorgechamber.com/event/wcgcc-board-of-directors-meeting-4/
LOCATION:The Kellogg Room at Troutdale Policing Community Center\, 234 SW Kendall Ave\, Troutdale\, OR\, 97060\, United States
CATEGORIES:Board of Directors Meetings,Chamber Meetings
END:VEVENT
END:VCALENDAR