BEGIN:VCALENDAR
VERSION:2.0
PRODID:-//West Columbia Gorge Chamber of Commerce - ECPv6.15.20//NONSGML v1.0//EN
CALSCALE:GREGORIAN
METHOD:PUBLISH
X-ORIGINAL-URL:https://westcolumbiagorgechamber.com
X-WR-CALDESC:Events for West Columbia Gorge Chamber of Commerce
REFRESH-INTERVAL;VALUE=DURATION:PT1H
X-Robots-Tag:noindex
X-PUBLISHED-TTL:PT1H
BEGIN:VTIMEZONE
TZID:America/Los_Angeles
BEGIN:DAYLIGHT
TZOFFSETFROM:-0800
TZOFFSETTO:-0700
TZNAME:PDT
DTSTART:20170312T100000
END:DAYLIGHT
BEGIN:STANDARD
TZOFFSETFROM:-0700
TZOFFSETTO:-0800
TZNAME:PST
DTSTART:20171105T090000
END:STANDARD
BEGIN:DAYLIGHT
TZOFFSETFROM:-0800
TZOFFSETTO:-0700
TZNAME:PDT
DTSTART:20180311T100000
END:DAYLIGHT
BEGIN:STANDARD
TZOFFSETFROM:-0700
TZOFFSETTO:-0800
TZNAME:PST
DTSTART:20181104T090000
END:STANDARD
BEGIN:DAYLIGHT
TZOFFSETFROM:-0800
TZOFFSETTO:-0700
TZNAME:PDT
DTSTART:20190310T100000
END:DAYLIGHT
BEGIN:STANDARD
TZOFFSETFROM:-0700
TZOFFSETTO:-0800
TZNAME:PST
DTSTART:20191103T090000
END:STANDARD
END:VTIMEZONE
BEGIN:VEVENT
DTSTART;TZID=America/Los_Angeles:20180912T170000
DTEND;TZID=America/Los_Angeles:20180912T190000
DTSTAMP:20260423T171740
CREATED:20180706T231253Z
LAST-MODIFIED:20180706T231253Z
UID:8899-1536771600-1536778800@westcolumbiagorgechamber.com
SUMMARY:Ribbon Cutting and B.A.S.H at Apollo Drain and Rooter Service *Rescheduled to November 7th*
DESCRIPTION:This event has been rescheduled to Wednesday\, November 7th \n  \n \nand B.A.S.H (Business and Social Hour) for  \n \n5:00pm to 7:00pm \n  \nCome and see their beautiful new location! \n853 NE Harlow Road\, Troutdale\, OR\, 97060
URL:https://westcolumbiagorgechamber.com/event/ribbon-cutting-and-b-a-s-h-at-apollo-drain-and-rooter-service-3/
LOCATION:Apollo Drain and Rooter\, 853 NE Harlow Rd\, Troutdale\, OR\, 97060\, United States
CATEGORIES:Chamber Meetings,Events - Community
END:VEVENT
BEGIN:VEVENT
DTSTART;TZID=America/Los_Angeles:20180912T170000
DTEND;TZID=America/Los_Angeles:20180912T190000
DTSTAMP:20260423T171740
CREATED:20180706T231253Z
LAST-MODIFIED:20180706T231253Z
UID:8940-1536771600-1536778800@westcolumbiagorgechamber.com
SUMMARY:Ribbon Cutting and B.A.S.H at Apollo Drain and Rooter Service *Rescheduled to November 7th*
DESCRIPTION:This event has been rescheduled to Wednesday\, November 7th \n  \n \nand B.A.S.H (Business and Social Hour) for  \n \n5:00pm to 7:00pm \n  \nCome and see their beautiful new location! \n853 NE Harlow Road\, Troutdale\, OR\, 97060
URL:https://westcolumbiagorgechamber.com/event/ribbon-cutting-and-b-a-s-h-at-apollo-drain-and-rooter-service-4/
LOCATION:Apollo Drain and Rooter\, 853 NE Harlow Rd\, Troutdale\, OR\, 97060\, United States
CATEGORIES:Chamber Meetings,Events - Community
END:VEVENT
BEGIN:VEVENT
DTSTART;TZID=America/Los_Angeles:20180912T170000
DTEND;TZID=America/Los_Angeles:20180912T190000
DTSTAMP:20260423T171740
CREATED:20180706T231253Z
LAST-MODIFIED:20180706T231253Z
UID:5732-1536771600-1536778800@westcolumbiagorgechamber.com
SUMMARY:Ribbon Cutting and B.A.S.H at Apollo Drain and Rooter Service *Rescheduled to November 7th*
DESCRIPTION:This event has been rescheduled to Wednesday\, November 7th \n  \n \nand B.A.S.H (Business and Social Hour) for  \n \n5:00pm to 7:00pm \n  \nCome and see their beautiful new location! \n853 NE Harlow Road\, Troutdale\, OR\, 97060
URL:https://westcolumbiagorgechamber.com/event/ribbon-cutting-and-b-a-s-h-at-apollo-drain-and-rooter-service/
LOCATION:Apollo Drain and Rooter\, 853 NE Harlow Rd\, Troutdale\, OR\, 97060\, United States
CATEGORIES:Chamber Meetings,Events - Community
END:VEVENT
BEGIN:VEVENT
DTSTART;TZID=America/Los_Angeles:20180912T170000
DTEND;TZID=America/Los_Angeles:20180912T190000
DTSTAMP:20260423T171740
CREATED:20180706T231253Z
LAST-MODIFIED:20180706T231253Z
UID:9670-1536771600-1536778800@westcolumbiagorgechamber.com
SUMMARY:Ribbon Cutting and B.A.S.H at Apollo Drain and Rooter Service *Rescheduled to November 7th*
DESCRIPTION:This event has been rescheduled to Wednesday\, November 7th \n  \n \nand B.A.S.H (Business and Social Hour) for  \n \n5:00pm to 7:00pm \n  \nCome and see their beautiful new location! \n853 NE Harlow Road\, Troutdale\, OR\, 97060
URL:https://westcolumbiagorgechamber.com/event/ribbon-cutting-and-b-a-s-h-at-apollo-drain-and-rooter-service-5/
LOCATION:Apollo Drain and Rooter\, 853 NE Harlow Rd\, Troutdale\, OR\, 97060\, United States
CATEGORIES:Chamber Meetings,Events - Community
END:VEVENT
BEGIN:VEVENT
DTSTART;TZID=America/Los_Angeles:20180913T180000
DTEND;TZID=America/Los_Angeles:20180913T200000
DTSTAMP:20260423T171740
CREATED:20180515T194540Z
LAST-MODIFIED:20180515T194540Z
UID:8903-1536861600-1536868800@westcolumbiagorgechamber.com
SUMMARY:Board of Directors Meeting
DESCRIPTION:The Board of Directors will be meeting at 6pm in the Kellogg Room at the Troutdale Policing Community Center.
URL:https://westcolumbiagorgechamber.com/event/board-of-directors-meeting-19-3/
LOCATION:The Kellogg Room at Troutdale Policing Community Center\, 234 SW Kendall Ave\, Troutdale\, OR\, 97060\, United States
CATEGORIES:Board of Directors Meetings,Chamber Meetings
END:VEVENT
BEGIN:VEVENT
DTSTART;TZID=America/Los_Angeles:20180913T180000
DTEND;TZID=America/Los_Angeles:20180913T200000
DTSTAMP:20260423T171740
CREATED:20180515T194540Z
LAST-MODIFIED:20180515T194540Z
UID:5615-1536861600-1536868800@westcolumbiagorgechamber.com
SUMMARY:Board of Directors Meeting
DESCRIPTION:The Board of Directors will be meeting at 6pm in the Kellogg Room at the Troutdale Policing Community Center.
URL:https://westcolumbiagorgechamber.com/event/board-of-directors-meeting-19/
LOCATION:The Kellogg Room at Troutdale Policing Community Center\, 234 SW Kendall Ave\, Troutdale\, OR\, 97060\, United States
CATEGORIES:Board of Directors Meetings,Chamber Meetings
END:VEVENT
BEGIN:VEVENT
DTSTART;TZID=America/Los_Angeles:20180913T180000
DTEND;TZID=America/Los_Angeles:20180913T200000
DTSTAMP:20260423T171740
CREATED:20180515T194540Z
LAST-MODIFIED:20180515T194540Z
UID:9658-1536861600-1536868800@westcolumbiagorgechamber.com
SUMMARY:Board of Directors Meeting
DESCRIPTION:The Board of Directors will be meeting at 6pm in the Kellogg Room at the Troutdale Policing Community Center.
URL:https://westcolumbiagorgechamber.com/event/board-of-directors-meeting-19-4/
LOCATION:The Kellogg Room at Troutdale Policing Community Center\, 234 SW Kendall Ave\, Troutdale\, OR\, 97060\, United States
CATEGORIES:Board of Directors Meetings,Chamber Meetings
END:VEVENT
BEGIN:VEVENT
DTSTART;TZID=America/Los_Angeles:20180913T180000
DTEND;TZID=America/Los_Angeles:20180913T200000
DTSTAMP:20260423T171740
CREATED:20180515T194540Z
LAST-MODIFIED:20180515T194540Z
UID:8864-1536861600-1536868800@westcolumbiagorgechamber.com
SUMMARY:Board of Directors Meeting
DESCRIPTION:The Board of Directors will be meeting at 6pm in the Kellogg Room at the Troutdale Policing Community Center.
URL:https://westcolumbiagorgechamber.com/event/board-of-directors-meeting-19-2/
LOCATION:The Kellogg Room at Troutdale Policing Community Center\, 234 SW Kendall Ave\, Troutdale\, OR\, 97060\, United States
CATEGORIES:Board of Directors Meetings,Chamber Meetings
END:VEVENT
END:VCALENDAR