BEGIN:VCALENDAR
VERSION:2.0
PRODID:-//West Columbia Gorge Chamber of Commerce - ECPv6.15.20//NONSGML v1.0//EN
CALSCALE:GREGORIAN
METHOD:PUBLISH
X-ORIGINAL-URL:https://westcolumbiagorgechamber.com
X-WR-CALDESC:Events for West Columbia Gorge Chamber of Commerce
REFRESH-INTERVAL;VALUE=DURATION:PT1H
X-Robots-Tag:noindex
X-PUBLISHED-TTL:PT1H
BEGIN:VTIMEZONE
TZID:America/Los_Angeles
BEGIN:DAYLIGHT
TZOFFSETFROM:-0800
TZOFFSETTO:-0700
TZNAME:PDT
DTSTART:20150308T100000
END:DAYLIGHT
BEGIN:STANDARD
TZOFFSETFROM:-0700
TZOFFSETTO:-0800
TZNAME:PST
DTSTART:20151101T090000
END:STANDARD
BEGIN:DAYLIGHT
TZOFFSETFROM:-0800
TZOFFSETTO:-0700
TZNAME:PDT
DTSTART:20160313T100000
END:DAYLIGHT
BEGIN:STANDARD
TZOFFSETFROM:-0700
TZOFFSETTO:-0800
TZNAME:PST
DTSTART:20161106T090000
END:STANDARD
BEGIN:DAYLIGHT
TZOFFSETFROM:-0800
TZOFFSETTO:-0700
TZNAME:PDT
DTSTART:20170312T100000
END:DAYLIGHT
BEGIN:STANDARD
TZOFFSETFROM:-0700
TZOFFSETTO:-0800
TZNAME:PST
DTSTART:20171105T090000
END:STANDARD
END:VTIMEZONE
BEGIN:VEVENT
DTSTART;TZID=America/Los_Angeles:20160906T123000
DTEND;TZID=America/Los_Angeles:20160906T140000
DTSTAMP:20260425T135207
CREATED:20160901T180843Z
LAST-MODIFIED:20160901T180843Z
UID:8347-1473165000-1473170400@westcolumbiagorgechamber.com
SUMMARY:By-Laws Committee Meeting
DESCRIPTION:This is an “open” meeting where members are welcome.
URL:https://westcolumbiagorgechamber.com/event/by-laws-committee-meeting-2/
LOCATION:Chamber Visitor Center / Board Room\, Troutdale
CATEGORIES:Chamber Meetings,Other Meetings
ORGANIZER;CN="Cindy Passannante":MAILTO:cptrips@aol.com
END:VEVENT
BEGIN:VEVENT
DTSTART;TZID=America/Los_Angeles:20160906T123000
DTEND;TZID=America/Los_Angeles:20160906T140000
DTSTAMP:20260425T135207
CREATED:20160901T180843Z
LAST-MODIFIED:20160901T180843Z
UID:8962-1473165000-1473170400@westcolumbiagorgechamber.com
SUMMARY:By-Laws Committee Meeting
DESCRIPTION:This is an “open” meeting where members are welcome.
URL:https://westcolumbiagorgechamber.com/event/by-laws-committee-meeting-4/
LOCATION:Chamber Visitor Center / Board Room\, Troutdale
CATEGORIES:Chamber Meetings,Other Meetings
ORGANIZER;CN="Cindy Passannante":MAILTO:cptrips@aol.com
END:VEVENT
BEGIN:VEVENT
DTSTART;TZID=America/Los_Angeles:20160906T123000
DTEND;TZID=America/Los_Angeles:20160906T140000
DTSTAMP:20260425T135207
CREATED:20160901T180843Z
LAST-MODIFIED:20160901T180843Z
UID:2118-1473165000-1473170400@westcolumbiagorgechamber.com
SUMMARY:By-Laws Committee Meeting
DESCRIPTION:This is an “open” meeting where members are welcome.
URL:https://westcolumbiagorgechamber.com/event/by-laws-committee-meeting/
LOCATION:Chamber Visitor Center / Board Room\, Troutdale
CATEGORIES:Chamber Meetings,Other Meetings
ORGANIZER;CN="Cindy Passannante":MAILTO:cptrips@aol.com
END:VEVENT
BEGIN:VEVENT
DTSTART;TZID=America/Los_Angeles:20160906T123000
DTEND;TZID=America/Los_Angeles:20160906T140000
DTSTAMP:20260425T135207
CREATED:20160901T180843Z
LAST-MODIFIED:20160901T180843Z
UID:8381-1473165000-1473170400@westcolumbiagorgechamber.com
SUMMARY:By-Laws Committee Meeting
DESCRIPTION:This is an “open” meeting where members are welcome.
URL:https://westcolumbiagorgechamber.com/event/by-laws-committee-meeting-3/
LOCATION:Chamber Visitor Center / Board Room\, Troutdale
CATEGORIES:Chamber Meetings,Other Meetings
ORGANIZER;CN="Cindy Passannante":MAILTO:cptrips@aol.com
END:VEVENT
BEGIN:VEVENT
DTSTART;TZID=America/Los_Angeles:20160908T190000
DTEND;TZID=America/Los_Angeles:20160908T210000
DTSTAMP:20260425T135207
CREATED:20160906T171722Z
LAST-MODIFIED:20160906T171722Z
UID:8389-1473361200-1473368400@westcolumbiagorgechamber.com
SUMMARY:Chamber Board of Directors Meeting
DESCRIPTION:The Board of Director’s regularly scheduled meeting will held at the Kellogg Room at the Troutdale Police Department on September 8 at 7pm. \nMembers and the community are welcome to attend this meeting. Ten minutes have been provided for member input before the Board considers the Government Affairs Committee recommendations for candidate endorsement. \nMeeting Agenda
URL:https://westcolumbiagorgechamber.com/event/west-columbia-gorge-chamber-board-of-directors-meeting-3/
LOCATION:The Kellogg Room at Troutdale Policing Community Center\, 234 SW Kendall Ave\, Troutdale\, OR\, 97060\, United States
CATEGORIES:Board of Directors Meetings,Chamber Meetings
END:VEVENT
BEGIN:VEVENT
DTSTART;TZID=America/Los_Angeles:20160908T190000
DTEND;TZID=America/Los_Angeles:20160908T210000
DTSTAMP:20260425T135207
CREATED:20160906T171722Z
LAST-MODIFIED:20160906T171722Z
UID:8356-1473361200-1473368400@westcolumbiagorgechamber.com
SUMMARY:Chamber Board of Directors Meeting
DESCRIPTION:The Board of Director’s regularly scheduled meeting will held at the Kellogg Room at the Troutdale Police Department on September 8 at 7pm. \nMembers and the community are welcome to attend this meeting. Ten minutes have been provided for member input before the Board considers the Government Affairs Committee recommendations for candidate endorsement. \nMeeting Agenda
URL:https://westcolumbiagorgechamber.com/event/west-columbia-gorge-chamber-board-of-directors-meeting-2/
LOCATION:The Kellogg Room at Troutdale Policing Community Center\, 234 SW Kendall Ave\, Troutdale\, OR\, 97060\, United States
CATEGORIES:Board of Directors Meetings,Chamber Meetings
END:VEVENT
BEGIN:VEVENT
DTSTART;TZID=America/Los_Angeles:20160908T190000
DTEND;TZID=America/Los_Angeles:20160908T210000
DTSTAMP:20260425T135207
CREATED:20160906T171722Z
LAST-MODIFIED:20160906T171722Z
UID:8975-1473361200-1473368400@westcolumbiagorgechamber.com
SUMMARY:Chamber Board of Directors Meeting
DESCRIPTION:The Board of Director’s regularly scheduled meeting will held at the Kellogg Room at the Troutdale Police Department on September 8 at 7pm. \nMembers and the community are welcome to attend this meeting. Ten minutes have been provided for member input before the Board considers the Government Affairs Committee recommendations for candidate endorsement. \nMeeting Agenda
URL:https://westcolumbiagorgechamber.com/event/west-columbia-gorge-chamber-board-of-directors-meeting-4/
LOCATION:The Kellogg Room at Troutdale Policing Community Center\, 234 SW Kendall Ave\, Troutdale\, OR\, 97060\, United States
CATEGORIES:Board of Directors Meetings,Chamber Meetings
END:VEVENT
BEGIN:VEVENT
DTSTART;TZID=America/Los_Angeles:20160908T190000
DTEND;TZID=America/Los_Angeles:20160908T210000
DTSTAMP:20260425T135207
CREATED:20160906T171722Z
LAST-MODIFIED:20160906T171722Z
UID:2141-1473361200-1473368400@westcolumbiagorgechamber.com
SUMMARY:Chamber Board of Directors Meeting
DESCRIPTION:The Board of Director’s regularly scheduled meeting will held at the Kellogg Room at the Troutdale Police Department on September 8 at 7pm. \nMembers and the community are welcome to attend this meeting. Ten minutes have been provided for member input before the Board considers the Government Affairs Committee recommendations for candidate endorsement. \nMeeting Agenda
URL:https://westcolumbiagorgechamber.com/event/west-columbia-gorge-chamber-board-of-directors-meeting/
LOCATION:The Kellogg Room at Troutdale Policing Community Center\, 234 SW Kendall Ave\, Troutdale\, OR\, 97060\, United States
CATEGORIES:Board of Directors Meetings,Chamber Meetings
END:VEVENT
BEGIN:VEVENT
DTSTART;TZID=America/Los_Angeles:20160922T190000
DTEND;TZID=America/Los_Angeles:20160922T210000
DTSTAMP:20260425T135207
CREATED:20160914T184653Z
LAST-MODIFIED:20160914T184653Z
UID:2198-1474570800-1474578000@westcolumbiagorgechamber.com
SUMMARY:Government Affairs Committee Meeting
DESCRIPTION:
URL:https://westcolumbiagorgechamber.com/event/government-affairs-committee-meeting/
LOCATION:OR
CATEGORIES:Chamber Meetings,Other Meetings
END:VEVENT
BEGIN:VEVENT
DTSTART;TZID=America/Los_Angeles:20160922T190000
DTEND;TZID=America/Los_Angeles:20160922T210000
DTSTAMP:20260425T135207
CREATED:20160914T184653Z
LAST-MODIFIED:20160914T184653Z
UID:8401-1474570800-1474578000@westcolumbiagorgechamber.com
SUMMARY:Government Affairs Committee Meeting
DESCRIPTION:
URL:https://westcolumbiagorgechamber.com/event/government-affairs-committee-meeting-5/
LOCATION:OR
CATEGORIES:Chamber Meetings,Other Meetings
END:VEVENT
BEGIN:VEVENT
DTSTART;TZID=America/Los_Angeles:20160922T190000
DTEND;TZID=America/Los_Angeles:20160922T210000
DTSTAMP:20260425T135207
CREATED:20160914T184653Z
LAST-MODIFIED:20160914T184653Z
UID:8368-1474570800-1474578000@westcolumbiagorgechamber.com
SUMMARY:Government Affairs Committee Meeting
DESCRIPTION:
URL:https://westcolumbiagorgechamber.com/event/government-affairs-committee-meeting-4/
LOCATION:OR
CATEGORIES:Chamber Meetings,Other Meetings
END:VEVENT
BEGIN:VEVENT
DTSTART;TZID=America/Los_Angeles:20160922T190000
DTEND;TZID=America/Los_Angeles:20160922T210000
DTSTAMP:20260425T135207
CREATED:20160914T184653Z
LAST-MODIFIED:20160914T184653Z
UID:8992-1474570800-1474578000@westcolumbiagorgechamber.com
SUMMARY:Government Affairs Committee Meeting
DESCRIPTION:
URL:https://westcolumbiagorgechamber.com/event/government-affairs-committee-meeting-6/
LOCATION:OR
CATEGORIES:Chamber Meetings,Other Meetings
END:VEVENT
END:VCALENDAR