BEGIN:VCALENDAR
VERSION:2.0
PRODID:-//West Columbia Gorge Chamber of Commerce - ECPv6.15.20//NONSGML v1.0//EN
CALSCALE:GREGORIAN
METHOD:PUBLISH
X-ORIGINAL-URL:https://westcolumbiagorgechamber.com
X-WR-CALDESC:Events for West Columbia Gorge Chamber of Commerce
REFRESH-INTERVAL;VALUE=DURATION:PT1H
X-Robots-Tag:noindex
X-PUBLISHED-TTL:PT1H
BEGIN:VTIMEZONE
TZID:America/Los_Angeles
BEGIN:DAYLIGHT
TZOFFSETFROM:-0800
TZOFFSETTO:-0700
TZNAME:PDT
DTSTART:20180311T100000
END:DAYLIGHT
BEGIN:STANDARD
TZOFFSETFROM:-0700
TZOFFSETTO:-0800
TZNAME:PST
DTSTART:20181104T090000
END:STANDARD
BEGIN:DAYLIGHT
TZOFFSETFROM:-0800
TZOFFSETTO:-0700
TZNAME:PDT
DTSTART:20190310T100000
END:DAYLIGHT
BEGIN:STANDARD
TZOFFSETFROM:-0700
TZOFFSETTO:-0800
TZNAME:PST
DTSTART:20191103T090000
END:STANDARD
BEGIN:DAYLIGHT
TZOFFSETFROM:-0800
TZOFFSETTO:-0700
TZNAME:PDT
DTSTART:20200308T100000
END:DAYLIGHT
BEGIN:STANDARD
TZOFFSETFROM:-0700
TZOFFSETTO:-0800
TZNAME:PST
DTSTART:20201101T090000
END:STANDARD
BEGIN:DAYLIGHT
TZOFFSETFROM:-0800
TZOFFSETTO:-0700
TZNAME:PDT
DTSTART:20210314T100000
END:DAYLIGHT
BEGIN:STANDARD
TZOFFSETFROM:-0700
TZOFFSETTO:-0800
TZNAME:PST
DTSTART:20211107T090000
END:STANDARD
BEGIN:DAYLIGHT
TZOFFSETFROM:-0800
TZOFFSETTO:-0700
TZNAME:PDT
DTSTART:20220313T100000
END:DAYLIGHT
BEGIN:STANDARD
TZOFFSETFROM:-0700
TZOFFSETTO:-0800
TZNAME:PST
DTSTART:20221106T090000
END:STANDARD
BEGIN:DAYLIGHT
TZOFFSETFROM:-0800
TZOFFSETTO:-0700
TZNAME:PDT
DTSTART:20230312T100000
END:DAYLIGHT
BEGIN:STANDARD
TZOFFSETFROM:-0700
TZOFFSETTO:-0800
TZNAME:PST
DTSTART:20231105T090000
END:STANDARD
END:VTIMEZONE
BEGIN:VEVENT
DTSTART;TZID=America/Los_Angeles:20191106T120000
DTEND;TZID=America/Los_Angeles:20191106T133000
DTSTAMP:20260423T144844
CREATED:20190906T131230Z
LAST-MODIFIED:20190906T131230Z
UID:6577-1573041600-1573047000@westcolumbiagorgechamber.com
SUMMARY:Learn Over Lunch (LOL): Intentional Living
DESCRIPTION:Wednesday\, November 6th\, 2019\nNoon to 1:30 pm \nPresented by: Intentional Living w/ Diana Ikola\nLocation: TBD
URL:https://westcolumbiagorgechamber.com/event/learn-over-lunch-lol-intentional-living/
LOCATION:OR
CATEGORIES:Events - Chamber,Learn Over Lunchs
END:VEVENT
BEGIN:VEVENT
DTSTART;TZID=America/Los_Angeles:20191106T120000
DTEND;TZID=America/Los_Angeles:20191106T133000
DTSTAMP:20260423T144844
CREATED:20190906T131230Z
LAST-MODIFIED:20190906T131230Z
UID:9173-1573041600-1573047000@westcolumbiagorgechamber.com
SUMMARY:Learn Over Lunch (LOL): Intentional Living
DESCRIPTION:Wednesday\, November 6th\, 2019\nNoon to 1:30 pm \nPresented by: Intentional Living w/ Diana Ikola\nLocation: TBD
URL:https://westcolumbiagorgechamber.com/event/learn-over-lunch-lol-intentional-living-2/
LOCATION:OR
CATEGORIES:Events - Chamber,Learn Over Lunchs
END:VEVENT
BEGIN:VEVENT
DTSTART;TZID=America/Los_Angeles:20191106T120000
DTEND;TZID=America/Los_Angeles:20191106T133000
DTSTAMP:20260423T144844
CREATED:20190906T131230Z
LAST-MODIFIED:20190906T131230Z
UID:9761-1573041600-1573047000@westcolumbiagorgechamber.com
SUMMARY:Learn Over Lunch (LOL): Intentional Living
DESCRIPTION:Wednesday\, November 6th\, 2019\nNoon to 1:30 pm \nPresented by: Intentional Living w/ Diana Ikola\nLocation: TBD
URL:https://westcolumbiagorgechamber.com/event/learn-over-lunch-lol-intentional-living-4/
LOCATION:OR
CATEGORIES:Events - Chamber,Learn Over Lunchs
END:VEVENT
BEGIN:VEVENT
DTSTART;TZID=America/Los_Angeles:20191106T120000
DTEND;TZID=America/Los_Angeles:20191106T133000
DTSTAMP:20260423T144844
CREATED:20190906T131230Z
LAST-MODIFIED:20190906T131230Z
UID:9210-1573041600-1573047000@westcolumbiagorgechamber.com
SUMMARY:Learn Over Lunch (LOL): Intentional Living
DESCRIPTION:Wednesday\, November 6th\, 2019\nNoon to 1:30 pm \nPresented by: Intentional Living w/ Diana Ikola\nLocation: TBD
URL:https://westcolumbiagorgechamber.com/event/learn-over-lunch-lol-intentional-living-3/
LOCATION:OR
CATEGORIES:Events - Chamber,Learn Over Lunchs
END:VEVENT
BEGIN:VEVENT
DTSTART;TZID=America/Los_Angeles:20191204T120000
DTEND;TZID=America/Los_Angeles:20191204T133000
DTSTAMP:20260423T144844
CREATED:20190108T012738Z
LAST-MODIFIED:20190108T012738Z
UID:9038-1575460800-1575466200@westcolumbiagorgechamber.com
SUMMARY:Learn Over Lunch (LOL): Keven Minkoff CPA
DESCRIPTION:Location: Pompello’s in Troutdale \nGuest Speaker: Keven Minkoff CPA
URL:https://westcolumbiagorgechamber.com/event/learn-over-lunch-10-2/
LOCATION:Ristorante di Pompello\, 177 E Historic Columbia River Hwy\, Troutdale\, OR\, 97060\, United States
CATEGORIES:Chamber Meetings,Learn Over Lunchs
END:VEVENT
BEGIN:VEVENT
DTSTART;TZID=America/Los_Angeles:20191204T120000
DTEND;TZID=America/Los_Angeles:20191204T133000
DTSTAMP:20260423T144844
CREATED:20190108T012738Z
LAST-MODIFIED:20190108T012738Z
UID:6092-1575460800-1575466200@westcolumbiagorgechamber.com
SUMMARY:Learn Over Lunch (LOL): Keven Minkoff CPA
DESCRIPTION:Location: Pompello’s in Troutdale \nGuest Speaker: Keven Minkoff CPA
URL:https://westcolumbiagorgechamber.com/event/learn-over-lunch-10/
LOCATION:Ristorante di Pompello\, 177 E Historic Columbia River Hwy\, Troutdale\, OR\, 97060\, United States
CATEGORIES:Chamber Meetings,Learn Over Lunchs
END:VEVENT
BEGIN:VEVENT
DTSTART;TZID=America/Los_Angeles:20191204T120000
DTEND;TZID=America/Los_Angeles:20191204T133000
DTSTAMP:20260423T144844
CREATED:20190108T012738Z
LAST-MODIFIED:20190108T012738Z
UID:9080-1575460800-1575466200@westcolumbiagorgechamber.com
SUMMARY:Learn Over Lunch (LOL): Keven Minkoff CPA
DESCRIPTION:Location: Pompello’s in Troutdale \nGuest Speaker: Keven Minkoff CPA
URL:https://westcolumbiagorgechamber.com/event/learn-over-lunch-10-3/
LOCATION:Ristorante di Pompello\, 177 E Historic Columbia River Hwy\, Troutdale\, OR\, 97060\, United States
CATEGORIES:Chamber Meetings,Learn Over Lunchs
END:VEVENT
BEGIN:VEVENT
DTSTART;TZID=America/Los_Angeles:20191204T120000
DTEND;TZID=America/Los_Angeles:20191204T133000
DTSTAMP:20260423T144844
CREATED:20190108T012738Z
LAST-MODIFIED:20190108T012738Z
UID:9716-1575460800-1575466200@westcolumbiagorgechamber.com
SUMMARY:Learn Over Lunch (LOL): Keven Minkoff CPA
DESCRIPTION:Location: Pompello’s in Troutdale \nGuest Speaker: Keven Minkoff CPA
URL:https://westcolumbiagorgechamber.com/event/learn-over-lunch-10-4/
LOCATION:Ristorante di Pompello\, 177 E Historic Columbia River Hwy\, Troutdale\, OR\, 97060\, United States
CATEGORIES:Chamber Meetings,Learn Over Lunchs
END:VEVENT
BEGIN:VEVENT
DTSTART;TZID=America/Los_Angeles:20200219T120000
DTEND;TZID=America/Los_Angeles:20200219T133000
DTSTAMP:20260423T144844
CREATED:20200110T203613Z
LAST-MODIFIED:20200110T203613Z
UID:9262-1582113600-1582119000@westcolumbiagorgechamber.com
SUMMARY:Learn Over Lunch ( LOL ) @ Edgefield Powerstation
DESCRIPTION:Host:  \nPinnacle Computer Solutions \nRandy Cummings \nManaging your Tech Infrastructure \nwww.pinnaclecomputersolutions.com
URL:https://westcolumbiagorgechamber.com/event/learn-over-lunch-lol-edgefield-powerstation-3/
LOCATION:McMenamin Edgefield\, 2126 SW Halsey St.\, Troutdale\, OR 97060\, OR\, 97060
CATEGORIES:Chamber Meetings,Learn Over Lunchs
END:VEVENT
BEGIN:VEVENT
DTSTART;TZID=America/Los_Angeles:20200219T120000
DTEND;TZID=America/Los_Angeles:20200219T133000
DTSTAMP:20260423T144844
CREATED:20200110T203613Z
LAST-MODIFIED:20200110T203613Z
UID:9226-1582113600-1582119000@westcolumbiagorgechamber.com
SUMMARY:Learn Over Lunch ( LOL ) @ Edgefield Powerstation
DESCRIPTION:Host:  \nPinnacle Computer Solutions \nRandy Cummings \nManaging your Tech Infrastructure \nwww.pinnaclecomputersolutions.com
URL:https://westcolumbiagorgechamber.com/event/learn-over-lunch-lol-edgefield-powerstation-2/
LOCATION:McMenamin Edgefield\, 2126 SW Halsey St.\, Troutdale\, OR 97060\, OR\, 97060
CATEGORIES:Chamber Meetings,Learn Over Lunchs
END:VEVENT
BEGIN:VEVENT
DTSTART;TZID=America/Los_Angeles:20200219T120000
DTEND;TZID=America/Los_Angeles:20200219T133000
DTSTAMP:20260423T144844
CREATED:20200110T203613Z
LAST-MODIFIED:20200110T203613Z
UID:6685-1582113600-1582119000@westcolumbiagorgechamber.com
SUMMARY:Learn Over Lunch ( LOL ) @ Edgefield Powerstation
DESCRIPTION:Host:  \nPinnacle Computer Solutions \nRandy Cummings \nManaging your Tech Infrastructure \nwww.pinnaclecomputersolutions.com
URL:https://westcolumbiagorgechamber.com/event/learn-over-lunch-lol-edgefield-powerstation/
LOCATION:McMenamin Edgefield\, 2126 SW Halsey St.\, Troutdale\, OR 97060\, OR\, 97060
CATEGORIES:Chamber Meetings,Learn Over Lunchs
END:VEVENT
BEGIN:VEVENT
DTSTART;TZID=America/Los_Angeles:20200219T120000
DTEND;TZID=America/Los_Angeles:20200219T133000
DTSTAMP:20260423T144844
CREATED:20200110T203613Z
LAST-MODIFIED:20200110T203613Z
UID:9779-1582113600-1582119000@westcolumbiagorgechamber.com
SUMMARY:Learn Over Lunch ( LOL ) @ Edgefield Powerstation
DESCRIPTION:Host:  \nPinnacle Computer Solutions \nRandy Cummings \nManaging your Tech Infrastructure \nwww.pinnaclecomputersolutions.com
URL:https://westcolumbiagorgechamber.com/event/learn-over-lunch-lol-edgefield-powerstation-4/
LOCATION:McMenamin Edgefield\, 2126 SW Halsey St.\, Troutdale\, OR 97060\, OR\, 97060
CATEGORIES:Chamber Meetings,Learn Over Lunchs
END:VEVENT
BEGIN:VEVENT
DTSTART;TZID=America/Los_Angeles:20200226T120000
DTEND;TZID=America/Los_Angeles:20200226T133000
DTSTAMP:20260423T144844
CREATED:20200129T192346Z
LAST-MODIFIED:20200129T192346Z
UID:6732-1582718400-1582723800@westcolumbiagorgechamber.com
SUMMARY:Special  (Learn Over Lunch)   Mayor Harden
DESCRIPTION:Scott Harden \nWood Village Mayor Presentation \nThe cities of Wood Village and Fairview have a joint recreation program called PlayEast. The cities pay for a director\, program infrastructure\, stipends and fees. We have a fundraising dinner and a couple of 5k races to raise funds for scholarships. We want to expand our base of business support for our fundraising. Learn to expose more businesses to the value of supporting youth in the region. \n  \nPlace: The Rock Wood Fired Pizza in Wood Village Upstairs room.
URL:https://westcolumbiagorgechamber.com/event/special-lol-learn-over-lunch/
LOCATION:The Rock Wood Fired Pizza\, 22401 NE Glisan St\,\, Wood Vilage\, OR\, 97060
CATEGORIES:Chamber Meetings,Learn Over Lunchs
END:VEVENT
BEGIN:VEVENT
DTSTART;TZID=America/Los_Angeles:20200226T120000
DTEND;TZID=America/Los_Angeles:20200226T133000
DTSTAMP:20260423T144844
CREATED:20200129T192346Z
LAST-MODIFIED:20200129T192346Z
UID:9789-1582718400-1582723800@westcolumbiagorgechamber.com
SUMMARY:Special  (Learn Over Lunch)   Mayor Harden
DESCRIPTION:Scott Harden \nWood Village Mayor Presentation \nThe cities of Wood Village and Fairview have a joint recreation program called PlayEast. The cities pay for a director\, program infrastructure\, stipends and fees. We have a fundraising dinner and a couple of 5k races to raise funds for scholarships. We want to expand our base of business support for our fundraising. Learn to expose more businesses to the value of supporting youth in the region. \n  \nPlace: The Rock Wood Fired Pizza in Wood Village Upstairs room.
URL:https://westcolumbiagorgechamber.com/event/special-lol-learn-over-lunch-4/
LOCATION:The Rock Wood Fired Pizza\, 22401 NE Glisan St\,\, Wood Vilage\, OR\, 97060
CATEGORIES:Chamber Meetings,Learn Over Lunchs
END:VEVENT
BEGIN:VEVENT
DTSTART;TZID=America/Los_Angeles:20200226T120000
DTEND;TZID=America/Los_Angeles:20200226T133000
DTSTAMP:20260423T144844
CREATED:20200129T192346Z
LAST-MODIFIED:20200129T192346Z
UID:9292-1582718400-1582723800@westcolumbiagorgechamber.com
SUMMARY:Special  (Learn Over Lunch)   Mayor Harden
DESCRIPTION:Scott Harden \nWood Village Mayor Presentation \nThe cities of Wood Village and Fairview have a joint recreation program called PlayEast. The cities pay for a director\, program infrastructure\, stipends and fees. We have a fundraising dinner and a couple of 5k races to raise funds for scholarships. We want to expand our base of business support for our fundraising. Learn to expose more businesses to the value of supporting youth in the region. \n  \nPlace: The Rock Wood Fired Pizza in Wood Village Upstairs room.
URL:https://westcolumbiagorgechamber.com/event/special-lol-learn-over-lunch-3/
LOCATION:The Rock Wood Fired Pizza\, 22401 NE Glisan St\,\, Wood Vilage\, OR\, 97060
CATEGORIES:Chamber Meetings,Learn Over Lunchs
END:VEVENT
BEGIN:VEVENT
DTSTART;TZID=America/Los_Angeles:20200226T120000
DTEND;TZID=America/Los_Angeles:20200226T133000
DTSTAMP:20260423T144844
CREATED:20200129T192346Z
LAST-MODIFIED:20200129T192346Z
UID:9255-1582718400-1582723800@westcolumbiagorgechamber.com
SUMMARY:Special  (Learn Over Lunch)   Mayor Harden
DESCRIPTION:Scott Harden \nWood Village Mayor Presentation \nThe cities of Wood Village and Fairview have a joint recreation program called PlayEast. The cities pay for a director\, program infrastructure\, stipends and fees. We have a fundraising dinner and a couple of 5k races to raise funds for scholarships. We want to expand our base of business support for our fundraising. Learn to expose more businesses to the value of supporting youth in the region. \n  \nPlace: The Rock Wood Fired Pizza in Wood Village Upstairs room.
URL:https://westcolumbiagorgechamber.com/event/special-lol-learn-over-lunch-2/
LOCATION:The Rock Wood Fired Pizza\, 22401 NE Glisan St\,\, Wood Vilage\, OR\, 97060
CATEGORIES:Chamber Meetings,Learn Over Lunchs
END:VEVENT
BEGIN:VEVENT
DTSTART;TZID=America/Los_Angeles:20200304T120000
DTEND;TZID=America/Los_Angeles:20200304T133000
DTSTAMP:20260423T144844
CREATED:20191231T220051Z
LAST-MODIFIED:20191231T220051Z
UID:9214-1583323200-1583328600@westcolumbiagorgechamber.com
SUMMARY:"Learn Over Lunch" (LOL) @ Smith Memorial Presbyterian Church
DESCRIPTION:Smith Memorial Presbyterian Church \nPastor Brad  \nwill be talking about “Skills for having difficult conversations” \nBox lunch provided and donations gladly accepted.
URL:https://westcolumbiagorgechamber.com/event/lol-learn-over-lunch-19-2/
LOCATION:Smith Memorial Prsbytarian Church\, 2420 NE Fairview Ave\, Fairview Ave\, Fairview\, OR\, 97024
CATEGORIES:Chamber Meetings,Learn Over Lunchs
END:VEVENT
BEGIN:VEVENT
DTSTART;TZID=America/Los_Angeles:20200304T120000
DTEND;TZID=America/Los_Angeles:20200304T133000
DTSTAMP:20260423T144844
CREATED:20191231T220051Z
LAST-MODIFIED:20191231T220051Z
UID:6650-1583323200-1583328600@westcolumbiagorgechamber.com
SUMMARY:"Learn Over Lunch" (LOL) @ Smith Memorial Presbyterian Church
DESCRIPTION:Smith Memorial Presbyterian Church \nPastor Brad  \nwill be talking about “Skills for having difficult conversations” \nBox lunch provided and donations gladly accepted.
URL:https://westcolumbiagorgechamber.com/event/lol-learn-over-lunch-19/
LOCATION:Smith Memorial Prsbytarian Church\, 2420 NE Fairview Ave\, Fairview Ave\, Fairview\, OR\, 97024
CATEGORIES:Chamber Meetings,Learn Over Lunchs
END:VEVENT
BEGIN:VEVENT
DTSTART;TZID=America/Los_Angeles:20200304T120000
DTEND;TZID=America/Los_Angeles:20200304T133000
DTSTAMP:20260423T144844
CREATED:20191231T220051Z
LAST-MODIFIED:20191231T220051Z
UID:9775-1583323200-1583328600@westcolumbiagorgechamber.com
SUMMARY:"Learn Over Lunch" (LOL) @ Smith Memorial Presbyterian Church
DESCRIPTION:Smith Memorial Presbyterian Church \nPastor Brad  \nwill be talking about “Skills for having difficult conversations” \nBox lunch provided and donations gladly accepted.
URL:https://westcolumbiagorgechamber.com/event/lol-learn-over-lunch-19-4/
LOCATION:Smith Memorial Prsbytarian Church\, 2420 NE Fairview Ave\, Fairview Ave\, Fairview\, OR\, 97024
CATEGORIES:Chamber Meetings,Learn Over Lunchs
END:VEVENT
BEGIN:VEVENT
DTSTART;TZID=America/Los_Angeles:20200304T120000
DTEND;TZID=America/Los_Angeles:20200304T133000
DTSTAMP:20260423T144844
CREATED:20191231T220051Z
LAST-MODIFIED:20191231T220051Z
UID:9250-1583323200-1583328600@westcolumbiagorgechamber.com
SUMMARY:"Learn Over Lunch" (LOL) @ Smith Memorial Presbyterian Church
DESCRIPTION:Smith Memorial Presbyterian Church \nPastor Brad  \nwill be talking about “Skills for having difficult conversations” \nBox lunch provided and donations gladly accepted.
URL:https://westcolumbiagorgechamber.com/event/lol-learn-over-lunch-19-3/
LOCATION:Smith Memorial Prsbytarian Church\, 2420 NE Fairview Ave\, Fairview Ave\, Fairview\, OR\, 97024
CATEGORIES:Chamber Meetings,Learn Over Lunchs
END:VEVENT
BEGIN:VEVENT
DTSTART;TZID=America/Los_Angeles:20200401T120000
DTEND;TZID=America/Los_Angeles:20200401T133000
DTSTAMP:20260423T144844
CREATED:20200116T230157Z
LAST-MODIFIED:20200116T230157Z
UID:9271-1585742400-1585747800@westcolumbiagorgechamber.com
SUMMARY:Learn Over Lunch @ The Rock Wood Fired Pizza Wood Village Hosted by Kenway Benefits Group
DESCRIPTION:Kenway Benefits Group is an insurance brokerage in Oregon featuring health insurance including Medicare\, personal lines\, business insurance and access to legal services.
URL:https://westcolumbiagorgechamber.com/event/learn-over-lunch-4-3/
LOCATION:The Rock Wood Fired Pizza\, 22401 NE Glisan St\,\, Wood Vilage\, OR\, 97060
CATEGORIES:Chamber Meetings,Learn Over Lunchs
END:VEVENT
BEGIN:VEVENT
DTSTART;TZID=America/Los_Angeles:20200401T120000
DTEND;TZID=America/Los_Angeles:20200401T133000
DTSTAMP:20260423T144844
CREATED:20200116T230157Z
LAST-MODIFIED:20200116T230157Z
UID:9235-1585742400-1585747800@westcolumbiagorgechamber.com
SUMMARY:Learn Over Lunch @ The Rock Wood Fired Pizza Wood Village Hosted by Kenway Benefits Group
DESCRIPTION:Kenway Benefits Group is an insurance brokerage in Oregon featuring health insurance including Medicare\, personal lines\, business insurance and access to legal services.
URL:https://westcolumbiagorgechamber.com/event/learn-over-lunch-4-2/
LOCATION:The Rock Wood Fired Pizza\, 22401 NE Glisan St\,\, Wood Vilage\, OR\, 97060
CATEGORIES:Chamber Meetings,Learn Over Lunchs
END:VEVENT
BEGIN:VEVENT
DTSTART;TZID=America/Los_Angeles:20200401T120000
DTEND;TZID=America/Los_Angeles:20200401T133000
DTSTAMP:20260423T144844
CREATED:20200116T230157Z
LAST-MODIFIED:20200116T230157Z
UID:6706-1585742400-1585747800@westcolumbiagorgechamber.com
SUMMARY:Learn Over Lunch @ The Rock Wood Fired Pizza Wood Village Hosted by Kenway Benefits Group
DESCRIPTION:Kenway Benefits Group is an insurance brokerage in Oregon featuring health insurance including Medicare\, personal lines\, business insurance and access to legal services.
URL:https://westcolumbiagorgechamber.com/event/learn-over-lunch-4/
LOCATION:The Rock Wood Fired Pizza\, 22401 NE Glisan St\,\, Wood Vilage\, OR\, 97060
CATEGORIES:Chamber Meetings,Learn Over Lunchs
END:VEVENT
BEGIN:VEVENT
DTSTART;TZID=America/Los_Angeles:20200401T120000
DTEND;TZID=America/Los_Angeles:20200401T133000
DTSTAMP:20260423T144844
CREATED:20200116T230157Z
LAST-MODIFIED:20200116T230157Z
UID:9782-1585742400-1585747800@westcolumbiagorgechamber.com
SUMMARY:Learn Over Lunch @ The Rock Wood Fired Pizza Wood Village Hosted by Kenway Benefits Group
DESCRIPTION:Kenway Benefits Group is an insurance brokerage in Oregon featuring health insurance including Medicare\, personal lines\, business insurance and access to legal services.
URL:https://westcolumbiagorgechamber.com/event/learn-over-lunch-4-4/
LOCATION:The Rock Wood Fired Pizza\, 22401 NE Glisan St\,\, Wood Vilage\, OR\, 97060
CATEGORIES:Chamber Meetings,Learn Over Lunchs
END:VEVENT
BEGIN:VEVENT
DTSTART;TZID=America/Los_Angeles:20220406T051500
DTEND;TZID=America/Los_Angeles:20220406T061500
DTSTAMP:20260423T144844
CREATED:20220403T001634Z
LAST-MODIFIED:20220403T001634Z
UID:10011-1649222100-1649225700@westcolumbiagorgechamber.com
SUMMARY:Learn over Lunch at Smith Memorial Presbyterian Church with Pastor Brad Busiek!
DESCRIPTION:This week we will be having a learn over lunch at Smith Memorial Presbyterian Church with Pastor Brad Busiek. He will be showing us the food pantry and explaining how it works. The pantry currently services about 200 families. You will also get a tour of the church and the amazing stained glass windows. Bring you brown bag lunch and enjoy this time networking with fellow businesses. The church is over 125 years old and you can have a tour of the church as well. Please tell a friend or fellow business to enjoy this chamber event. The Church is located at 2420 NE Fairview Ave Fairview\, OR 97024
URL:https://westcolumbiagorgechamber.com/event/learn-over-lunch-at-smith-memorial-presbyterian-church-with-pastor-brad-busiek/
LOCATION:Smith Memorial Presbyterian Church
CATEGORIES:Chamber Meetings,City of Fairview,Events - Chamber,Learn Over Lunchs,Member Event
END:VEVENT
BEGIN:VEVENT
DTSTART;TZID=America/Los_Angeles:20220601T050000
DTEND;TZID=America/Los_Angeles:20220601T060000
DTSTAMP:20260423T144844
CREATED:20220529T003518Z
LAST-MODIFIED:20220529T003518Z
UID:10049-1654059600-1654063200@westcolumbiagorgechamber.com
SUMMARY:June 1st - The West Columbia Gorge Chamber Chamber Learn over Lunch with hosts Bob and Jane Regan of HBI.
DESCRIPTION:This week we will be meeting for a learn over lunch at Bandits Bar & Grill. Jane Regan will be sharing how they have been doing kitchen and bathroom remodeling over the past 25 years or so. They have an extensive collection of their achievements. Want to know what makes sense in this arena\, come here then tell you all about it and plan your future remodeling with one of the Chambers newer members. They bring excitement to remodeling. If you want to eat\, be sure to come a little early to order your lunch. Going to be a great meeting and we are so pleased to have them share their experience with our Chamber members
URL:https://westcolumbiagorgechamber.com/event/june-1st-the-west-columbia-gorge-chamber-chamber-learn-over-lunch-with-hosts-bob-and-jane-regan-of-hbi/
LOCATION:Bandits Bar and Grill\, 108 E Columbia River Hwy\, Troutdale\, OR\, 97060\, United States
CATEGORIES:Chamber Meetings,Learn Over Lunchs
ORGANIZER;CN="West Columbia Gorge Chamber of Commerce":MAILTO:info@westcolumbiagorgechamber.com
END:VEVENT
BEGIN:VEVENT
DTSTART;TZID=America/Los_Angeles:20220803T043000
DTEND;TZID=America/Los_Angeles:20220803T060000
DTSTAMP:20260423T144844
CREATED:20220729T094114Z
LAST-MODIFIED:20220729T094114Z
UID:10086-1659501000-1659506400@westcolumbiagorgechamber.com
SUMMARY:Learn over Lunch with Michaela Ghioni of Ghioni Tax and Accounting Solutions
DESCRIPTION:This coming Wednesday the Chamber will be hosted by Michaela Ghioni of Ghioni Tax and Accounting Solutions LLC. It is located at the Corner of Kelly and Division in the National Guard Building 958 NE Kelly Ave Suite B\, Gresham\, OR 97030.  Just ring the bell at the front of the building and a staff person will let you in. Ghioni Tax and Accounting Solutions is a full service bookkeeping company and does Tax preparation for personal and businesses alike. Need an answer on tax or bookkeeping\, be sure to attend this Learn over lunch meeting. Light refreshments will be served but feel free to bring you own lunch if you like. \n  \n 
URL:https://westcolumbiagorgechamber.com/event/learn-over-lunch-with-michaela-ghioni-of-ghioni-tax-and-accounting-solutions/
LOCATION:West Columbia Gorge Chamber of Commerce\, P. O Box 245\, Troutdale\, 97060\, United States
CATEGORIES:Chamber Meetings,Learn Over Lunchs
ORGANIZER;CN="West Columbia Gorge Chamber of Commerce":MAILTO:info@westcolumbiagorgechamber.com
END:VEVENT
BEGIN:VEVENT
DTSTART;TZID=America/Los_Angeles:20220928T043000
DTEND;TZID=America/Los_Angeles:20220928T060000
DTSTAMP:20260423T144844
CREATED:20220907T054054Z
LAST-MODIFIED:20220922T063102Z
UID:10098-1664339400-1664344800@westcolumbiagorgechamber.com
SUMMARY:Learn over Lunch-- Troutdale Food Station & Composting
DESCRIPTION:Eat and learn with WM and the West Columbia Gorge Chamber! Join WM (formerly Waste Management) on Wednesday September 28th for a composting education event for businesses and the community at the Troutdale Station. Learn about the new food waste requirements from Oregon Metro\, play the WM Recycle Right game to win prizes\, and bring your questions for WM compost experts. Chamber members receive lunch courtesy of WM! \n\n  \n\n 
URL:https://westcolumbiagorgechamber.com/event/learn-over-lunch-at-the-troutdale-food-station-on-sept-28th-from-11am-to-2pm/
LOCATION:Troutdale Station\, 151 SW 257th Dr\, Troutdale\, OR\, 97060\, United States
CATEGORIES:Learn Over Lunchs
ORGANIZER;CN="West Columbia Gorge Chamber of Commerce":MAILTO:info@westcolumbiagorgechamber.com
END:VEVENT
BEGIN:VEVENT
DTSTART;TZID=America/Los_Angeles:20221012T043000
DTEND;TZID=America/Los_Angeles:20221012T060000
DTSTAMP:20260423T144844
CREATED:20221009T005624Z
LAST-MODIFIED:20221009T005624Z
UID:10114-1665549000-1665554400@westcolumbiagorgechamber.com
SUMMARY:Learn over Lunch with Lyft Fitness for this week's Chamber Chat. Chris Card is our host!
DESCRIPTION:Come spend time with our newest member Lyft Fitness. Lyft has had a major remodel and has a new look. Come hear Chris Card and his staff talk about you can make an effective difference in your life at their fitness center. Bring a bag lunch and maybe enjoy a beverage at their drink center. Many amazing nutritious drinks to choose from. Networking at it’s finest when you around positive life changing people. See you all there.
URL:https://westcolumbiagorgechamber.com/event/learn-over-lunch-with-lyft-fitness-for-this-weeks-chamber-chat-chris-card-is-our-host/
LOCATION:Lyft Fitness Gresham corner of Cleveland and Stark ST\, 23500 SE Stark St\,\, Gresham\, Oregon\, 97030
CATEGORIES:Learn Over Lunchs
ORGANIZER;CN="West Columbia Gorge Chamber of Commerce":MAILTO:info@westcolumbiagorgechamber.com
END:VEVENT
BEGIN:VEVENT
DTSTART;TZID=America/Los_Angeles:20221207T033000
DTEND;TZID=America/Los_Angeles:20221207T050000
DTSTAMP:20260423T144844
CREATED:20221202T031730Z
LAST-MODIFIED:20221202T032448Z
UID:10146-1670383800-1670389200@westcolumbiagorgechamber.com
SUMMARY:The West Columbia Gorge Chamber of Commerce is hosting the Vista House for a Learn over Lunch!
DESCRIPTION:Come meet the new Executive Director of the Vista House. Alisha Hamel will be sharing the latest on the Vista House on Crown Point. If you have never been to the Vista House\, it is a must see when visiting the Gorge.\nAlisha Hamel is the new Executive Director of the Friends of Vista House. She was the Director of the U.S. Army Transportation Museum at Fort Eustis in Virginia\, but is a 4th generation Oregonian so was thrilled to return to Oregon to work for the Friends of Vista House. Vista House at Crown Point in the Columbia River Gorge was built to house a comfort station for travelers on the new Columbia River Highway. It was “intended to be the finishing achievement for the greatest highway in America” and to “grace the highest spot on that wonderway”. Alisha will tell the story of Vista House and how volunteers are so necessary to keep it open. If you want to be one of those volunteers come and join us. \n  \nWe will be at the Fairview Food Plaza for this event!
URL:https://westcolumbiagorgechamber.com/event/the-west-columbia-gorge-chamber-of-commerce-is-hosting-the-vista-house-for-a-learn-over-lunch/
LOCATION:Vista House\, 22320 NE Halsey St\, Fairview\, OR 97024\, Fairview\, Oregon\, 97024
CATEGORIES:Chamber Meetings,Learn Over Lunchs,Member Event
ORGANIZER;CN="West Columbia Gorge Chamber of Commerce":MAILTO:info@westcolumbiagorgechamber.com
END:VEVENT
END:VCALENDAR